PDS_VERSION_ID = PDS3
/* FILE DATA ELEMENTS */
RECORD_TYPE = STREAM
/* POINTERS TO DATA OBJECTS */
^COMPRESSED_FILE = "H2315_0002_SR3.JP2"
/* IDENTIFICATION DATA ELEMENTS */
DATA_SET_ID = "MEX-M-HRSC-5-REFDR-MAPPROJECTED-V3.0"
DATA_SET_NAME = "MARS EXPRESS HRSC MAP PROJECTED REFDR V3.0"
DETECTOR_ID = MEX_HRSC_SRC
EVENT_TYPE = "MARS-REGIONAL-MAPPING-Im-Eo"
INSTRUMENT_HOST_ID = MEX
INSTRUMENT_HOST_NAME = "MARS EXPRESS"
INSTRUMENT_ID = HRSC
INSTRUMENT_NAME = "HIGH RESOLUTION STEREO CAMERA"
MISSION_NAME = "MARS EXPRESS"
MISSION_PHASE_NAME = MR_Phase_8
PROCESSING_LEVEL_ID = 3
PRODUCT_CREATION_TIME = 2016-03-15T10:38:17.000Z
PRODUCT_ID = "H2315_0002_SR3.JP2"
RELEASE_ID = 0029
REVISION_ID = 0000
/* QUALITY DATA ELEMENTS */
DATA_QUALITY_ID = 1
DATA_QUALITY_DESC = "Data calculated based on original SPICE kernels"
/* TIME DATA ELEMENTS */
SPACECRAFT_CLOCK_START_COUNT = "1/0078964607.56192"
SPACECRAFT_CLOCK_STOP_COUNT = "1/0078964774.24022"
IMAGE_TIME = 2005-11-01T22:37:45.810Z
START_TIME = 2005-11-01T22:37:45.808Z
STOP_TIME = 2005-11-01T22:37:45.813Z
/* ORBITAL DATA ELEMENTS */
ASCENDING_NODE_LONGITUDE = 179.65
MAXIMUM_RESOLUTION = 2.877
FOOTPRINT_POINT_LATITUDE = (-61.6871,-61.6884,-61.6899,-61.6924, -61.6941,-61.6958,-61.6971,-61.6989, -61.7003,-61.7019,-61.7033,-61.7057, -61.7078,-61.7097,-61.7122,-61.7139, -61.7164,-61.7188,-61.7204,-61.722, -61.725,-61.7271,-61.7285,-61.7305, -61.7326,-61.7343,-61.735,-61.7348, -61.7346,-61.7344,-61.7342,-61.734, -61.7338,-61.7337,-61.7335,-61.7333, -61.7331,-61.7329,-61.7327,-61.7325, -61.7323,-61.7321,-61.7319,-61.7317, -61.7315,-61.7313,-61.7311,-61.7309, -61.7307,-61.7305,-61.7303,-61.7288, -61.7255,-61.724,-61.722,-61.7205, -61.7181,-61.7155,-61.714,-61.712, -61.7093,-61.7075,-61.7062,-61.7044, -61.7017,-61.6996,-61.6979,-61.6959, -61.6932,-61.6898,-61.6882,-61.6862, -61.6844,-61.6821,-61.6814,-61.6816, -61.6819,-61.682,-61.6822,-61.6824, -61.6826,-61.6828,-61.683,-61.6832, -61.6834,-61.6836,-61.6838,-61.684, -61.6842,-61.6844,-61.6846,-61.6848, -61.685,-61.6852,-61.6854,-61.6856, -61.6858,-61.686,-61.6862,-61.6871)
FOOTPRINT_POINT_LONGITUDE = (169.88,169.88,169.879,169.879,169.878, 169.878,169.878,169.877,169.877,169.877 ,169.877,169.876,169.876,169.875, 169.875,169.874,169.874,169.873,169.873 ,169.873,169.872,169.871,169.871, 169.871,169.87,169.87,169.868,169.864, 169.859,169.855,169.851,169.847,169.843 ,169.839,169.835,169.831,169.827, 169.823,169.818,169.814,169.81,169.806, 169.802,169.798,169.794,169.79,169.786, 169.782,169.777,169.773,169.769,169.766 ,169.767,169.767,169.767,169.768, 169.768,169.769,169.769,169.769,169.77, 169.77,169.771,169.771,169.772,169.772, 169.773,169.773,169.774,169.774,169.775 ,169.775,169.775,169.776,169.779, 169.783,169.787,169.792,169.796,169.8, 169.804,169.808,169.812,169.816,169.82, 169.824,169.828,169.832,169.837,169.841 ,169.845,169.849,169.853,169.857, 169.861,169.865,169.869,169.873,169.877 ,169.88)
ORBIT_NUMBER = 2315
ORBITAL_ECCENTRICITY = 0.572
ORBITAL_INCLINATION = 86.64
ORBITAL_SEMIMAJOR_AXIS = 8567.34
PERIAPSIS_ALTITUDE = 277.74
PERIAPSIS_ARGUMENT_ANGLE = 311.24
PERIAPSIS_TIME = 2005-11-01T22:41:03.000Z
SPACECRAFT_ORIENTATION = (0.0,-1.0,0.0)
^MEX_ORIENTATION_DESC = "MEX_ORIENTATION_DESC.TXT"
SPACECRAFT_POINTING_MODE = ACROSSTRACK
^MEX_POINTING_DESC = "MEX_POINTING_DESC.TXT"
RIGHT_ASCENSION = -1e+32
DECLINATION = -1e+32
OFFSET_ANGLE = 0.2
SPACECRAFT_SOLAR_DISTANCE = 2.17584e+08
TARGET_NAME = MARS
/* CAMERA DATA ELEMENTS */
BUFFER_MODE_ID = BUFFER_8
EXPOSURE_DURATION = 5.04
INST_CMPRS_NAME = NONE
INST_CMPRS_RATIO = 1.0
INST_CMPRS_QUALITY = -2147483648
INST_CMPRS_QUANTZ_TBL_ID = -2147483648
INSTRUMENT_TEMPERATURE = 5.15152
MISSING_FRAMES = 0
START_BIT = 0
/* RADIOMETRIC DATA ELEMENTS */
BANDWIDTH = 250.0
CENTER_FILTER_WAVELENGTH = 600.0
RADIANCE_OFFSET = -9.99e+31
RADIANCE_SCALING_FACTOR = -9.99e+31
REFLECTANCE_SCALING_FACTOR = -9.99e+31
MEX:REFLECTANCE_OFFSET = -9.99e+31
/* IMAGE OBJECT DEFINITIONS */
OBJECT = IMAGE
  INTERCHANGE_FORMAT = BINARY
  LINES = 1380
  LINE_SAMPLES = 1388
  SAMPLE_TYPE = UNSIGNED_INTEGER
  SAMPLE_BITS = 8
  BANDS = 1
  BAND_STORAGE_TYPE = BAND_SEQUENTIAL
  MAXIMUM = 5858
  MEAN = 5446.83
  MINIMUM = 4667
  STANDARD_DEVIATION = 103.611
END_OBJECT = IMAGE
/* MAP OBJECT DEFINITIONS */
OBJECT = IMAGE_MAP_PROJECTION
  ^DATA_SET_MAP_PROJECTION_CATALOG= "DSMAP.CAT"
  A_AXIS_RADIUS = 3396.19
  B_AXIS_RADIUS = 3396.19
  C_AXIS_RADIUS = 3396.19
  CENTER_LATITUDE = 0.0
  CENTER_LONGITUDE = 170.0
  COORDINATE_SYSTEM_NAME = PLANETOGRAPHIC
  COORDINATE_SYSTEM_TYPE = "BODY-FIXED ROTATING"
  EASTERNMOST_LONGITUDE = 169.88
  FIRST_STANDARD_PARALLEL = "N/A"
  LINE_FIRST_PIXEL = 1
  LINE_LAST_PIXEL = 1380
  LINE_PROJECTION_OFFSET = -1459742.0
  MAP_PROJECTION_ROTATION = 0.0
  MAP_PROJECTION_TYPE = SINUSOIDAL
  MAP_RESOLUTION = 23709.8786048756
  MAP_SCALE = 0.0025
  MAXIMUM_LATITUDE = -61.6814
  MINIMUM_LATITUDE = -61.735
  POSITIVE_LONGITUDE_DIRECTION = EAST
  REFERENCE_LATITUDE = "N/A"
  REFERENCE_LONGITUDE = "N/A"
  SAMPLE_FIRST_PIXEL = 1
  SAMPLE_LAST_PIXEL = 1388
  SAMPLE_PROJECTION_OFFSET = 2941.0
  SECOND_STANDARD_PARALLEL = "N/A"
  WESTERNMOST_LONGITUDE = 169.766
END_OBJECT = IMAGE_MAP_PROJECTION
/* The JPEG2000 image data file associated with this label. */
OBJECT = COMPRESSED_FILE
  FILE_NAME = "H2315_0002_SR3.JP2"
  RECORD_TYPE = UNDEFINED
  FILE_RECORDS = UNK
  ENCODING_TYPE = "JP2"
  INTERCHANGE_FORMAT = BINARY
  UNCOMPRESSED_FILE_NAME = "H2315_0002_SR3.IMG"
  REQUIRED_STORAGE_BYTES = "1934872"
  ^DESCRIPTION = "JP2INFO.TXT"
END_OBJECT = COMPRESSED_FILE
END
