PDS_VERSION_ID = PDS3
/* FILE DATA ELEMENTS */
RECORD_TYPE = STREAM
/* POINTERS TO DATA OBJECTS */
^COMPRESSED_FILE = "H2316_0000_P23.JP2"
/* IDENTIFICATION DATA ELEMENTS */
DATA_SET_ID = "MEX-M-HRSC-5-REFDR-MAPPROJECTED-V3.0"
DATA_SET_NAME = "MARS EXPRESS HRSC MAP PROJECTED REFDR V3.0"
DETECTOR_ID = MEX_HRSC_P2
EVENT_TYPE = "MARS-REGIONAL-MAPPING-Gl-Pf-Mw"
INSTRUMENT_HOST_ID = MEX
INSTRUMENT_HOST_NAME = "MARS EXPRESS"
INSTRUMENT_ID = HRSC
INSTRUMENT_NAME = "HIGH RESOLUTION STEREO CAMERA"
MISSION_NAME = "MARS EXPRESS"
MISSION_PHASE_NAME = MR_Phase_8
PROCESSING_LEVEL_ID = 3
PRODUCT_CREATION_TIME = 2016-03-15T10:38:17.000Z
PRODUCT_ID = "H2316_0000_P23.JP2"
RELEASE_ID = 0029
REVISION_ID = 0000
/* QUALITY DATA ELEMENTS */
DATA_QUALITY_ID = 1
DATA_QUALITY_DESC = "Data calculated based on original SPICE kernels"
/* TIME DATA ELEMENTS */
SPACECRAFT_CLOCK_START_COUNT = "1/0078988565.57329"
SPACECRAFT_CLOCK_STOP_COUNT = "1/0078988871.32025"
START_TIME = 2005-11-02T05:17:25.708Z
STOP_TIME = 2005-11-02T05:21:07.395Z
/* ORBITAL DATA ELEMENTS */
ASCENDING_NODE_LONGITUDE = 179.63
MAXIMUM_RESOLUTION = 50.6
FOOTPRINT_POINT_LATITUDE = (-76.1353,-76.2067,-76.253,-76.2964, -76.4177,-76.1285,-75.8375,-75.5444, -75.2565,-74.8169,-74.5216,-74.2306, -73.9383,-73.6443,-73.204,-72.7629, -72.4687,-72.025,-71.7289,-71.2869, -70.9898,-70.6919,-70.3953,-70.0978, -69.801,-69.5031,-69.2043,-68.9043, -68.6075,-68.3086,-67.8592,-67.4093, -66.9587,-66.658,-66.2132,-65.9208, -65.6295,-65.3377,-64.8994,-64.6154, -64.3328,-64.05,-63.7666,-63.4838, -63.0605,-62.7868,-62.5131,-62.2394, -61.9658,-61.8016,-61.762,-61.7295, -62.1289,-62.4009,-62.6726,-62.9445, -63.2236,-63.5043,-63.7855,-64.0658, -64.3458,-64.6265,-65.0567,-65.3457, -65.7793,-66.0678,-66.3589,-66.6553, -66.9526,-67.2509,-67.5473,-67.9913, -68.2872,-68.5826,-68.8775,-69.3196, -69.6134,-69.9065,-70.1982,-70.6361, -70.9275,-71.2196,-71.5105,-71.8, -72.0882,-72.3784,-72.6654,-72.9533, -73.2394,-73.5273,-73.8137,-74.0984, -74.3847,-74.6686,-74.9514,-75.2343, -75.5136,-75.7948,-76.0745,-76.1353)
FOOTPRINT_POINT_LONGITUDE = (64.4354,65.6745,66.5435,67.4186, 68.6739,68.8677,69.0519,69.2268,69.4011 ,69.6423,69.7934,69.9441,70.0883, 70.2258,70.4245,70.6129,70.7335,70.9049 ,71.0146,71.1754,71.2762,71.3733, 71.4691,71.5612,71.6516,71.7383,71.8219 ,71.9022,71.9835,72.0607,72.1718, 72.2783,72.3803,72.4459,72.5396,72.5981 ,72.6564,72.713,72.7949,72.8462,72.8963 ,72.9453,72.9926,73.0395,73.107,73.1495 ,73.1912,73.232,73.2721,72.8055,71.8958 ,71.2216,70.9192,70.8469,70.7731, 70.6971,70.6173,70.5352,70.4503,70.364, 70.2757,70.1839,70.0395,69.9391,69.7826 ,69.675,69.563,69.4471,69.326,69.1992, 69.0712,68.8717,68.7333,68.5908,68.444, 68.2144,68.056,67.8932,67.727,67.4648, 67.2831,67.0926,66.8971,66.6969,66.4914 ,66.2732,66.0534,65.8222,65.5855, 65.3341,65.0755,64.8098,64.5278,64.2396 ,63.9412,63.6281,63.3111,62.9727, 62.6221,64.4354)
ORBIT_NUMBER = 2316
ORBITAL_ECCENTRICITY = 0.573
ORBITAL_INCLINATION = 86.65
ORBITAL_SEMIMAJOR_AXIS = 8569.95
PERIAPSIS_ALTITUDE = 276.57
PERIAPSIS_ARGUMENT_ANGLE = 311.04
PERIAPSIS_TIME = 2005-11-02T05:24:04.000Z
SPACECRAFT_ORIENTATION = (0.0,-1.0,0.0)
^MEX_ORIENTATION_DESC = "MEX_ORIENTATION_DESC.TXT"
SPACECRAFT_POINTING_MODE = ACROSSTRACK
^MEX_POINTING_DESC = "MEX_POINTING_DESC.TXT"
RIGHT_ASCENSION = -1e+32
DECLINATION = -1e+32
OFFSET_ANGLE = -0.05
SPACECRAFT_SOLAR_DISTANCE = 2.17634e+08
TARGET_NAME = MARS
/* CAMERA DATA ELEMENTS */
DETECTOR_TEMPERATURE = 18.3705
FOCAL_PLANE_TEMPERATURE = 8.1755
INST_CMPRS_NAME = "DISCRETE COSINE TRANSFORMATION (DCT)"
INST_CMPRS_RATIO = 11.8047
INST_CMPRS_QUALITY = 0
INST_CMPRS_QUANTZ_TBL_ID = 0
INSTRUMENT_TEMPERATURE = 11.234
LENS_TEMPERATURE = 8.3794
MACROPIXEL_SIZE = 4
MISSING_FRAMES = 0
PIXEL_SUBSAMPLING_FLAG = N
SIGNAL_CHAIN_ID = 3
/* RADIOMETRIC DATA ELEMENTS */
BANDWIDTH = 177.0
CENTER_FILTER_WAVELENGTH = 676.5
RADIANCE_OFFSET = 4.92336
RADIANCE_SCALING_FACTOR = 0.0114497
REFLECTANCE_SCALING_FACTOR = 0.000287542
MEX:REFLECTANCE_OFFSET = 0.123643
/* IMAGE OBJECT DEFINITIONS */
OBJECT = IMAGE
  INTERCHANGE_FORMAT = BINARY
  LINES = 17421
  LINE_SAMPLES = 3986
  SAMPLE_TYPE = UNSIGNED_INTEGER
  SAMPLE_BITS = 8
  BANDS = 1
  BAND_STORAGE_TYPE = BAND_SEQUENTIAL
  MAXIMUM = 139
  MEAN = 115.371
  MINIMUM = 85
  STANDARD_DEVIATION = 10.7964
END_OBJECT = IMAGE
/* MAP OBJECT DEFINITIONS */
OBJECT = IMAGE_MAP_PROJECTION
  ^DATA_SET_MAP_PROJECTION_CATALOG= "DSMAP.CAT"
  A_AXIS_RADIUS = 3396.0
  B_AXIS_RADIUS = 3396.0
  C_AXIS_RADIUS = 3396.0
  CENTER_LATITUDE = 0.0
  CENTER_LONGITUDE = 70.0
  COORDINATE_SYSTEM_NAME = PLANETOGRAPHIC
  COORDINATE_SYSTEM_TYPE = "BODY-FIXED ROTATING"
  EASTERNMOST_LONGITUDE = 73.27209999999999
  FIRST_STANDARD_PARALLEL = "N/A"
  LINE_FIRST_PIXEL = 1
  LINE_LAST_PIXEL = 17421
  LINE_PROJECTION_OFFSET = -73190.625
  MAP_PROJECTION_ROTATION = 0.0
  MAP_PROJECTION_TYPE = SINUSOIDAL
  MAP_RESOLUTION = 1185.42760773333
  MAP_SCALE = 0.05
  MAXIMUM_LATITUDE = -61.7295
  MINIMUM_LATITUDE = -76.4177
  POSITIVE_LONGITUDE_DIRECTION = EAST
  REFERENCE_LATITUDE = "N/A"
  REFERENCE_LONGITUDE = "N/A"
  SAMPLE_FIRST_PIXEL = 1
  SAMPLE_LAST_PIXEL = 3986
  SAMPLE_PROJECTION_OFFSET = 2141.875
  SECOND_STANDARD_PARALLEL = "N/A"
  WESTERNMOST_LONGITUDE = 62.6221
END_OBJECT = IMAGE_MAP_PROJECTION
/* The JPEG2000 image data file associated with this label. */
OBJECT = COMPRESSED_FILE
  FILE_NAME = "H2316_0000_P23.JP2"
  RECORD_TYPE = UNDEFINED
  FILE_RECORDS = UNK
  ENCODING_TYPE = "JP2"
  INTERCHANGE_FORMAT = BINARY
  UNCOMPRESSED_FILE_NAME = "H2316_0000_P23.IMG"
  REQUIRED_STORAGE_BYTES = "69464022"
  ^DESCRIPTION = "JP2INFO.TXT"
END_OBJECT = COMPRESSED_FILE
END
