PDS_VERSION_ID = PDS3
/* FILE DATA ELEMENTS */
RECORD_TYPE = STREAM
/* POINTERS TO DATA OBJECTS */
^COMPRESSED_FILE = "H2318_0000_IR3.JP2"
/* IDENTIFICATION DATA ELEMENTS */
DATA_SET_ID = "MEX-M-HRSC-5-REFDR-MAPPROJECTED-V3.0"
DATA_SET_NAME = "MARS EXPRESS HRSC MAP PROJECTED REFDR V3.0"
DETECTOR_ID = MEX_HRSC_IR
EVENT_TYPE = "MARS-REGIONAL-MAPPING-Im-Gl-Pf"
INSTRUMENT_HOST_ID = MEX
INSTRUMENT_HOST_NAME = "MARS EXPRESS"
INSTRUMENT_ID = HRSC
INSTRUMENT_NAME = "HIGH RESOLUTION STEREO CAMERA"
MISSION_NAME = "MARS EXPRESS"
MISSION_PHASE_NAME = MR_Phase_8
PROCESSING_LEVEL_ID = 3
PRODUCT_CREATION_TIME = 2016-03-15T10:38:17.000Z
PRODUCT_ID = "H2318_0000_IR3.JP2"
RELEASE_ID = 0029
REVISION_ID = 0000
/* QUALITY DATA ELEMENTS */
DATA_QUALITY_ID = 1
DATA_QUALITY_DESC = "Data calculated based on original SPICE kernels"
/* TIME DATA ELEMENTS */
SPACECRAFT_CLOCK_START_COUNT = "1/0079036840.57977"
SPACECRAFT_CLOCK_STOP_COUNT = "1/0079037104.31001"
START_TIME = 2005-11-02T18:40:58.329Z
STOP_TIME = 2005-11-02T18:44:04.543Z
/* ORBITAL DATA ELEMENTS */
ASCENDING_NODE_LONGITUDE = 179.59
MAXIMUM_RESOLUTION = 66.4
FOOTPRINT_POINT_LATITUDE = (-81.1253,-81.2209,-81.3092,-81.3901, -81.4629,-81.5273,-81.583,-81.5427, -81.3324,-81.1215,-80.9099,-80.6977, -80.4848,-80.2711,-79.9463,-79.7304, -79.5161,-79.1984,-78.8731,-78.656, -78.4341,-78.2126,-77.9948,-77.775, -77.561,-77.3395,-77.1187,-76.8973, -76.6755,-76.4579,-76.2399,-76.0213, -75.8071,-75.5928,-75.2712,-75.0601, -74.8493,-74.6386,-74.3251,-74.1182, -73.9103,-73.7035,-73.4997,-73.2962, -73.0918,-72.8883,-72.6886,-72.389, -72.1875,-71.988,-71.6939,-71.3008, -71.0095,-70.9475,-70.9286,-70.9066, -70.8673,-70.939,-71.5177,-71.9032, -72.2967,-72.4936,-72.6897,-72.8882, -73.0882,-73.2877,-73.487,-73.6898, -73.9907,-74.2968,-74.5015,-74.7077, -75.0156,-75.328,-75.5365,-75.7444, -75.9562,-76.1681,-76.3785,-76.6985, -76.9118,-77.1252,-77.3373,-77.5489, -77.7596,-77.9691,-78.2823,-78.4898, -78.6965,-78.9017,-79.1058,-79.4106, -79.6122,-79.8133,-80.0133,-80.2122, -80.4101,-80.6073,-80.8027,-81.1253)
FOOTPRINT_POINT_LONGITUDE = (220.276,221.935,223.64,225.392,227.187 ,229.024,230.905,232.752,232.961, 233.161,233.353,233.535,233.712,233.882 ,234.141,234.298,234.437,234.611, 234.808,234.931,235.069,235.198,235.304 ,235.412,235.489,235.593,235.689, 235.782,235.875,235.961,236.044,236.124 ,236.201,236.274,236.38,236.449,236.514 ,236.575,236.669,236.725,236.782, 236.837,236.891,236.942,236.992,237.042 ,237.088,237.154,237.201,237.246, 237.307,237.384,237.441,236.747,235.847 ,234.999,233.769,233.081,232.763, 232.538,232.297,232.172,232.044,231.911 ,231.774,231.633,231.489,231.338, 231.106,230.86,230.689,230.512,230.238, 229.946,229.744,229.536,229.316,229.089 ,228.856,228.487,228.229,227.962, 227.686,227.401,227.106,226.802,226.324 ,225.992,225.648,225.292,224.923, 224.342,223.937,223.516,223.078,222.622 ,222.148,221.654,221.14,220.276)
ORBIT_NUMBER = 2318
ORBITAL_ECCENTRICITY = 0.573
ORBITAL_INCLINATION = 86.64
ORBITAL_SEMIMAJOR_AXIS = 8567.88
PERIAPSIS_ALTITUDE = 276.56
PERIAPSIS_ARGUMENT_ANGLE = 310.68
PERIAPSIS_TIME = 2005-11-02T18:50:05.000Z
SPACECRAFT_ORIENTATION = (0.0,-1.0,0.0)
^MEX_ORIENTATION_DESC = "MEX_ORIENTATION_DESC.TXT"
SPACECRAFT_POINTING_MODE = ACROSSTRACK
^MEX_POINTING_DESC = "MEX_POINTING_DESC.TXT"
RIGHT_ASCENSION = -1e+32
DECLINATION = -1e+32
OFFSET_ANGLE = -0.8
SPACECRAFT_SOLAR_DISTANCE = 2.17734e+08
TARGET_NAME = MARS
/* CAMERA DATA ELEMENTS */
DETECTOR_TEMPERATURE = 18.1666
FOCAL_PLANE_TEMPERATURE = 7.5638
INST_CMPRS_NAME = "DISCRETE COSINE TRANSFORMATION (DCT)"
INST_CMPRS_RATIO = 17.8647
INST_CMPRS_QUALITY = 0
INST_CMPRS_QUANTZ_TBL_ID = 0
INSTRUMENT_TEMPERATURE = 11.234
LENS_TEMPERATURE = 8.3794
MACROPIXEL_SIZE = 4
MISSING_FRAMES = 0
PIXEL_SUBSAMPLING_FLAG = N
SIGNAL_CHAIN_ID = 2
/* RADIOMETRIC DATA ELEMENTS */
BANDWIDTH = 81.0
CENTER_FILTER_WAVELENGTH = 955.5
RADIANCE_OFFSET = 1.10894
RADIANCE_SCALING_FACTOR = 0.00235394
REFLECTANCE_SCALING_FACTOR = 0.000240755
MEX:REFLECTANCE_OFFSET = 0.11342
/* IMAGE OBJECT DEFINITIONS */
OBJECT = IMAGE
  INTERCHANGE_FORMAT = BINARY
  LINES = 12711
  LINE_SAMPLES = 3922
  SAMPLE_TYPE = UNSIGNED_INTEGER
  SAMPLE_BITS = 8
  BANDS = 1
  BAND_STORAGE_TYPE = BAND_SEQUENTIAL
  MAXIMUM = 186
  MEAN = 140.959
  MINIMUM = 108
  STANDARD_DEVIATION = 11.5035
END_OBJECT = IMAGE
/* MAP OBJECT DEFINITIONS */
OBJECT = IMAGE_MAP_PROJECTION
  ^DATA_SET_MAP_PROJECTION_CATALOG= "DSMAP.CAT"
  A_AXIS_RADIUS = 3396.0
  B_AXIS_RADIUS = 3396.0
  C_AXIS_RADIUS = 3396.0
  CENTER_LATITUDE = 0.0
  CENTER_LONGITUDE = 233.0
  COORDINATE_SYSTEM_NAME = PLANETOGRAPHIC
  COORDINATE_SYSTEM_TYPE = "BODY-FIXED ROTATING"
  EASTERNMOST_LONGITUDE = 237.441
  FIRST_STANDARD_PARALLEL = "N/A"
  LINE_FIRST_PIXEL = 1
  LINE_LAST_PIXEL = 12711
  LINE_PROJECTION_OFFSET = -83925.375
  MAP_PROJECTION_ROTATION = 0.0
  MAP_PROJECTION_TYPE = SINUSOIDAL
  MAP_RESOLUTION = 1185.42760773333
  MAP_SCALE = 0.05
  MAXIMUM_LATITUDE = -70.8673
  MINIMUM_LATITUDE = -81.583
  POSITIVE_LONGITUDE_DIRECTION = EAST
  REFERENCE_LATITUDE = "N/A"
  REFERENCE_LONGITUDE = "N/A"
  SAMPLE_FIRST_PIXEL = 1
  SAMPLE_LAST_PIXEL = 3922
  SAMPLE_PROJECTION_OFFSET = 2227.125
  SECOND_STANDARD_PARALLEL = "N/A"
  WESTERNMOST_LONGITUDE = 220.276
END_OBJECT = IMAGE_MAP_PROJECTION
/* The JPEG2000 image data file associated with this label. */
OBJECT = COMPRESSED_FILE
  FILE_NAME = "H2318_0000_IR3.JP2"
  RECORD_TYPE = UNDEFINED
  FILE_RECORDS = UNK
  ENCODING_TYPE = "JP2"
  INTERCHANGE_FORMAT = BINARY
  UNCOMPRESSED_FILE_NAME = "H2318_0000_IR3.IMG"
  REQUIRED_STORAGE_BYTES = "49876074"
  ^DESCRIPTION = "JP2INFO.TXT"
END_OBJECT = COMPRESSED_FILE
END
