PDS_VERSION_ID = PDS3
/* FILE DATA ELEMENTS */
RECORD_TYPE = STREAM
/* POINTERS TO DATA OBJECTS */
^COMPRESSED_FILE = "H2318_0006_SR3.JP2"
/* IDENTIFICATION DATA ELEMENTS */
DATA_SET_ID = "MEX-M-HRSC-5-REFDR-MAPPROJECTED-V3.0"
DATA_SET_NAME = "MARS EXPRESS HRSC MAP PROJECTED REFDR V3.0"
DETECTOR_ID = MEX_HRSC_SRC
EVENT_TYPE = "MARS-REGIONAL-MAPPING-Im-Gl-Pf"
INSTRUMENT_HOST_ID = MEX
INSTRUMENT_HOST_NAME = "MARS EXPRESS"
INSTRUMENT_ID = HRSC
INSTRUMENT_NAME = "HIGH RESOLUTION STEREO CAMERA"
MISSION_NAME = "MARS EXPRESS"
MISSION_PHASE_NAME = MR_Phase_8
PROCESSING_LEVEL_ID = 3
PRODUCT_CREATION_TIME = 2016-03-15T10:38:17.000Z
PRODUCT_ID = "H2318_0006_SR3.JP2"
RELEASE_ID = 0029
REVISION_ID = 0000
/* QUALITY DATA ELEMENTS */
DATA_QUALITY_ID = 1
DATA_QUALITY_DESC = "Data calculated based on original SPICE kernels"
/* TIME DATA ELEMENTS */
SPACECRAFT_CLOCK_START_COUNT = "1/0079036840.57977"
SPACECRAFT_CLOCK_STOP_COUNT = "1/0079037104.31001"
IMAGE_TIME = 2005-11-02T18:42:30.569Z
START_TIME = 2005-11-02T18:42:30.566Z
STOP_TIME = 2005-11-02T18:42:30.571Z
/* ORBITAL DATA ELEMENTS */
ASCENDING_NODE_LONGITUDE = 179.59
MAXIMUM_RESOLUTION = 4.252
FOOTPRINT_POINT_LATITUDE = (-78.5057,-78.5091,-78.5114,-78.5138, -78.5172,-78.5195,-78.5227,-78.5258, -78.5304,-78.5327,-78.5355,-78.5382, -78.5422,-78.5461,-78.5502,-78.5528, -78.5557,-78.558,-78.56,-78.5629, -78.5651,-78.5685,-78.5706,-78.5736, -78.5759,-78.5753,-78.5747,-78.5741, -78.5734,-78.5729,-78.5722,-78.5716, -78.571,-78.5704,-78.5698,-78.5692, -78.5686,-78.5679,-78.5673,-78.5667, -78.5661,-78.5655,-78.5649,-78.5642, -78.5636,-78.563,-78.5624,-78.5618, -78.5611,-78.56,-78.5562,-78.5533, -78.5508,-78.5469,-78.5434,-78.5388, -78.5368,-78.5324,-78.5288,-78.5255, -78.5232,-78.521,-78.5179,-78.5152, -78.5133,-78.5106,-78.5086,-78.5065, -78.5042,-78.5023,-78.4991,-78.4971, -78.4945,-78.4927,-78.4897,-78.4903, -78.491,-78.4916,-78.4922,-78.4928, -78.4934,-78.494,-78.4946,-78.4953, -78.4959,-78.4965,-78.4971,-78.4977, -78.4983,-78.4992,-78.4998,-78.5004, -78.501,-78.5016,-78.5022,-78.5028, -78.5034,-78.504,-78.5046,-78.5057)
FOOTPRINT_POINT_LONGITUDE = (230.619,230.615,230.613,230.61,230.606 ,230.604,230.601,230.597,230.592,230.59 ,230.587,230.584,230.58,230.576,230.571 ,230.568,230.565,230.563,230.561, 230.557,230.555,230.551,230.549,230.546 ,230.536,230.521,230.507,230.493, 230.478,230.464,230.45,230.436,230.421, 230.407,230.393,230.378,230.364,230.35, 230.335,230.321,230.307,230.293,230.278 ,230.264,230.25,230.235,230.221,230.207 ,230.192,230.181,230.185,230.188, 230.191,230.195,230.199,230.204,230.206 ,230.211,230.215,230.219,230.221, 230.224,230.227,230.23,230.232,230.235, 230.237,230.24,230.242,230.244,230.248, 230.25,230.253,230.255,230.258,230.273, 230.287,230.301,230.315,230.329,230.344 ,230.358,230.372,230.386,230.401, 230.415,230.429,230.443,230.457,230.478 ,230.493,230.507,230.521,230.535,230.55 ,230.564,230.578,230.592,230.607, 230.619)
ORBIT_NUMBER = 2318
ORBITAL_ECCENTRICITY = 0.573
ORBITAL_INCLINATION = 86.64
ORBITAL_SEMIMAJOR_AXIS = 8567.88
PERIAPSIS_ALTITUDE = 276.56
PERIAPSIS_ARGUMENT_ANGLE = 310.68
PERIAPSIS_TIME = 2005-11-02T18:50:05.000Z
SPACECRAFT_ORIENTATION = (0.0,-1.0,0.0)
^MEX_ORIENTATION_DESC = "MEX_ORIENTATION_DESC.TXT"
SPACECRAFT_POINTING_MODE = ACROSSTRACK
^MEX_POINTING_DESC = "MEX_POINTING_DESC.TXT"
RIGHT_ASCENSION = -1e+32
DECLINATION = -1e+32
OFFSET_ANGLE = -0.8
SPACECRAFT_SOLAR_DISTANCE = 2.17734e+08
TARGET_NAME = MARS
/* CAMERA DATA ELEMENTS */
BUFFER_MODE_ID = BUFFER_8
EXPOSURE_DURATION = 5.04
INST_CMPRS_NAME = NONE
INST_CMPRS_RATIO = 1.0
INST_CMPRS_QUALITY = -2147483648
INST_CMPRS_QUANTZ_TBL_ID = -2147483648
INSTRUMENT_TEMPERATURE = 8.18182
MISSING_FRAMES = 0
START_BIT = 0
/* RADIOMETRIC DATA ELEMENTS */
BANDWIDTH = 250.0
CENTER_FILTER_WAVELENGTH = 600.0
RADIANCE_OFFSET = -9.99e+31
RADIANCE_SCALING_FACTOR = -9.99e+31
REFLECTANCE_SCALING_FACTOR = -9.99e+31
MEX:REFLECTANCE_OFFSET = -9.99e+31
/* IMAGE OBJECT DEFINITIONS */
OBJECT = IMAGE
  INTERCHANGE_FORMAT = BINARY
  LINES = 1106
  LINE_SAMPLES = 1125
  SAMPLE_TYPE = UNSIGNED_INTEGER
  SAMPLE_BITS = 8
  BANDS = 1
  BAND_STORAGE_TYPE = BAND_SEQUENTIAL
  MAXIMUM = 5052
  MEAN = 4678.22
  MINIMUM = 4049
  STANDARD_DEVIATION = 76.1916
END_OBJECT = IMAGE
/* MAP OBJECT DEFINITIONS */
OBJECT = IMAGE_MAP_PROJECTION
  ^DATA_SET_MAP_PROJECTION_CATALOG= "DSMAP.CAT"
  A_AXIS_RADIUS = 3396.19
  B_AXIS_RADIUS = 3396.19
  C_AXIS_RADIUS = 3396.19
  CENTER_LATITUDE = 0.0
  CENTER_LONGITUDE = 230.0
  COORDINATE_SYSTEM_NAME = PLANETOGRAPHIC
  COORDINATE_SYSTEM_TYPE = "BODY-FIXED ROTATING"
  EASTERNMOST_LONGITUDE = 230.619
  FIRST_STANDARD_PARALLEL = "N/A"
  LINE_FIRST_PIXEL = 1
  LINE_LAST_PIXEL = 1106
  LINE_PROJECTION_OFFSET = -928196.0
  MAP_PROJECTION_ROTATION = 0.0
  MAP_PROJECTION_TYPE = SINUSOIDAL
  MAP_RESOLUTION = 11854.9393024378
  MAP_SCALE = 0.005
  MAXIMUM_LATITUDE = -78.4897
  MINIMUM_LATITUDE = -78.5759
  POSITIVE_LONGITUDE_DIRECTION = EAST
  REFERENCE_LATITUDE = "N/A"
  REFERENCE_LONGITUDE = "N/A"
  SAMPLE_FIRST_PIXEL = 1
  SAMPLE_LAST_PIXEL = 1125
  SAMPLE_PROJECTION_OFFSET = -824.0
  SECOND_STANDARD_PARALLEL = "N/A"
  WESTERNMOST_LONGITUDE = 230.181
END_OBJECT = IMAGE_MAP_PROJECTION
/* The JPEG2000 image data file associated with this label. */
OBJECT = COMPRESSED_FILE
  FILE_NAME = "H2318_0006_SR3.JP2"
  RECORD_TYPE = UNDEFINED
  FILE_RECORDS = UNK
  ENCODING_TYPE = "JP2"
  INTERCHANGE_FORMAT = BINARY
  UNCOMPRESSED_FILE_NAME = "H2318_0006_SR3.IMG"
  REQUIRED_STORAGE_BYTES = "1263375"
  ^DESCRIPTION = "JP2INFO.TXT"
END_OBJECT = COMPRESSED_FILE
END
