PDS_VERSION_ID = PDS3
/* FILE DATA ELEMENTS */
RECORD_TYPE = STREAM
/* POINTERS TO DATA OBJECTS */
^COMPRESSED_FILE = "H2319_0006_SR3.JP2"
/* IDENTIFICATION DATA ELEMENTS */
DATA_SET_ID = "MEX-M-HRSC-5-REFDR-MAPPROJECTED-V3.0"
DATA_SET_NAME = "MARS EXPRESS HRSC MAP PROJECTED REFDR V3.0"
DETECTOR_ID = MEX_HRSC_SRC
EVENT_TYPE = "MARS-REGIONAL-MAPPING-Gl-Eo-La"
INSTRUMENT_HOST_ID = MEX
INSTRUMENT_HOST_NAME = "MARS EXPRESS"
INSTRUMENT_ID = HRSC
INSTRUMENT_NAME = "HIGH RESOLUTION STEREO CAMERA"
MISSION_NAME = "MARS EXPRESS"
MISSION_PHASE_NAME = MR_Phase_8
PROCESSING_LEVEL_ID = 3
PRODUCT_CREATION_TIME = 2016-03-15T10:38:17.000Z
PRODUCT_ID = "H2319_0006_SR3.JP2"
RELEASE_ID = 0029
REVISION_ID = 0000
/* QUALITY DATA ELEMENTS */
DATA_QUALITY_ID = 1
DATA_QUALITY_DESC = "Data calculated based on original SPICE kernels"
/* TIME DATA ELEMENTS */
SPACECRAFT_CLOCK_START_COUNT = "1/0079060994.57155"
SPACECRAFT_CLOCK_STOP_COUNT = "1/0079061292.38876"
IMAGE_TIME = 2005-11-03T01:25:12.766Z
START_TIME = 2005-11-03T01:25:12.763Z
STOP_TIME = 2005-11-03T01:25:12.769Z
/* ORBITAL DATA ELEMENTS */
ASCENDING_NODE_LONGITUDE = 179.57
MAXIMUM_RESOLUTION = 4.485
FOOTPRINT_POINT_LATITUDE = (-80.1676,-80.1697,-80.173,-80.1763, -80.1786,-80.1813,-80.1836,-80.1873, -80.1912,-80.1938,-80.1958,-80.1992, -80.2015,-80.2041,-80.2066,-80.2101, -80.2138,-80.2171,-80.2193,-80.2222, -80.2256,-80.2285,-80.2327,-80.2365, -80.2387,-80.2418,-80.2413,-80.2407, -80.2401,-80.2395,-80.2389,-80.2383, -80.2377,-80.2372,-80.2366,-80.236, -80.2354,-80.2348,-80.2342,-80.2336, -80.233,-80.2324,-80.2318,-80.2311, -80.2305,-80.2301,-80.2295,-80.2289, -80.2283,-80.2277,-80.2271,-80.2237, -80.2192,-80.2163,-80.2141,-80.2117, -80.2082,-80.2046,-80.2015,-80.1989, -80.197,-80.1948,-80.1913,-80.188, -80.1851,-80.1811,-80.1784,-80.1739, -80.1702,-80.1667,-80.1641,-80.1622, -80.1594,-80.1564,-80.1529,-80.1524, -80.153,-80.1536,-80.1542,-80.1548, -80.1554,-80.156,-80.1566,-80.1572, -80.1577,-80.1583,-80.1589,-80.1595, -80.1601,-80.1607,-80.1613,-80.1619, -80.1625,-80.163,-80.1637,-80.1643, -80.1649,-80.1655,-80.166,-80.1676)
FOOTPRINT_POINT_LONGITUDE = (133.724,133.722,133.718,133.714, 133.712,133.709,133.706,133.702,133.698 ,133.695,133.693,133.689,133.686, 133.683,133.68,133.677,133.672,133.669, 133.666,133.663,133.659,133.656,133.651 ,133.647,133.644,133.631,133.615, 133.597,133.579,133.561,133.543,133.525 ,133.507,133.489,133.471,133.453, 133.435,133.417,133.399,133.381,133.363 ,133.345,133.327,133.309,133.291,133.28 ,133.262,133.244,133.226,133.208,133.19 ,133.192,133.197,133.201,133.203, 133.206,133.21,133.214,133.218,133.221, 133.223,133.226,133.23,133.234,133.237, 133.242,133.245,133.25,133.255,133.259, 133.262,133.264,133.267,133.271,133.275 ,133.288,133.306,133.324,133.341, 133.359,133.377,133.395,133.413,133.43, 133.448,133.466,133.484,133.502,133.519 ,133.537,133.555,133.573,133.591, 133.609,133.629,133.647,133.665,133.683 ,133.701,133.724)
ORBIT_NUMBER = 2319
ORBITAL_ECCENTRICITY = 0.573
ORBITAL_INCLINATION = 86.62
ORBITAL_SEMIMAJOR_AXIS = 8569.35
PERIAPSIS_ALTITUDE = 277.71
PERIAPSIS_ARGUMENT_ANGLE = 310.54
PERIAPSIS_TIME = 2005-11-03T01:33:11.000Z
SPACECRAFT_ORIENTATION = (0.0,-1.0,0.0)
^MEX_ORIENTATION_DESC = "MEX_ORIENTATION_DESC.TXT"
SPACECRAFT_POINTING_MODE = ACROSSTRACK
^MEX_POINTING_DESC = "MEX_POINTING_DESC.TXT"
RIGHT_ASCENSION = -1e+32
DECLINATION = -1e+32
OFFSET_ANGLE = -1.374
SPACECRAFT_SOLAR_DISTANCE = 2.17784e+08
TARGET_NAME = MARS
/* CAMERA DATA ELEMENTS */
BUFFER_MODE_ID = BUFFER_8
EXPOSURE_DURATION = 5.04
INST_CMPRS_NAME = NONE
INST_CMPRS_RATIO = 1.0
INST_CMPRS_QUALITY = -2147483648
INST_CMPRS_QUANTZ_TBL_ID = -2147483648
INSTRUMENT_TEMPERATURE = 8.18182
MISSING_FRAMES = 0
START_BIT = 0
/* RADIOMETRIC DATA ELEMENTS */
BANDWIDTH = 250.0
CENTER_FILTER_WAVELENGTH = 600.0
RADIANCE_OFFSET = -9.99e+31
RADIANCE_SCALING_FACTOR = -9.99e+31
REFLECTANCE_SCALING_FACTOR = -9.99e+31
MEX:REFLECTANCE_OFFSET = -9.99e+31
/* IMAGE OBJECT DEFINITIONS */
OBJECT = IMAGE
  INTERCHANGE_FORMAT = BINARY
  LINES = 1150
  LINE_SAMPLES = 1182
  SAMPLE_TYPE = UNSIGNED_INTEGER
  SAMPLE_BITS = 8
  BANDS = 1
  BAND_STORAGE_TYPE = BAND_SEQUENTIAL
  MAXIMUM = 5005
  MEAN = 4568.38
  MINIMUM = 3906
  STANDARD_DEVIATION = 75.2526
END_OBJECT = IMAGE
/* MAP OBJECT DEFINITIONS */
OBJECT = IMAGE_MAP_PROJECTION
  ^DATA_SET_MAP_PROJECTION_CATALOG= "DSMAP.CAT"
  A_AXIS_RADIUS = 3396.19
  B_AXIS_RADIUS = 3396.19
  C_AXIS_RADIUS = 3396.19
  CENTER_LATITUDE = 0.0
  CENTER_LONGITUDE = 133.0
  COORDINATE_SYSTEM_NAME = PLANETOGRAPHIC
  COORDINATE_SYSTEM_TYPE = "BODY-FIXED ROTATING"
  EASTERNMOST_LONGITUDE = 133.724
  FIRST_STANDARD_PARALLEL = "N/A"
  LINE_FIRST_PIXEL = 1
  LINE_LAST_PIXEL = 1150
  LINE_PROJECTION_OFFSET = -947838.0
  MAP_PROJECTION_ROTATION = 0.0
  MAP_PROJECTION_TYPE = SINUSOIDAL
  MAP_RESOLUTION = 11854.9393024378
  MAP_SCALE = 0.005
  MAXIMUM_LATITUDE = -80.1524
  MINIMUM_LATITUDE = -80.2418
  POSITIVE_LONGITUDE_DIRECTION = EAST
  REFERENCE_LATITUDE = "N/A"
  REFERENCE_LONGITUDE = "N/A"
  SAMPLE_FIRST_PIXEL = 1
  SAMPLE_LAST_PIXEL = 1182
  SAMPLE_PROJECTION_OFFSET = -1082.0
  SECOND_STANDARD_PARALLEL = "N/A"
  WESTERNMOST_LONGITUDE = 133.19
END_OBJECT = IMAGE_MAP_PROJECTION
/* The JPEG2000 image data file associated with this label. */
OBJECT = COMPRESSED_FILE
  FILE_NAME = "H2319_0006_SR3.JP2"
  RECORD_TYPE = UNDEFINED
  FILE_RECORDS = UNK
  ENCODING_TYPE = "JP2"
  INTERCHANGE_FORMAT = BINARY
  UNCOMPRESSED_FILE_NAME = "H2319_0006_SR3.IMG"
  REQUIRED_STORAGE_BYTES = "1378212"
  ^DESCRIPTION = "JP2INFO.TXT"
END_OBJECT = COMPRESSED_FILE
END
