PDS_VERSION_ID = PDS3
/* FILE DATA ELEMENTS */
RECORD_TYPE = STREAM
/* POINTERS TO DATA OBJECTS */
^COMPRESSED_FILE = "H2319_0007_SR3.JP2"
/* IDENTIFICATION DATA ELEMENTS */
DATA_SET_ID = "MEX-M-HRSC-5-REFDR-MAPPROJECTED-V3.0"
DATA_SET_NAME = "MARS EXPRESS HRSC MAP PROJECTED REFDR V3.0"
DETECTOR_ID = MEX_HRSC_SRC
EVENT_TYPE = "MARS-REGIONAL-MAPPING-Gl-Eo-La"
INSTRUMENT_HOST_ID = MEX
INSTRUMENT_HOST_NAME = "MARS EXPRESS"
INSTRUMENT_ID = HRSC
INSTRUMENT_NAME = "HIGH RESOLUTION STEREO CAMERA"
MISSION_NAME = "MARS EXPRESS"
MISSION_PHASE_NAME = MR_Phase_8
PROCESSING_LEVEL_ID = 3
PRODUCT_CREATION_TIME = 2016-03-15T10:38:17.000Z
PRODUCT_ID = "H2319_0007_SR3.JP2"
RELEASE_ID = 0029
REVISION_ID = 0000
/* QUALITY DATA ELEMENTS */
DATA_QUALITY_ID = 1
DATA_QUALITY_DESC = "Data calculated based on original SPICE kernels"
/* TIME DATA ELEMENTS */
SPACECRAFT_CLOCK_START_COUNT = "1/0079060994.57155"
SPACECRAFT_CLOCK_STOP_COUNT = "1/0079061292.38876"
IMAGE_TIME = 2005-11-03T01:25:13.856Z
START_TIME = 2005-11-03T01:25:13.854Z
STOP_TIME = 2005-11-03T01:25:13.859Z
/* ORBITAL DATA ELEMENTS */
ASCENDING_NODE_LONGITUDE = 179.57
MAXIMUM_RESOLUTION = 4.477
FOOTPRINT_POINT_LATITUDE = (-80.107,-80.1099,-80.1127,-80.1169, -80.1198,-80.1243,-80.1263,-80.1291, -80.1329,-80.1374,-80.1402,-80.1423, -80.1453,-80.1489,-80.1516,-80.154, -80.1577,-80.1619,-80.165,-80.1672, -80.1699,-80.1721,-80.1744,-80.1775, -80.1769,-80.1763,-80.1757,-80.1751, -80.1743,-80.1737,-80.1731,-80.1725, -80.172,-80.1714,-80.1708,-80.1702, -80.1696,-80.169,-80.1684,-80.1678, -80.1672,-80.1666,-80.166,-80.1654, -80.1648,-80.1642,-80.1636,-80.1632, -80.162,-80.1588,-80.1546,-80.1508, -80.1468,-80.1442,-80.1406,-80.1381, -80.1357,-80.1318,-80.1297,-80.127, -80.124,-80.1211,-80.1179,-80.1143, -80.112,-80.1093,-80.1052,-80.1025, -80.1004,-80.0978,-80.0956,-80.0927, -80.0906,-80.088,-80.0886,-80.0892, -80.0898,-80.0904,-80.091,-80.0915, -80.0921,-80.0927,-80.0933,-80.0939, -80.0945,-80.0951,-80.0956,-80.0962, -80.0968,-80.0973,-80.0979,-80.0985, -80.0991,-80.0997,-80.1002,-80.1008, -80.1014,-80.102,-80.1024,-80.107)
FOOTPRINT_POINT_LONGITUDE = (133.792,133.789,133.785,133.781, 133.778,133.773,133.77,133.767,133.763, 133.758,133.755,133.753,133.749,133.745 ,133.742,133.74,133.735,133.731,133.727 ,133.725,133.722,133.719,133.717, 133.708,133.69,133.673,133.655,133.637, 133.612,133.594,133.576,133.559,133.541 ,133.523,133.505,133.487,133.469, 133.452,133.434,133.416,133.398,133.381 ,133.363,133.345,133.327,133.309, 133.292,133.28,133.266,133.269,133.274, 133.279,133.283,133.286,133.289,133.292 ,133.295,133.299,133.302,133.305, 133.308,133.312,133.315,133.319,133.322 ,133.325,133.33,133.333,133.335,133.338 ,133.341,133.344,133.347,133.359, 133.377,133.395,133.412,133.43,133.447, 133.465,133.483,133.5,133.518,133.536, 133.553,133.571,133.589,133.606,133.624 ,133.64,133.658,133.675,133.693,133.711 ,133.729,133.746,133.764,133.782, 133.795,133.792)
ORBIT_NUMBER = 2319
ORBITAL_ECCENTRICITY = 0.573
ORBITAL_INCLINATION = 86.62
ORBITAL_SEMIMAJOR_AXIS = 8569.35
PERIAPSIS_ALTITUDE = 277.71
PERIAPSIS_ARGUMENT_ANGLE = 310.54
PERIAPSIS_TIME = 2005-11-03T01:33:11.000Z
SPACECRAFT_ORIENTATION = (0.0,-1.0,0.0)
^MEX_ORIENTATION_DESC = "MEX_ORIENTATION_DESC.TXT"
SPACECRAFT_POINTING_MODE = ACROSSTRACK
^MEX_POINTING_DESC = "MEX_POINTING_DESC.TXT"
RIGHT_ASCENSION = -1e+32
DECLINATION = -1e+32
OFFSET_ANGLE = -1.374
SPACECRAFT_SOLAR_DISTANCE = 2.17784e+08
TARGET_NAME = MARS
/* CAMERA DATA ELEMENTS */
BUFFER_MODE_ID = BUFFER_8
EXPOSURE_DURATION = 5.04
INST_CMPRS_NAME = NONE
INST_CMPRS_RATIO = 1.0
INST_CMPRS_QUALITY = -2147483648
INST_CMPRS_QUANTZ_TBL_ID = -2147483648
INSTRUMENT_TEMPERATURE = 8.18182
MISSING_FRAMES = 0
START_BIT = 0
/* RADIOMETRIC DATA ELEMENTS */
BANDWIDTH = 250.0
CENTER_FILTER_WAVELENGTH = 600.0
RADIANCE_OFFSET = -9.99e+31
RADIANCE_SCALING_FACTOR = -9.99e+31
REFLECTANCE_SCALING_FACTOR = -9.99e+31
MEX:REFLECTANCE_OFFSET = -9.99e+31
/* IMAGE OBJECT DEFINITIONS */
OBJECT = IMAGE
  INTERCHANGE_FORMAT = BINARY
  LINES = 1147
  LINE_SAMPLES = 1166
  SAMPLE_TYPE = UNSIGNED_INTEGER
  SAMPLE_BITS = 8
  BANDS = 1
  BAND_STORAGE_TYPE = BAND_SEQUENTIAL
  MAXIMUM = 4936
  MEAN = 4557.17
  MINIMUM = 3847
  STANDARD_DEVIATION = 91.8383
END_OBJECT = IMAGE
/* MAP OBJECT DEFINITIONS */
OBJECT = IMAGE_MAP_PROJECTION
  ^DATA_SET_MAP_PROJECTION_CATALOG= "DSMAP.CAT"
  A_AXIS_RADIUS = 3396.19
  B_AXIS_RADIUS = 3396.19
  C_AXIS_RADIUS = 3396.19
  CENTER_LATITUDE = 0.0
  CENTER_LONGITUDE = 134.0
  COORDINATE_SYSTEM_NAME = PLANETOGRAPHIC
  COORDINATE_SYSTEM_TYPE = "BODY-FIXED ROTATING"
  EASTERNMOST_LONGITUDE = 133.795
  FIRST_STANDARD_PARALLEL = "N/A"
  LINE_FIRST_PIXEL = 1
  LINE_LAST_PIXEL = 1147
  LINE_PROJECTION_OFFSET = -947080.0
  MAP_PROJECTION_ROTATION = 0.0
  MAP_PROJECTION_TYPE = SINUSOIDAL
  MAP_RESOLUTION = 11854.9393024378
  MAP_SCALE = 0.005
  MAXIMUM_LATITUDE = -80.08799999999999
  MINIMUM_LATITUDE = -80.17749999999999
  POSITIVE_LONGITUDE_DIRECTION = EAST
  REFERENCE_LATITUDE = "N/A"
  REFERENCE_LONGITUDE = "N/A"
  SAMPLE_FIRST_PIXEL = 1
  SAMPLE_LAST_PIXEL = 1166
  SAMPLE_PROJECTION_OFFSET = 770.0
  SECOND_STANDARD_PARALLEL = "N/A"
  WESTERNMOST_LONGITUDE = 133.266
END_OBJECT = IMAGE_MAP_PROJECTION
/* The JPEG2000 image data file associated with this label. */
OBJECT = COMPRESSED_FILE
  FILE_NAME = "H2319_0007_SR3.JP2"
  RECORD_TYPE = UNDEFINED
  FILE_RECORDS = UNK
  ENCODING_TYPE = "JP2"
  INTERCHANGE_FORMAT = BINARY
  UNCOMPRESSED_FILE_NAME = "H2319_0007_SR3.IMG"
  REQUIRED_STORAGE_BYTES = "1357224"
  ^DESCRIPTION = "JP2INFO.TXT"
END_OBJECT = COMPRESSED_FILE
END
