PDS_VERSION_ID = PDS3
/* FILE DATA ELEMENTS */
RECORD_TYPE = STREAM
/* POINTERS TO DATA OBJECTS */
^COMPRESSED_FILE = "H2319_0008_GR3.JP2"
/* IDENTIFICATION DATA ELEMENTS */
DATA_SET_ID = "MEX-M-HRSC-5-REFDR-MAPPROJECTED-V3.0"
DATA_SET_NAME = "MARS EXPRESS HRSC MAP PROJECTED REFDR V3.0"
DETECTOR_ID = MEX_HRSC_GREEN
EVENT_TYPE = "MARS-REGIONAL-MAPPING-Vo-Te-Im"
INSTRUMENT_HOST_ID = MEX
INSTRUMENT_HOST_NAME = "MARS EXPRESS"
INSTRUMENT_ID = HRSC
INSTRUMENT_NAME = "HIGH RESOLUTION STEREO CAMERA"
MISSION_NAME = "MARS EXPRESS"
MISSION_PHASE_NAME = MR_Phase_8
PROCESSING_LEVEL_ID = 3
PRODUCT_CREATION_TIME = 2016-03-15T10:38:17.000Z
PRODUCT_ID = "H2319_0008_GR3.JP2"
RELEASE_ID = 0029
REVISION_ID = 0000
/* QUALITY DATA ELEMENTS */
DATA_QUALITY_ID = 1
DATA_QUALITY_DESC = "Data calculated based on original SPICE kernels"
/* TIME DATA ELEMENTS */
SPACECRAFT_CLOCK_START_COUNT = "1/0079061422.57161"
SPACECRAFT_CLOCK_STOP_COUNT = "1/0079061718.40023"
START_TIME = 2005-11-03T01:30:53.370Z
STOP_TIME = 2005-11-03T01:34:52.655Z
/* ORBITAL DATA ELEMENTS */
ASCENDING_NODE_LONGITUDE = 179.57
MAXIMUM_RESOLUTION = 89.4
FOOTPRINT_POINT_LATITUDE = (-58.3188,-58.3279,-58.323,-57.9876, -57.6519,-57.3159,-56.9803,-56.6561, -56.3312,-56.0069,-55.6819,-55.3567, -55.0315,-54.7057,-54.3794,-54.0533, -53.7272,-53.4011,-53.0804,-52.6092, -52.2948,-51.9802,-51.6649,-51.3496, -50.8773,-50.4038,-50.0887,-49.775, -49.4603,-49.1452,-48.8299,-48.5131, -48.039,-47.7235,-47.4081,-47.0925, -46.7771,-46.4615,-46.1463,-45.8308, -45.3577,-45.0441,-44.7288,-44.4134, -44.0981,-43.7829,-43.4679,-43.153, -42.838,-42.5148,-42.3322,-42.3338, -42.3337,-42.8211,-43.1356,-43.4504, -43.7653,-44.2376,-44.7093,-45.024, -45.3379,-45.8103,-46.1251,-46.4402, -46.9127,-47.2278,-47.5428,-48.0156, -48.3309,-48.6471,-48.962,-49.2766, -49.7467,-50.0614,-50.3777,-50.692, -51.006,-51.4773,-51.7916,-52.1056, -52.4195,-52.7336,-53.0475,-53.3676, -53.6927,-54.0175,-54.3426,-54.6676, -54.9925,-55.3173,-55.6418,-55.966, -56.2901,-56.614,-56.9376,-57.2716, -57.6064,-57.9409,-58.2751,-58.3188)
FOOTPRINT_POINT_LONGITUDE = (140.099,140.707,141.727,141.738, 141.749,141.759,141.767,141.773,141.785 ,141.786,141.794,141.802,141.806, 141.816,141.831,141.839,141.847,141.851 ,141.855,141.857,141.86,141.865,141.876 ,141.886,141.891,141.908,141.911, 141.896,141.893,141.895,141.897,141.917 ,141.933,141.937,141.938,141.943, 141.945,141.949,141.95,141.953,141.957, 141.942,141.946,141.95,141.954,141.957, 141.96,141.962,141.966,141.971,141.658, 141.282,140.789,140.512,140.504,140.496 ,140.487,140.473,140.463,140.454,140.45 ,140.436,140.426,140.415,140.398, 140.386,140.373,140.352,140.337,140.316 ,140.301,140.288,140.277,140.262, 140.234,140.218,140.204,140.178,140.158 ,140.139,140.119,140.096,140.074, 140.047,140.025,140.004,139.979,139.952 ,139.924,139.895,139.865,139.835, 139.803,139.77,139.737,139.702,139.666, 139.63,139.593,140.099)
ORBIT_NUMBER = 2319
ORBITAL_ECCENTRICITY = 0.573
ORBITAL_INCLINATION = 86.62
ORBITAL_SEMIMAJOR_AXIS = 8569.35
PERIAPSIS_ALTITUDE = 277.71
PERIAPSIS_ARGUMENT_ANGLE = 310.54
PERIAPSIS_TIME = 2005-11-03T01:33:11.000Z
SPACECRAFT_ORIENTATION = (0.0,-1.0,0.0)
^MEX_ORIENTATION_DESC = "MEX_ORIENTATION_DESC.TXT"
SPACECRAFT_POINTING_MODE = ACROSSTRACK
^MEX_POINTING_DESC = "MEX_POINTING_DESC.TXT"
RIGHT_ASCENSION = -1e+32
DECLINATION = -1e+32
OFFSET_ANGLE = -1.374
SPACECRAFT_SOLAR_DISTANCE = 2.17784e+08
TARGET_NAME = MARS
/* CAMERA DATA ELEMENTS */
DETECTOR_TEMPERATURE = 19.39
FOCAL_PLANE_TEMPERATURE = 8.1755
INST_CMPRS_NAME = "DISCRETE COSINE TRANSFORMATION (DCT)"
INST_CMPRS_RATIO = 26.6967
INST_CMPRS_QUALITY = 0
INST_CMPRS_QUANTZ_TBL_ID = 0
INSTRUMENT_TEMPERATURE = 12.6613
LENS_TEMPERATURE = 8.5833
MACROPIXEL_SIZE = 8
MISSING_FRAMES = 0
PIXEL_SUBSAMPLING_FLAG = N
SIGNAL_CHAIN_ID = 2
/* RADIOMETRIC DATA ELEMENTS */
BANDWIDTH = 88.0
CENTER_FILTER_WAVELENGTH = 538.0
RADIANCE_OFFSET = 1.78226
RADIANCE_SCALING_FACTOR = 0.0053554
REFLECTANCE_SCALING_FACTOR = 0.000218691
MEX:REFLECTANCE_OFFSET = 0.0727798
/* IMAGE OBJECT DEFINITIONS */
OBJECT = IMAGE
  INTERCHANGE_FORMAT = BINARY
  LINES = 9486
  LINE_SAMPLES = 960
  SAMPLE_TYPE = UNSIGNED_INTEGER
  SAMPLE_BITS = 8
  BANDS = 1
  BAND_STORAGE_TYPE = BAND_SEQUENTIAL
  MAXIMUM = 139
  MEAN = 105.12
  MINIMUM = 77
  STANDARD_DEVIATION = 12.3221
END_OBJECT = IMAGE
/* MAP OBJECT DEFINITIONS */
OBJECT = IMAGE_MAP_PROJECTION
  ^DATA_SET_MAP_PROJECTION_CATALOG= "DSMAP.CAT"
  A_AXIS_RADIUS = 3396.0
  B_AXIS_RADIUS = 3396.0
  C_AXIS_RADIUS = 3396.0
  CENTER_LATITUDE = 0.0
  CENTER_LONGITUDE = 141.0
  COORDINATE_SYSTEM_NAME = PLANETOGRAPHIC
  COORDINATE_SYSTEM_TYPE = "BODY-FIXED ROTATING"
  EASTERNMOST_LONGITUDE = 141.971
  FIRST_STANDARD_PARALLEL = "N/A"
  LINE_FIRST_PIXEL = 1
  LINE_LAST_PIXEL = 9486
  LINE_PROJECTION_OFFSET = -25088.4375
  MAP_PROJECTION_ROTATION = 0.0
  MAP_PROJECTION_TYPE = SINUSOIDAL
  MAP_RESOLUTION = 592.713803866667
  MAP_SCALE = 0.1
  MAXIMUM_LATITUDE = -42.3322
  MINIMUM_LATITUDE = -58.3279
  POSITIVE_LONGITUDE_DIRECTION = EAST
  REFERENCE_LATITUDE = "N/A"
  REFERENCE_LONGITUDE = "N/A"
  SAMPLE_FIRST_PIXEL = 1
  SAMPLE_LAST_PIXEL = 960
  SAMPLE_PROJECTION_OFFSET = 460.8125
  SECOND_STANDARD_PARALLEL = "N/A"
  WESTERNMOST_LONGITUDE = 139.593
END_OBJECT = IMAGE_MAP_PROJECTION
/* The JPEG2000 image data file associated with this label. */
OBJECT = COMPRESSED_FILE
  FILE_NAME = "H2319_0008_GR3.JP2"
  RECORD_TYPE = UNDEFINED
  FILE_RECORDS = UNK
  ENCODING_TYPE = "JP2"
  INTERCHANGE_FORMAT = BINARY
  UNCOMPRESSED_FILE_NAME = "H2319_0008_GR3.IMG"
  REQUIRED_STORAGE_BYTES = "9124800"
  ^DESCRIPTION = "JP2INFO.TXT"
END_OBJECT = COMPRESSED_FILE
END
