PDS_VERSION_ID = PDS3
/* FILE DATA ELEMENTS */
RECORD_TYPE = STREAM
/* POINTERS TO DATA OBJECTS */
^COMPRESSED_FILE = "H2319_0008_P23.JP2"
/* IDENTIFICATION DATA ELEMENTS */
DATA_SET_ID = "MEX-M-HRSC-5-REFDR-MAPPROJECTED-V3.0"
DATA_SET_NAME = "MARS EXPRESS HRSC MAP PROJECTED REFDR V3.0"
DETECTOR_ID = MEX_HRSC_P2
EVENT_TYPE = "MARS-REGIONAL-MAPPING-Vo-Te-Im"
INSTRUMENT_HOST_ID = MEX
INSTRUMENT_HOST_NAME = "MARS EXPRESS"
INSTRUMENT_ID = HRSC
INSTRUMENT_NAME = "HIGH RESOLUTION STEREO CAMERA"
MISSION_NAME = "MARS EXPRESS"
MISSION_PHASE_NAME = MR_Phase_8
PROCESSING_LEVEL_ID = 3
PRODUCT_CREATION_TIME = 2016-03-15T10:38:17.000Z
PRODUCT_ID = "H2319_0008_P23.JP2"
RELEASE_ID = 0029
REVISION_ID = 0000
/* QUALITY DATA ELEMENTS */
DATA_QUALITY_ID = 1
DATA_QUALITY_DESC = "Data calculated based on original SPICE kernels"
/* TIME DATA ELEMENTS */
SPACECRAFT_CLOCK_START_COUNT = "1/0079061422.57161"
SPACECRAFT_CLOCK_STOP_COUNT = "1/0079061718.40023"
START_TIME = 2005-11-03T01:31:15.660Z
STOP_TIME = 2005-11-03T01:35:14.239Z
/* ORBITAL DATA ELEMENTS */
ASCENDING_NODE_LONGITUDE = 179.57
MAXIMUM_RESOLUTION = 46.1
FOOTPRINT_POINT_LATITUDE = (-58.2263,-58.2614,-58.2955,-58.3645, -58.0348,-57.5408,-57.2108,-56.8803, -56.7148,-56.3872,-56.0546,-55.725, -55.2298,-54.8994,-54.5768,-54.2615, -53.9446,-53.4688,-53.1511,-52.832, -52.3556,-51.88,-51.5668,-51.0925, -50.7759,-50.3059,-49.825,-49.5056, -49.1895,-48.8741,-48.4098,-48.0965, -47.7823,-47.4673,-47.1537,-46.8395, -46.3686,-46.0552,-45.742,-45.4295, -45.1118,-44.6411,-44.3303,-44.012, -43.6891,-43.3663,-43.0438,-42.7224, -42.4016,-42.357,-42.3427,-42.3285, -42.3048,-42.2922,-42.611,-42.9327, -43.2543,-43.5754,-43.8974,-44.3724, -44.84,-45.1555,-45.4703,-45.7835, -46.0961,-46.4089,-46.722,-47.0351, -47.3485,-47.818,-48.2884,-48.5975, -49.0688,-49.3839,-49.7078,-50.1815, -50.4899,-50.8068,-51.1252,-51.4415, -51.9154,-52.232,-52.7055,-53.0213, -53.3345,-53.6518,-53.9716,-54.4472, -54.7702,-55.098,-55.4259,-55.7544, -56.2472,-56.5752,-56.903,-57.2317, -57.5607,-57.8904,-58.22,-58.2263)
FOOTPRINT_POINT_LONGITUDE = (140.121,140.719,141.344,141.744, 141.755,141.771,141.78,141.787,141.79, 141.805,141.805,141.814,141.824,141.829 ,141.843,141.856,141.863,141.873, 141.877,141.877,141.883,141.89,141.904, 141.912,141.916,141.934,141.922,141.916 ,141.919,141.923,141.95,141.957,141.962 ,141.964,141.969,141.971,141.975, 141.978,141.981,141.985,141.976,141.975 ,141.98,141.983,141.987,141.99,141.993, 141.997,142.002,141.623,141.381,141.146 ,140.744,140.518,140.509,140.503, 140.495,140.487,140.478,140.467,140.455 ,140.45,140.444,140.435,140.425,140.414 ,140.404,140.392,140.381,140.361, 140.341,140.321,140.299,140.285,140.28, 140.258,140.233,140.218,140.203,140.186 ,140.158,140.139,140.107,140.085, 140.059,140.037,140.018,139.983,139.956 ,139.928,139.899,139.87,139.824,139.791 ,139.758,139.725,139.69,139.656,139.621 ,140.121)
ORBIT_NUMBER = 2319
ORBITAL_ECCENTRICITY = 0.573
ORBITAL_INCLINATION = 86.62
ORBITAL_SEMIMAJOR_AXIS = 8569.35
PERIAPSIS_ALTITUDE = 277.71
PERIAPSIS_ARGUMENT_ANGLE = 310.54
PERIAPSIS_TIME = 2005-11-03T01:33:11.000Z
SPACECRAFT_ORIENTATION = (0.0,-1.0,0.0)
^MEX_ORIENTATION_DESC = "MEX_ORIENTATION_DESC.TXT"
SPACECRAFT_POINTING_MODE = ACROSSTRACK
^MEX_POINTING_DESC = "MEX_POINTING_DESC.TXT"
RIGHT_ASCENSION = -1e+32
DECLINATION = -1e+32
OFFSET_ANGLE = -1.374
SPACECRAFT_SOLAR_DISTANCE = 2.17784e+08
TARGET_NAME = MARS
/* CAMERA DATA ELEMENTS */
DETECTOR_TEMPERATURE = 20.2056
FOCAL_PLANE_TEMPERATURE = 8.1755
INST_CMPRS_NAME = "DISCRETE COSINE TRANSFORMATION (DCT)"
INST_CMPRS_RATIO = 10.6315
INST_CMPRS_QUALITY = 0
INST_CMPRS_QUANTZ_TBL_ID = 0
INSTRUMENT_TEMPERATURE = 12.6613
LENS_TEMPERATURE = 8.5833
MACROPIXEL_SIZE = 4
MISSING_FRAMES = 0
PIXEL_SUBSAMPLING_FLAG = N
SIGNAL_CHAIN_ID = 3
/* RADIOMETRIC DATA ELEMENTS */
BANDWIDTH = 177.0
CENTER_FILTER_WAVELENGTH = 676.5
RADIANCE_OFFSET = 5.12682
RADIANCE_SCALING_FACTOR = 0.0237138
REFLECTANCE_SCALING_FACTOR = 0.000596362
MEX:REFLECTANCE_OFFSET = 0.128931
/* IMAGE OBJECT DEFINITIONS */
OBJECT = IMAGE
  INTERCHANGE_FORMAT = BINARY
  LINES = 18972
  LINE_SAMPLES = 1919
  SAMPLE_TYPE = UNSIGNED_INTEGER
  SAMPLE_BITS = 8
  BANDS = 1
  BAND_STORAGE_TYPE = BAND_SEQUENTIAL
  MAXIMUM = 175
  MEAN = 119.724
  MINIMUM = 76
  STANDARD_DEVIATION = 22.3521
END_OBJECT = IMAGE
/* MAP OBJECT DEFINITIONS */
OBJECT = IMAGE_MAP_PROJECTION
  ^DATA_SET_MAP_PROJECTION_CATALOG= "DSMAP.CAT"
  A_AXIS_RADIUS = 3396.0
  B_AXIS_RADIUS = 3396.0
  C_AXIS_RADIUS = 3396.0
  CENTER_LATITUDE = 0.0
  CENTER_LONGITUDE = 141.0
  COORDINATE_SYSTEM_NAME = PLANETOGRAPHIC
  COORDINATE_SYSTEM_TYPE = "BODY-FIXED ROTATING"
  EASTERNMOST_LONGITUDE = 142.002
  FIRST_STANDARD_PARALLEL = "N/A"
  LINE_FIRST_PIXEL = 1
  LINE_LAST_PIXEL = 18972
  LINE_PROJECTION_OFFSET = -50176.375
  MAP_PROJECTION_ROTATION = 0.0
  MAP_PROJECTION_TYPE = SINUSOIDAL
  MAP_RESOLUTION = 1185.42760773333
  MAP_SCALE = 0.05
  MAXIMUM_LATITUDE = -42.2922
  MINIMUM_LATITUDE = -58.3645
  POSITIVE_LONGITUDE_DIRECTION = EAST
  REFERENCE_LATITUDE = "N/A"
  REFERENCE_LONGITUDE = "N/A"
  SAMPLE_FIRST_PIXEL = 1
  SAMPLE_LAST_PIXEL = 1919
  SAMPLE_PROJECTION_OFFSET = 922.125
  SECOND_STANDARD_PARALLEL = "N/A"
  WESTERNMOST_LONGITUDE = 139.621
END_OBJECT = IMAGE_MAP_PROJECTION
/* The JPEG2000 image data file associated with this label. */
OBJECT = COMPRESSED_FILE
  FILE_NAME = "H2319_0008_P23.JP2"
  RECORD_TYPE = UNDEFINED
  FILE_RECORDS = UNK
  ENCODING_TYPE = "JP2"
  INTERCHANGE_FORMAT = BINARY
  UNCOMPRESSED_FILE_NAME = "H2319_0008_P23.IMG"
  REQUIRED_STORAGE_BYTES = "36426458"
  ^DESCRIPTION = "JP2INFO.TXT"
END_OBJECT = COMPRESSED_FILE
END
