PDS_VERSION_ID = PDS3
/* FILE DATA ELEMENTS */
RECORD_TYPE = STREAM
/* POINTERS TO DATA OBJECTS */
^COMPRESSED_FILE = "H2321_0001_RE3.JP2"
/* IDENTIFICATION DATA ELEMENTS */
DATA_SET_ID = "MEX-M-HRSC-5-REFDR-MAPPROJECTED-V3.0"
DATA_SET_NAME = "MARS EXPRESS HRSC MAP PROJECTED REFDR V3.0"
DETECTOR_ID = MEX_HRSC_RED
EVENT_TYPE = "MARS-LOCAL-STEREO-Gl-Mw"
INSTRUMENT_HOST_ID = MEX
INSTRUMENT_HOST_NAME = "MARS EXPRESS"
INSTRUMENT_ID = HRSC
INSTRUMENT_NAME = "HIGH RESOLUTION STEREO CAMERA"
MISSION_NAME = "MARS EXPRESS"
MISSION_PHASE_NAME = MR_Phase_8
PROCESSING_LEVEL_ID = 3
PRODUCT_CREATION_TIME = 2016-03-15T10:38:17.000Z
PRODUCT_ID = "H2321_0001_RE3.JP2"
RELEASE_ID = 0029
REVISION_ID = 0000
/* QUALITY DATA ELEMENTS */
DATA_QUALITY_ID = 1
DATA_QUALITY_DESC = "Data calculated based on original SPICE kernels"
/* TIME DATA ELEMENTS */
SPACECRAFT_CLOCK_START_COUNT = "1/0079109797.57307"
SPACECRAFT_CLOCK_STOP_COUNT = "1/0079109949.56638"
START_TIME = 2005-11-03T14:57:32.939Z
STOP_TIME = 2005-11-03T14:59:10.705Z
/* ORBITAL DATA ELEMENTS */
ASCENDING_NODE_LONGITUDE = 179.53
MAXIMUM_RESOLUTION = 92.4
FOOTPRINT_POINT_LATITUDE = (-58.0918,-58.1053,-58.1184,-58.1312, -58.1435,-58.0899,-57.8926,-57.7613, -57.6319,-57.4402,-57.3132,-57.1893, -57.0588,-56.9281,-56.7976,-56.6669, -56.5361,-56.4054,-56.2742,-56.0785, -55.947,-55.8138,-55.6853,-55.5541, -55.4221,-55.2271,-55.0305,-54.9004, -54.7081,-54.5128,-54.3817,-54.1873, -54.0571,-53.9267,-53.7962,-53.666, -53.5354,-53.4049,-53.2711,-53.1447, -53.015,-52.8833,-52.7519,-52.623, -52.486,-52.2871,-52.1642,-52.037, -51.9063,-51.7719,-51.6448,-51.632, -51.6178,-51.6001,-51.5893,-51.5796, -51.7092,-51.9037,-52.0331,-52.1607, -52.2887,-52.4126,-52.5443,-52.7428, -52.8768,-53.0104,-53.1397,-53.2632, -53.4572,-53.5932,-53.7233,-53.8536, -54.0483,-54.2434,-54.3735,-54.6233, -54.8202,-54.9531,-55.0831,-55.2095, -55.3351,-55.469,-55.667,-55.7957, -55.9234,-56.0546,-56.2485,-56.4377, -56.5671,-56.6981,-56.8353,-57.0334, -57.2233,-57.3516,-57.4838,-57.6135, -57.7454,-57.8756,-58.0054,-58.0918)
FOOTPRINT_POINT_LONGITUDE = (301.441,301.712,301.984,302.257, 302.532,302.993,303.011,303.023,303.036 ,303.058,303.074,303.092,303.104, 303.115,303.127,303.138,303.149,303.16, 303.171,303.187,303.197,303.206,303.218 ,303.228,303.237,303.253,303.268, 303.278,303.296,303.311,303.32,303.335, 303.345,303.354,303.363,303.373,303.382 ,303.39,303.396,303.408,303.418,303.425 ,303.433,303.442,303.445,303.454, 303.468,303.479,303.487,303.491,303.502 ,303.249,302.881,302.4,302.167,301.941, 301.928,301.908,301.895,301.882,301.869 ,301.857,301.843,301.821,301.805,301.79 ,301.775,301.762,301.74,301.723,301.708 ,301.692,301.669,301.645,301.629, 301.599,301.574,301.556,301.539,301.522 ,301.507,301.488,301.46,301.442,301.424 ,301.405,301.378,301.351,301.332, 301.312,301.29,301.258,301.23,301.21, 301.188,301.167,301.145,301.123,301.101 ,301.441)
ORBIT_NUMBER = 2321
ORBITAL_ECCENTRICITY = 0.572
ORBITAL_INCLINATION = 86.63
ORBITAL_SEMIMAJOR_AXIS = 8565.78
PERIAPSIS_ALTITUDE = 277.46
PERIAPSIS_ARGUMENT_ANGLE = 310.19
PERIAPSIS_TIME = 2005-11-03T14:59:19.000Z
SPACECRAFT_ORIENTATION = (0.0,-1.0,0.0)
^MEX_ORIENTATION_DESC = "MEX_ORIENTATION_DESC.TXT"
SPACECRAFT_POINTING_MODE = ACROSSTRACK
^MEX_POINTING_DESC = "MEX_POINTING_DESC.TXT"
RIGHT_ASCENSION = -1e+32
DECLINATION = -1e+32
OFFSET_ANGLE = -0.3
SPACECRAFT_SOLAR_DISTANCE = 2.17885e+08
TARGET_NAME = MARS
/* CAMERA DATA ELEMENTS */
DETECTOR_TEMPERATURE = 19.39
FOCAL_PLANE_TEMPERATURE = 7.7677
INST_CMPRS_NAME = "DISCRETE COSINE TRANSFORMATION (DCT)"
INST_CMPRS_RATIO = 31.9589
INST_CMPRS_QUALITY = 0
INST_CMPRS_QUANTZ_TBL_ID = 0
INSTRUMENT_TEMPERATURE = 12.8652
LENS_TEMPERATURE = 8.3794
MACROPIXEL_SIZE = 8
MISSING_FRAMES = 0
PIXEL_SUBSAMPLING_FLAG = N
SIGNAL_CHAIN_ID = 3
/* RADIOMETRIC DATA ELEMENTS */
BANDWIDTH = 48.0
CENTER_FILTER_WAVELENGTH = 748.0
RADIANCE_OFFSET = 1.32543
RADIANCE_SCALING_FACTOR = 0.0040097
REFLECTANCE_SCALING_FACTOR = 0.000434401
MEX:REFLECTANCE_OFFSET = 0.143594
/* IMAGE OBJECT DEFINITIONS */
OBJECT = IMAGE
  INTERCHANGE_FORMAT = BINARY
  LINES = 3942
  LINE_SAMPLES = 854
  SAMPLE_TYPE = UNSIGNED_INTEGER
  SAMPLE_BITS = 8
  BANDS = 1
  BAND_STORAGE_TYPE = BAND_SEQUENTIAL
  MAXIMUM = 125
  MEAN = 101.993
  MINIMUM = 67
  STANDARD_DEVIATION = 7.67889
END_OBJECT = IMAGE
/* MAP OBJECT DEFINITIONS */
OBJECT = IMAGE_MAP_PROJECTION
  ^DATA_SET_MAP_PROJECTION_CATALOG= "DSMAP.CAT"
  A_AXIS_RADIUS = 3396.0
  B_AXIS_RADIUS = 3396.0
  C_AXIS_RADIUS = 3396.0
  CENTER_LATITUDE = 0.0
  CENTER_LONGITUDE = 302.0
  COORDINATE_SYSTEM_NAME = PLANETOGRAPHIC
  COORDINATE_SYSTEM_TYPE = "BODY-FIXED ROTATING"
  EASTERNMOST_LONGITUDE = 303.502
  FIRST_STANDARD_PARALLEL = "N/A"
  LINE_FIRST_PIXEL = 1
  LINE_LAST_PIXEL = 3942
  LINE_PROJECTION_OFFSET = -30580.6875
  MAP_PROJECTION_ROTATION = 0.0
  MAP_PROJECTION_TYPE = SINUSOIDAL
  MAP_RESOLUTION = 592.713803866667
  MAP_SCALE = 0.1
  MAXIMUM_LATITUDE = -51.5796
  MINIMUM_LATITUDE = -58.1435
  POSITIVE_LONGITUDE_DIRECTION = EAST
  REFERENCE_LATITUDE = "N/A"
  REFERENCE_LONGITUDE = "N/A"
  SAMPLE_FIRST_PIXEL = 1
  SAMPLE_LAST_PIXEL = 854
  SAMPLE_PROJECTION_OFFSET = 293.1875
  SECOND_STANDARD_PARALLEL = "N/A"
  WESTERNMOST_LONGITUDE = 301.101
END_OBJECT = IMAGE_MAP_PROJECTION
/* The JPEG2000 image data file associated with this label. */
OBJECT = COMPRESSED_FILE
  FILE_NAME = "H2321_0001_RE3.JP2"
  RECORD_TYPE = UNDEFINED
  FILE_RECORDS = UNK
  ENCODING_TYPE = "JP2"
  INTERCHANGE_FORMAT = BINARY
  UNCOMPRESSED_FILE_NAME = "H2321_0001_RE3.IMG"
  REQUIRED_STORAGE_BYTES = "3385256"
  ^DESCRIPTION = "JP2INFO.TXT"
END_OBJECT = COMPRESSED_FILE
END
