PDS_VERSION_ID = PDS3
/* FILE DATA ELEMENTS */
RECORD_TYPE = STREAM
/* POINTERS TO DATA OBJECTS */
^COMPRESSED_FILE = "H2321_0001_S13.JP2"
/* IDENTIFICATION DATA ELEMENTS */
DATA_SET_ID = "MEX-M-HRSC-5-REFDR-MAPPROJECTED-V3.0"
DATA_SET_NAME = "MARS EXPRESS HRSC MAP PROJECTED REFDR V3.0"
DETECTOR_ID = MEX_HRSC_S1
EVENT_TYPE = "MARS-LOCAL-STEREO-Gl-Mw"
INSTRUMENT_HOST_ID = MEX
INSTRUMENT_HOST_NAME = "MARS EXPRESS"
INSTRUMENT_ID = HRSC
INSTRUMENT_NAME = "HIGH RESOLUTION STEREO CAMERA"
MISSION_NAME = "MARS EXPRESS"
MISSION_PHASE_NAME = MR_Phase_8
PROCESSING_LEVEL_ID = 3
PRODUCT_CREATION_TIME = 2016-03-15T10:38:17.000Z
PRODUCT_ID = "H2321_0001_S13.JP2"
RELEASE_ID = 0029
REVISION_ID = 0000
/* QUALITY DATA ELEMENTS */
DATA_QUALITY_ID = 1
DATA_QUALITY_DESC = "Data calculated based on original SPICE kernels"
/* TIME DATA ELEMENTS */
SPACECRAFT_CLOCK_START_COUNT = "1/0079109797.57307"
SPACECRAFT_CLOCK_STOP_COUNT = "1/0079109949.56638"
START_TIME = 2005-11-03T14:56:44.844Z
STOP_TIME = 2005-11-03T14:58:25.977Z
/* ORBITAL DATA ELEMENTS */
ASCENDING_NODE_LONGITUDE = 179.53
MAXIMUM_RESOLUTION = 11.9
FOOTPRINT_POINT_LATITUDE = (-58.2684,-58.2788,-58.2885,-58.2973, -58.3053,-58.3125,-58.3207,-58.1208, -57.9919,-57.7983,-57.6675,-57.534, -57.3956,-57.2603,-57.1261,-56.9953, -56.8643,-56.7332,-56.5369,-56.4061, -56.2109,-56.0126,-55.8841,-55.7516, -55.5544,-55.358,-55.1593,-55.0262, -54.8947,-54.7617,-54.5607,-54.4298, -54.2307,-54.0967,-53.9638,-53.8314, -53.6988,-53.5002,-53.3675,-53.2367, -53.1007,-52.9673,-52.7697,-52.6358, -52.3811,-52.2428,-52.0344,-51.9028, -51.7744,-51.6382,-51.6342,-51.6257, -51.6171,-51.6117,-51.6061,-51.803, -51.9362,-52.137,-52.2717,-52.4113, -52.6121,-52.7394,-52.9326,-53.0606, -53.1938,-53.3343,-53.5334,-53.6584, -53.7898,-53.9221,-54.0543,-54.1864, -54.318,-54.45,-54.5881,-54.7922, -54.9185,-55.0491,-55.1814,-55.3212, -55.4529,-55.577,-55.7072,-55.8416, -56.04,-56.168,-56.3711,-56.505, -56.6358,-56.7624,-56.9508,-57.079, -57.2809,-57.4131,-57.5411,-57.6713, -57.7987,-57.9285,-58.0587,-58.2684)
FOOTPRINT_POINT_LONGITUDE = (301.034,301.334,301.636,301.939, 302.244,302.55,302.954,303.05,303.06, 303.075,303.087,303.101,303.121,303.136 ,303.151,303.161,303.172,303.183, 303.198,303.208,303.222,303.238,303.246 ,303.256,303.271,303.284,303.299,303.31 ,303.319,303.329,303.346,303.353, 303.368,303.378,303.387,303.396,303.404 ,303.417,303.425,303.432,303.443, 303.452,303.462,303.471,303.477,303.489 ,303.508,303.515,303.518,303.528, 303.269,302.844,302.53,302.296,302.046, 301.909,301.895,301.874,301.86,301.846, 301.824,301.809,301.785,301.77,301.754, 301.739,301.715,301.699,301.683,301.666 ,301.65,301.633,301.616,301.599,301.582 ,301.556,301.538,301.52,301.502,301.484 ,301.466,301.447,301.428,301.409,301.38 ,301.361,301.331,301.312,301.291, 301.271,301.239,301.218,301.187,301.165 ,301.143,301.121,301.099,301.076, 301.054,301.034)
ORBIT_NUMBER = 2321
ORBITAL_ECCENTRICITY = 0.572
ORBITAL_INCLINATION = 86.63
ORBITAL_SEMIMAJOR_AXIS = 8565.78
PERIAPSIS_ALTITUDE = 277.46
PERIAPSIS_ARGUMENT_ANGLE = 310.19
PERIAPSIS_TIME = 2005-11-03T14:59:19.000Z
SPACECRAFT_ORIENTATION = (0.0,-1.0,0.0)
^MEX_ORIENTATION_DESC = "MEX_ORIENTATION_DESC.TXT"
SPACECRAFT_POINTING_MODE = ACROSSTRACK
^MEX_POINTING_DESC = "MEX_POINTING_DESC.TXT"
RIGHT_ASCENSION = -1e+32
DECLINATION = -1e+32
OFFSET_ANGLE = -0.3
SPACECRAFT_SOLAR_DISTANCE = 2.17885e+08
TARGET_NAME = MARS
/* CAMERA DATA ELEMENTS */
DETECTOR_TEMPERATURE = 18.5744
FOCAL_PLANE_TEMPERATURE = 7.7677
INST_CMPRS_NAME = "DISCRETE COSINE TRANSFORMATION (DCT)"
INST_CMPRS_RATIO = 7.92323
INST_CMPRS_QUALITY = 0
INST_CMPRS_QUANTZ_TBL_ID = 0
INSTRUMENT_TEMPERATURE = 12.8652
LENS_TEMPERATURE = 8.3794
MACROPIXEL_SIZE = 1
MISSING_FRAMES = 0
PIXEL_SUBSAMPLING_FLAG = N
SIGNAL_CHAIN_ID = 2
/* RADIOMETRIC DATA ELEMENTS */
BANDWIDTH = 180.0
CENTER_FILTER_WAVELENGTH = 677.0
RADIANCE_OFFSET = 5.04362
RADIANCE_SCALING_FACTOR = 0.0143846
REFLECTANCE_SCALING_FACTOR = 0.000356281
MEX:REFLECTANCE_OFFSET = 0.124921
/* IMAGE OBJECT DEFINITIONS */
OBJECT = IMAGE
  INTERCHANGE_FORMAT = BINARY
  LINES = 31529
  LINE_SAMPLES = 6827
  SAMPLE_TYPE = UNSIGNED_INTEGER
  SAMPLE_BITS = 8
  BANDS = 1
  BAND_STORAGE_TYPE = BAND_SEQUENTIAL
  MAXIMUM = 148
  MEAN = 108.071
  MINIMUM = 71
  STANDARD_DEVIATION = 7.19497
END_OBJECT = IMAGE
/* MAP OBJECT DEFINITIONS */
OBJECT = IMAGE_MAP_PROJECTION
  ^DATA_SET_MAP_PROJECTION_CATALOG= "DSMAP.CAT"
  A_AXIS_RADIUS = 3396.0
  B_AXIS_RADIUS = 3396.0
  C_AXIS_RADIUS = 3396.0
  CENTER_LATITUDE = 0.0
  CENTER_LONGITUDE = 302.0
  COORDINATE_SYSTEM_NAME = PLANETOGRAPHIC
  COORDINATE_SYSTEM_TYPE = "BODY-FIXED ROTATING"
  EASTERNMOST_LONGITUDE = 303.528
  FIRST_STANDARD_PARALLEL = "N/A"
  LINE_FIRST_PIXEL = 1
  LINE_LAST_PIXEL = 31529
  LINE_PROJECTION_OFFSET = -244642.0
  MAP_PROJECTION_ROTATION = 0.0
  MAP_PROJECTION_TYPE = SINUSOIDAL
  MAP_RESOLUTION = 4741.71043093333
  MAP_SCALE = 0.0125
  MAXIMUM_LATITUDE = -51.6061
  MINIMUM_LATITUDE = -58.3207
  POSITIVE_LONGITUDE_DIRECTION = EAST
  REFERENCE_LATITUDE = "N/A"
  REFERENCE_LONGITUDE = "N/A"
  SAMPLE_FIRST_PIXEL = 1
  SAMPLE_LAST_PIXEL = 6827
  SAMPLE_PROJECTION_OFFSET = 2349.0
  SECOND_STANDARD_PARALLEL = "N/A"
  WESTERNMOST_LONGITUDE = 301.034
END_OBJECT = IMAGE_MAP_PROJECTION
/* The JPEG2000 image data file associated with this label. */
OBJECT = COMPRESSED_FILE
  FILE_NAME = "H2321_0001_S13.JP2"
  RECORD_TYPE = UNDEFINED
  FILE_RECORDS = UNK
  ENCODING_TYPE = "JP2"
  INTERCHANGE_FORMAT = BINARY
  UNCOMPRESSED_FILE_NAME = "H2321_0001_S13.IMG"
  REQUIRED_STORAGE_BYTES = "215282618"
  ^DESCRIPTION = "JP2INFO.TXT"
END_OBJECT = COMPRESSED_FILE
END
