PDS_VERSION_ID = PDS3
/* FILE DATA ELEMENTS */
RECORD_TYPE = STREAM
/* POINTERS TO DATA OBJECTS */
^COMPRESSED_FILE = "H2324_0000_S13.JP2"
/* IDENTIFICATION DATA ELEMENTS */
DATA_SET_ID = "MEX-M-HRSC-5-REFDR-MAPPROJECTED-V3.0"
DATA_SET_NAME = "MARS EXPRESS HRSC MAP PROJECTED REFDR V3.0"
DETECTOR_ID = MEX_HRSC_S1
EVENT_TYPE = "MARS-REGIONAL-MAPPING-Gl-Pf-La"
INSTRUMENT_HOST_ID = MEX
INSTRUMENT_HOST_NAME = "MARS EXPRESS"
INSTRUMENT_ID = HRSC
INSTRUMENT_NAME = "HIGH RESOLUTION STEREO CAMERA"
MISSION_NAME = "MARS EXPRESS"
MISSION_PHASE_NAME = MR_Phase_8
PROCESSING_LEVEL_ID = 3
PRODUCT_CREATION_TIME = 2016-03-15T10:38:17.000Z
PRODUCT_ID = "H2324_0000_S13.JP2"
RELEASE_ID = 0029
REVISION_ID = 0000
/* QUALITY DATA ELEMENTS */
DATA_QUALITY_ID = 1
DATA_QUALITY_DESC = "Data calculated based on original SPICE kernels"
/* TIME DATA ELEMENTS */
SPACECRAFT_CLOCK_START_COUNT = "1/0079181986.57159"
SPACECRAFT_CLOCK_STOP_COUNT = "1/0079182370.33337"
START_TIME = 2005-11-04T10:59:53.881Z
STOP_TIME = 2005-11-04T11:05:21.743Z
/* ORBITAL DATA ELEMENTS */
ASCENDING_NODE_LONGITUDE = 179.47
MAXIMUM_RESOLUTION = 26.3
FOOTPRINT_POINT_LATITUDE = (-79.5286,-79.6855,-79.7822,-79.93, -80.0178,-80.0049,-79.7715,-79.535, -79.3014,-79.0717,-78.6155,-78.1616, -77.7125,-77.042,-76.6014,-76.1646, -75.7329,-75.3043,-74.8814,-74.4596, -74.0431,-73.6293,-73.22,-72.6097, -72.2063,-71.8091,-71.2119,-70.8144, -70.4159,-70.015,-69.6142,-69.2108, -68.8065,-68.401,-68.0197,-67.678, -67.3345,-66.9904,-66.646,-66.3007, -65.9544,-65.6071,-65.0836,-64.5596, -64.0466,-63.7029,-63.3631,-63.0211, -62.6876,-62.356,-61.8564,-61.5225, -61.1927,-60.6657,-60.6134,-60.7355, -61.0565,-61.5485,-61.8788,-62.2088, -62.5381,-63.0368,-63.3752,-63.7129, -64.2224,-64.7389,-65.0834,-65.5996, -65.9427,-66.2873,-66.7956,-67.1349, -67.4734,-67.8108,-68.1817,-68.5796, -69.1767,-69.5726,-69.9659,-70.3579, -70.7464,-71.3276,-71.9142,-72.3055, -72.7007,-73.1005,-73.7011,-74.1052, -74.513,-75.1286,-75.5423,-75.9596, -76.5912,-77.2264,-77.6506,-78.0799, -78.5115,-78.9438,-79.1606,-79.5286)
FOOTPRINT_POINT_LONGITUDE = (349.884,351.948,353.358,355.796, 357.461,359.513,359.793,360.072,360.328 ,360.569,361.011,361.421,361.796, 362.312,362.619,362.905,363.17,363.413, 363.643,363.859,364.061,364.25,364.428, 364.68,364.836,364.982,365.19,365.32, 365.445,365.567,365.682,365.794,365.901 ,366.005,366.098,366.179,366.259, 366.336,366.41,366.482,366.552,366.62, 366.719,366.814,366.902,366.96,367.014, 367.068,367.12,367.169,367.241,367.288, 367.334,367.167,365.95,365.159,365.08, 364.956,364.868,364.779,364.687,364.543 ,364.441,364.336,364.172,363.997, 363.875,363.685,363.554,363.419,363.207 ,363.061,362.909,362.753,362.576, 362.376,362.061,361.841,361.611,361.372 ,361.122,360.729,360.306,360.002, 359.686,359.345,358.798,358.404,357.982 ,357.297,356.799,356.264,355.386,354.4, 353.677,352.888,352.028,351.09,350.588, 349.884)
ORBIT_NUMBER = 2324
ORBITAL_ECCENTRICITY = 0.573
ORBITAL_INCLINATION = 86.63
ORBITAL_SEMIMAJOR_AXIS = 8566.41
PERIAPSIS_ALTITUDE = 277.49
PERIAPSIS_ARGUMENT_ANGLE = 309.63
PERIAPSIS_TIME = 2005-11-04T11:08:25.000Z
SPACECRAFT_ORIENTATION = (0.0,-1.0,0.0)
^MEX_ORIENTATION_DESC = "MEX_ORIENTATION_DESC.TXT"
SPACECRAFT_POINTING_MODE = NADIR
^MEX_POINTING_DESC = "MEX_POINTING_DESC.TXT"
RIGHT_ASCENSION = -1e+32
DECLINATION = -1e+32
OFFSET_ANGLE = -1e+32
SPACECRAFT_SOLAR_DISTANCE = 2.18036e+08
TARGET_NAME = MARS
/* CAMERA DATA ELEMENTS */
DETECTOR_TEMPERATURE = 17.1471
FOCAL_PLANE_TEMPERATURE = 7.5638
INST_CMPRS_NAME = "DISCRETE COSINE TRANSFORMATION (DCT)"
INST_CMPRS_RATIO = 14.2163
INST_CMPRS_QUALITY = 0
INST_CMPRS_QUANTZ_TBL_ID = 0
INSTRUMENT_TEMPERATURE = 10.6223
LENS_TEMPERATURE = 7.7677
MACROPIXEL_SIZE = 2
MISSING_FRAMES = 2
PIXEL_SUBSAMPLING_FLAG = N
SIGNAL_CHAIN_ID = 1
/* RADIOMETRIC DATA ELEMENTS */
BANDWIDTH = 180.0
CENTER_FILTER_WAVELENGTH = 677.0
RADIANCE_OFFSET = 5.20578
RADIANCE_SCALING_FACTOR = 0.0137031
REFLECTANCE_SCALING_FACTOR = 0.00033987
MEX:REFLECTANCE_OFFSET = 0.129116
/* IMAGE OBJECT DEFINITIONS */
OBJECT = IMAGE
  INTERCHANGE_FORMAT = BINARY
  LINES = 45942
  LINE_SAMPLES = 9722
  SAMPLE_TYPE = UNSIGNED_INTEGER
  SAMPLE_BITS = 8
  BANDS = 1
  BAND_STORAGE_TYPE = BAND_SEQUENTIAL
  MAXIMUM = 252
  MEAN = 99.9849
  MINIMUM = 69
  STANDARD_DEVIATION = 7.98131
END_OBJECT = IMAGE
/* MAP OBJECT DEFINITIONS */
OBJECT = IMAGE_MAP_PROJECTION
  ^DATA_SET_MAP_PROJECTION_CATALOG= "DSMAP.CAT"
  A_AXIS_RADIUS = 3396.0
  B_AXIS_RADIUS = 3396.0
  C_AXIS_RADIUS = 3396.0
  CENTER_LATITUDE = 0.0
  CENTER_LONGITUDE = 4.0
  COORDINATE_SYSTEM_NAME = PLANETOGRAPHIC
  COORDINATE_SYSTEM_TYPE = "BODY-FIXED ROTATING"
  EASTERNMOST_LONGITUDE = 7.334
  FIRST_STANDARD_PARALLEL = "N/A"
  LINE_FIRST_PIXEL = 1
  LINE_LAST_PIXEL = 45942
  LINE_PROJECTION_OFFSET = -143599.25
  MAP_PROJECTION_ROTATION = 0.0
  MAP_PROJECTION_TYPE = SINUSOIDAL
  MAP_RESOLUTION = 2370.85521546667
  MAP_SCALE = 0.025
  MAXIMUM_LATITUDE = -60.6134
  MINIMUM_LATITUDE = -80.01779999999999
  POSITIVE_LONGITUDE_DIRECTION = EAST
  REFERENCE_LATITUDE = "N/A"
  REFERENCE_LONGITUDE = "N/A"
  SAMPLE_FIRST_PIXEL = 1
  SAMPLE_LAST_PIXEL = 9722
  SAMPLE_PROJECTION_OFFSET = 5866.25
  SECOND_STANDARD_PARALLEL = "N/A"
  WESTERNMOST_LONGITUDE = -10.116
END_OBJECT = IMAGE_MAP_PROJECTION
/* The JPEG2000 image data file associated with this label. */
OBJECT = COMPRESSED_FILE
  FILE_NAME = "H2324_0000_S13.JP2"
  RECORD_TYPE = UNDEFINED
  FILE_RECORDS = UNK
  ENCODING_TYPE = "JP2"
  INTERCHANGE_FORMAT = BINARY
  UNCOMPRESSED_FILE_NAME = "H2324_0000_S13.IMG"
  REQUIRED_STORAGE_BYTES = "446677290"
  ^DESCRIPTION = "JP2INFO.TXT"
END_OBJECT = COMPRESSED_FILE
END
