PDS_VERSION_ID = PDS3
/* FILE DATA ELEMENTS */
RECORD_TYPE = STREAM
/* POINTERS TO DATA OBJECTS */
^COMPRESSED_FILE = "H2328_0000_GR3.JP2"
/* IDENTIFICATION DATA ELEMENTS */
DATA_SET_ID = "MEX-M-HRSC-5-REFDR-MAPPROJECTED-V3.0"
DATA_SET_NAME = "MARS EXPRESS HRSC MAP PROJECTED REFDR V3.0"
DETECTOR_ID = MEX_HRSC_GREEN
EVENT_TYPE = "MARS-REGIONAL-MAPPING-Fl-La"
INSTRUMENT_HOST_ID = MEX
INSTRUMENT_HOST_NAME = "MARS EXPRESS"
INSTRUMENT_ID = HRSC
INSTRUMENT_NAME = "HIGH RESOLUTION STEREO CAMERA"
MISSION_NAME = "MARS EXPRESS"
MISSION_PHASE_NAME = MR_Phase_8
PROCESSING_LEVEL_ID = 3
PRODUCT_CREATION_TIME = 2016-03-15T10:38:17.000Z
PRODUCT_ID = "H2328_0000_GR3.JP2"
RELEASE_ID = 0029
REVISION_ID = 0000
/* QUALITY DATA ELEMENTS */
DATA_QUALITY_ID = 1
DATA_QUALITY_DESC = "Data calculated based on original SPICE kernels"
/* TIME DATA ELEMENTS */
SPACECRAFT_CLOCK_START_COUNT = "1/0079278878.57159"
SPACECRAFT_CLOCK_STOP_COUNT = "1/0079279199.55782"
START_TIME = 2005-11-05T13:55:16.360Z
STOP_TIME = 2005-11-05T13:59:36.109Z
/* ORBITAL DATA ELEMENTS */
ASCENDING_NODE_LONGITUDE = 179.38
MAXIMUM_RESOLUTION = 44.8
FOOTPRINT_POINT_LATITUDE = (-71.3753,-71.4457,-71.4742,-71.5009, -71.343,-70.9855,-70.6266,-70.2669, -69.7257,-69.3643,-69.0029,-68.6395, -68.2769,-67.913,-67.5485,-67.1833, -66.6365,-66.2818,-65.9264,-65.5703, -65.0401,-64.6946,-64.3487,-64.0024, -63.6557,-63.3138,-62.9782,-62.6424, -62.3062,-61.9698,-61.4653,-61.1395, -60.8139,-60.4879,-60.1616,-59.8351, -59.5084,-59.0208,-58.706,-58.232, -57.9157,-57.4407,-57.124,-56.8071, -56.49,-56.0143,-55.397,-54.9388, -54.633,-54.5948,-54.5814,-54.5624, -54.5478,-55.0059,-55.4615,-55.765, -56.0817,-56.397,-56.7124,-57.0278, -57.5004,-57.9734,-58.2886,-58.6033, -58.917,-59.2366,-59.5632,-59.888, -60.3743,-61.0228,-61.3463,-61.679, -62.0134,-62.3473,-62.6808,-63.0142, -63.3471,-63.6913,-64.0348,-64.3781, -64.7207,-65.2399,-65.5928,-65.9453, -66.2964,-66.6506,-67.0123,-67.3733, -67.7335,-68.0929,-68.4517,-68.8088, -69.1667,-69.5232,-69.8786,-70.2329, -70.5862,-70.9386,-71.2901,-71.3753)
FOOTPRINT_POINT_LONGITUDE = (329.045,330.33,330.905,331.483,332.432 ,332.545,332.66,332.772,332.935,333.036 ,333.128,333.229,333.313,333.401, 333.485,333.566,333.682,333.755,333.826 ,333.896,333.996,334.06,334.121,334.18, 334.237,334.291,334.344,334.394,334.442 ,334.489,334.558,334.604,334.645, 334.686,334.726,334.764,334.801,334.859 ,334.89,334.943,334.978,335.029,335.061 ,335.092,335.123,335.166,335.221,335.26 ,335.286,334.812,334.452,333.965, 333.601,333.54,333.473,333.427,333.381, 333.331,333.28,333.228,333.148,333.067, 333.011,332.954,332.893,332.827,332.764 ,332.695,332.589,332.444,332.367, 332.286,332.201,332.114,332.025,331.934 ,331.84,331.74,331.636,331.53,331.42, 331.248,331.125,330.999,330.866,330.73, 330.584,330.434,330.277,330.116,329.949 ,329.773,329.596,329.411,329.217, 329.016,328.807,328.591,328.365, 329.045)
ORBIT_NUMBER = 2328
ORBITAL_ECCENTRICITY = 0.572
ORBITAL_INCLINATION = 86.64
ORBITAL_SEMIMAJOR_AXIS = 8562.56
PERIAPSIS_ALTITUDE = 277.39
PERIAPSIS_ARGUMENT_ANGLE = 308.94
PERIAPSIS_TIME = 2005-11-05T14:00:35.000Z
SPACECRAFT_ORIENTATION = (0.0,-1.0,0.0)
^MEX_ORIENTATION_DESC = "MEX_ORIENTATION_DESC.TXT"
SPACECRAFT_POINTING_MODE = ACROSSTRACK
^MEX_POINTING_DESC = "MEX_POINTING_DESC.TXT"
RIGHT_ASCENSION = -1e+32
DECLINATION = -1e+32
OFFSET_ANGLE = -0.12
SPACECRAFT_SOLAR_DISTANCE = 2.18238e+08
TARGET_NAME = MARS
/* CAMERA DATA ELEMENTS */
DETECTOR_TEMPERATURE = 18.1666
FOCAL_PLANE_TEMPERATURE = 8.1755
INST_CMPRS_NAME = "DISCRETE COSINE TRANSFORMATION (DCT)"
INST_CMPRS_RATIO = 23.5117
INST_CMPRS_QUALITY = 0
INST_CMPRS_QUANTZ_TBL_ID = 0
INSTRUMENT_TEMPERATURE = 11.234
LENS_TEMPERATURE = 8.5833
MACROPIXEL_SIZE = 4
MISSING_FRAMES = 0
PIXEL_SUBSAMPLING_FLAG = N
SIGNAL_CHAIN_ID = 2
/* RADIOMETRIC DATA ELEMENTS */
BANDWIDTH = 88.0
CENTER_FILTER_WAVELENGTH = 538.0
RADIANCE_OFFSET = 1.70559
RADIANCE_SCALING_FACTOR = 0.0037538
REFLECTANCE_SCALING_FACTOR = 0.000153929
MEX:REFLECTANCE_OFFSET = 0.0699398
/* IMAGE OBJECT DEFINITIONS */
OBJECT = IMAGE
  INTERCHANGE_FORMAT = BINARY
  LINES = 20114
  LINE_SAMPLES = 3296
  SAMPLE_TYPE = UNSIGNED_INTEGER
  SAMPLE_BITS = 8
  BANDS = 1
  BAND_STORAGE_TYPE = BAND_SEQUENTIAL
  MAXIMUM = 154
  MEAN = 126.492
  MINIMUM = 96
  STANDARD_DEVIATION = 9.0209
END_OBJECT = IMAGE
/* MAP OBJECT DEFINITIONS */
OBJECT = IMAGE_MAP_PROJECTION
  ^DATA_SET_MAP_PROJECTION_CATALOG= "DSMAP.CAT"
  A_AXIS_RADIUS = 3396.0
  B_AXIS_RADIUS = 3396.0
  C_AXIS_RADIUS = 3396.0
  CENTER_LATITUDE = 0.0
  CENTER_LONGITUDE = 333.0
  COORDINATE_SYSTEM_NAME = PLANETOGRAPHIC
  COORDINATE_SYSTEM_TYPE = "BODY-FIXED ROTATING"
  EASTERNMOST_LONGITUDE = 335.286
  FIRST_STANDARD_PARALLEL = "N/A"
  LINE_FIRST_PIXEL = 1
  LINE_LAST_PIXEL = 20114
  LINE_PROJECTION_OFFSET = -64666.625
  MAP_PROJECTION_ROTATION = 0.0
  MAP_PROJECTION_TYPE = SINUSOIDAL
  MAP_RESOLUTION = 1185.42760773333
  MAP_SCALE = 0.05
  MAXIMUM_LATITUDE = -54.5478
  MINIMUM_LATITUDE = -71.5009
  POSITIVE_LONGITUDE_DIRECTION = EAST
  REFERENCE_LATITUDE = "N/A"
  REFERENCE_LONGITUDE = "N/A"
  SAMPLE_FIRST_PIXEL = 1
  SAMPLE_LAST_PIXEL = 3296
  SAMPLE_PROJECTION_OFFSET = 1732.125
  SECOND_STANDARD_PARALLEL = "N/A"
  WESTERNMOST_LONGITUDE = 328.365
END_OBJECT = IMAGE_MAP_PROJECTION
/* The JPEG2000 image data file associated with this label. */
OBJECT = COMPRESSED_FILE
  FILE_NAME = "H2328_0000_GR3.JP2"
  RECORD_TYPE = UNDEFINED
  FILE_RECORDS = UNK
  ENCODING_TYPE = "JP2"
  INTERCHANGE_FORMAT = BINARY
  UNCOMPRESSED_FILE_NAME = "H2328_0000_GR3.IMG"
  REQUIRED_STORAGE_BYTES = "66318816"
  ^DESCRIPTION = "JP2INFO.TXT"
END_OBJECT = COMPRESSED_FILE
END
