PDS_VERSION_ID = PDS3
/* FILE DATA ELEMENTS */
RECORD_TYPE = STREAM
/* POINTERS TO DATA OBJECTS */
^COMPRESSED_FILE = "H2330_0000_RE3.JP2"
/* IDENTIFICATION DATA ELEMENTS */
DATA_SET_ID = "MEX-M-HRSC-5-REFDR-MAPPROJECTED-V3.0"
DATA_SET_NAME = "MARS EXPRESS HRSC MAP PROJECTED REFDR V3.0"
DETECTOR_ID = MEX_HRSC_RED
EVENT_TYPE = "MARS-REGIONAL-MAPPING-Gl-Pf-Mw"
INSTRUMENT_HOST_ID = MEX
INSTRUMENT_HOST_NAME = "MARS EXPRESS"
INSTRUMENT_ID = HRSC
INSTRUMENT_NAME = "HIGH RESOLUTION STEREO CAMERA"
MISSION_NAME = "MARS EXPRESS"
MISSION_PHASE_NAME = MR_Phase_8
PROCESSING_LEVEL_ID = 3
PRODUCT_CREATION_TIME = 2016-03-15T10:38:17.000Z
PRODUCT_ID = "H2330_0000_RE3.JP2"
RELEASE_ID = 0029
REVISION_ID = 0000
/* QUALITY DATA ELEMENTS */
DATA_QUALITY_ID = 1
DATA_QUALITY_DESC = "Data calculated based on original SPICE kernels"
/* TIME DATA ELEMENTS */
SPACECRAFT_CLOCK_START_COUNT = "1/0079327045.57305"
SPACECRAFT_CLOCK_STOP_COUNT = "1/0079327394.38777"
START_TIME = 2005-11-06T03:19:06.019Z
STOP_TIME = 2005-11-06T03:23:14.768Z
/* ORBITAL DATA ELEMENTS */
ASCENDING_NODE_LONGITUDE = 179.34
MAXIMUM_RESOLUTION = 53.1
FOOTPRINT_POINT_LATITUDE = (-82.4153,-82.5166,-82.6128,-82.7035, -82.7883,-82.8671,-82.4281,-82.0494, -81.6701,-81.2968,-80.9236,-80.3736, -80.0051,-79.6385,-79.2778,-78.9228, -78.3879,-77.8651,-77.3438,-76.999, -76.6588,-76.1485,-75.6367,-75.2959, -74.7827,-74.4407,-74.0975,-73.583, -73.2396,-72.8961,-72.5951,-72.312, -72.0251,-71.7379,-71.4429,-71.013, -70.7252,-70.4363,-70.1464,-69.7102, -69.274,-68.983,-68.6918,-68.4094, -67.9851,-67.7021,-67.4199,-67.136, -66.8588,-66.6305,-66.5955,-66.5398, -66.6446,-67.0551,-67.3407,-67.614, -67.8962,-68.1745,-68.4488,-68.8821, -69.1743,-69.4581,-69.7493,-70.0378, -70.3234,-70.6066,-70.8946,-71.1824, -71.4671,-71.7516,-72.0319,-72.3185, -72.6049,-73.1097,-73.4458,-73.7817, -74.2814,-74.6163,-74.9513,-75.4532, -75.7836,-76.1161,-76.6087,-76.9404, -77.2788,-77.6082,-77.948,-78.2893, -78.8012,-79.1427,-79.486,-80.008, -80.3544,-80.7057,-81.0542,-81.4049, -81.5803,-81.9276,-82.2705,-82.4153)
FOOTPRINT_POINT_LONGITUDE = (118.571,120.18,121.841,123.551,125.311 ,127.125,129.308,129.971,130.572, 131.108,131.604,132.259,132.651,132.994 ,133.329,133.64,134.052,134.432,134.773 ,134.976,135.171,135.446,135.7,135.862, 136.088,136.231,136.367,136.561,136.684 ,136.802,136.904,137.006,137.097, 137.186,137.259,137.385,137.465,137.54, 137.612,137.715,137.813,137.876,137.936 ,137.993,138.074,138.127,138.179, 138.228,138.272,137.689,137.022,136.181 ,135.434,135.291,135.189,135.088, 134.981,134.872,134.761,134.58,134.452, 134.325,134.189,134.051,133.909,133.764 ,133.611,133.453,133.292,133.125, 132.954,132.773,132.586,132.239,131.995 ,131.74,131.337,131.052,130.752,130.274 ,129.939,129.584,129.023,128.619, 128.182,127.734,127.24,126.714,125.859, 125.24,124.572,123.457,122.644,121.749, 120.783,119.721,119.152,117.94,116.62, 118.571)
ORBIT_NUMBER = 2330
ORBITAL_ECCENTRICITY = 0.573
ORBITAL_INCLINATION = 86.62
ORBITAL_SEMIMAJOR_AXIS = 8566.28
PERIAPSIS_ALTITUDE = 277.75
PERIAPSIS_ARGUMENT_ANGLE = 308.61
PERIAPSIS_TIME = 2005-11-06T03:26:42.000Z
SPACECRAFT_ORIENTATION = (0.0,-1.0,0.0)
^MEX_ORIENTATION_DESC = "MEX_ORIENTATION_DESC.TXT"
SPACECRAFT_POINTING_MODE = ACROSSTRACK
^MEX_POINTING_DESC = "MEX_POINTING_DESC.TXT"
RIGHT_ASCENSION = -1e+32
DECLINATION = -1e+32
OFFSET_ANGLE = -0.56
SPACECRAFT_SOLAR_DISTANCE = 2.1834e+08
TARGET_NAME = MARS
/* CAMERA DATA ELEMENTS */
DETECTOR_TEMPERATURE = 18.3705
FOCAL_PLANE_TEMPERATURE = 7.5638
INST_CMPRS_NAME = "DISCRETE COSINE TRANSFORMATION (DCT)"
INST_CMPRS_RATIO = 25.2202
INST_CMPRS_QUALITY = 0
INST_CMPRS_QUANTZ_TBL_ID = 0
INSTRUMENT_TEMPERATURE = 11.0301
LENS_TEMPERATURE = 8.1755
MACROPIXEL_SIZE = 4
MISSING_FRAMES = 0
PIXEL_SUBSAMPLING_FLAG = N
SIGNAL_CHAIN_ID = 2
/* RADIOMETRIC DATA ELEMENTS */
BANDWIDTH = 48.0
CENTER_FILTER_WAVELENGTH = 748.0
RADIANCE_OFFSET = 1.19405
RADIANCE_SCALING_FACTOR = 0.00356766
REFLECTANCE_SCALING_FACTOR = 0.000388126
MEX:REFLECTANCE_OFFSET = 0.129901
/* IMAGE OBJECT DEFINITIONS */
OBJECT = IMAGE
  INTERCHANGE_FORMAT = BINARY
  LINES = 19547
  LINE_SAMPLES = 4878
  SAMPLE_TYPE = UNSIGNED_INTEGER
  SAMPLE_BITS = 8
  BANDS = 1
  BAND_STORAGE_TYPE = BAND_SEQUENTIAL
  MAXIMUM = 187
  MEAN = 144.465
  MINIMUM = 104
  STANDARD_DEVIATION = 16.4888
END_OBJECT = IMAGE
/* MAP OBJECT DEFINITIONS */
OBJECT = IMAGE_MAP_PROJECTION
  ^DATA_SET_MAP_PROJECTION_CATALOG= "DSMAP.CAT"
  A_AXIS_RADIUS = 3396.0
  B_AXIS_RADIUS = 3396.0
  C_AXIS_RADIUS = 3396.0
  CENTER_LATITUDE = 0.0
  CENTER_LONGITUDE = 134.0
  COORDINATE_SYSTEM_NAME = PLANETOGRAPHIC
  COORDINATE_SYSTEM_TYPE = "BODY-FIXED ROTATING"
  EASTERNMOST_LONGITUDE = 138.272
  FIRST_STANDARD_PARALLEL = "N/A"
  LINE_FIRST_PIXEL = 1
  LINE_LAST_PIXEL = 19547
  LINE_PROJECTION_OFFSET = -78881.875
  MAP_PROJECTION_ROTATION = 0.0
  MAP_PROJECTION_TYPE = SINUSOIDAL
  MAP_RESOLUTION = 1185.42760773333
  MAP_SCALE = 0.05
  MAXIMUM_LATITUDE = -66.5398
  MINIMUM_LATITUDE = -82.86709999999999
  POSITIVE_LONGITUDE_DIRECTION = EAST
  REFERENCE_LATITUDE = "N/A"
  REFERENCE_LONGITUDE = "N/A"
  SAMPLE_FIRST_PIXEL = 1
  SAMPLE_LAST_PIXEL = 4878
  SAMPLE_PROJECTION_OFFSET = 2870.125
  SECOND_STANDARD_PARALLEL = "N/A"
  WESTERNMOST_LONGITUDE = 116.62
END_OBJECT = IMAGE_MAP_PROJECTION
/* The JPEG2000 image data file associated with this label. */
OBJECT = COMPRESSED_FILE
  FILE_NAME = "H2330_0000_RE3.JP2"
  RECORD_TYPE = UNDEFINED
  FILE_RECORDS = UNK
  ENCODING_TYPE = "JP2"
  INTERCHANGE_FORMAT = BINARY
  UNCOMPRESSED_FILE_NAME = "H2330_0000_RE3.IMG"
  REQUIRED_STORAGE_BYTES = "95374656"
  ^DESCRIPTION = "JP2INFO.TXT"
END_OBJECT = COMPRESSED_FILE
END
