PDS_VERSION_ID = PDS3
/* FILE DATA ELEMENTS */
RECORD_TYPE = STREAM
/* POINTERS TO DATA OBJECTS */
^COMPRESSED_FILE = "H2331_0000_P13.JP2"
/* IDENTIFICATION DATA ELEMENTS */
DATA_SET_ID = "MEX-M-HRSC-5-REFDR-MAPPROJECTED-V3.0"
DATA_SET_NAME = "MARS EXPRESS HRSC MAP PROJECTED REFDR V3.0"
DETECTOR_ID = MEX_HRSC_P1
EVENT_TYPE = "MARS-REGIONAL-MAPPING-Vo-Im-Gl"
INSTRUMENT_HOST_ID = MEX
INSTRUMENT_HOST_NAME = "MARS EXPRESS"
INSTRUMENT_ID = HRSC
INSTRUMENT_NAME = "HIGH RESOLUTION STEREO CAMERA"
MISSION_NAME = "MARS EXPRESS"
MISSION_PHASE_NAME = MR_Phase_8
PROCESSING_LEVEL_ID = 3
PRODUCT_CREATION_TIME = 2016-03-15T10:38:17.000Z
PRODUCT_ID = "H2331_0000_P13.JP2"
RELEASE_ID = 0029
REVISION_ID = 0000
/* QUALITY DATA ELEMENTS */
DATA_QUALITY_ID = 1
DATA_QUALITY_DESC = "Data calculated based on original SPICE kernels"
/* TIME DATA ELEMENTS */
SPACECRAFT_CLOCK_START_COUNT = "1/0079351222.57143"
SPACECRAFT_CLOCK_STOP_COUNT = "1/0079351687.57067"
START_TIME = 2005-11-06T10:00:50.449Z
STOP_TIME = 2005-11-06T10:07:29.101Z
/* ORBITAL DATA ELEMENTS */
ASCENDING_NODE_LONGITUDE = 179.32
MAXIMUM_RESOLUTION = 24.3
FOOTPRINT_POINT_LATITUDE = (-81.9952,-82.3621,-82.6948,-82.8993, -82.6204,-82.3398,-82.0607,-81.4969, -80.9359,-80.3767,-79.8212,-79.2697, -78.7221,-78.1807,-77.6444,-76.8475, -76.3232,-75.8038,-75.2893,-74.5258, -73.7739,-73.2759,-72.7883,-72.2994, -71.8037,-71.3092,-70.8159,-70.3162, -69.8136,-69.3088,-68.8655,-68.2252, -67.7994,-67.3721,-66.944,-66.5143, -65.8699,-65.2236,-64.8045,-64.3836, -63.9578,-63.5369,-63.1263,-62.7143, -62.3024,-61.6861,-61.2862,-60.8854, -60.4839,-60.0817,-59.6794,-59.2874, -59.2015,-59.2685,-59.8627,-60.2611, -60.6593,-61.0562,-61.4522,-62.0616, -62.4696,-62.878,-63.2835,-63.9109, -64.328,-64.9497,-65.3757,-66.0118, -66.435,-67.0688,-67.4905,-67.9107, -68.3291,-68.7458,-69.208,-69.6993, -70.1861,-70.9141,-71.3967,-71.8792, -72.3551,-72.8278,-73.3083,-74.0323, -74.5204,-75.0121,-75.503,-75.9992, -76.4926,-76.9964,-77.7532,-78.2611, -78.7658,-79.2722,-79.7766,-80.2769, -80.7694,-81.255,-81.4925,-81.9952)
FOOTPRINT_POINT_LONGITUDE = (6.60387,9.8593,13.3622,16.92,18.0317, 19.0589,20.0007,21.6946,23.1528,24.4235 ,25.538,26.5232,27.4003,28.184,28.8884, 29.8238,30.3768,30.8836,31.3473,31.9762 ,32.5357,32.8772,33.192,33.4902,33.7749 ,34.0428,34.2983,34.5401,34.77,34.9887, 35.1717,35.4211,35.5806,35.7341,35.8821 ,36.0247,36.2304,36.426,36.5469,36.6631 ,36.776,36.8841,36.9855,37.0836,37.1792 ,37.3162,37.4019,37.485,37.5658,37.6445 ,37.7214,37.7938,37.1324,35.659,35.4927 ,35.3758,35.2565,35.1327,35.0049, 34.8015,34.6585,34.5138,34.3601,34.1125 ,33.9401,33.6666,33.4702,33.1579, 32.9416,32.6054,32.3725,32.1302,31.8777 ,31.6147,31.2953,30.9481,30.5789, 29.9959,29.583,29.1422,28.6814,28.1946, 27.6689,26.8091,26.1866,25.5023,24.7643 ,23.9623,23.0734,22.1244,20.5123, 19.3061,17.9639,16.469,14.8003,12.9293, 10.8214,8.43874,7.13077,6.60387)
ORBIT_NUMBER = 2331
ORBITAL_ECCENTRICITY = 0.573
ORBITAL_INCLINATION = 86.63
ORBITAL_SEMIMAJOR_AXIS = 8565.9
PERIAPSIS_ALTITUDE = 277.4
PERIAPSIS_ARGUMENT_ANGLE = 308.43
PERIAPSIS_TIME = 2005-11-06T10:09:44.000Z
SPACECRAFT_ORIENTATION = (0.0,-1.0,0.0)
^MEX_ORIENTATION_DESC = "MEX_ORIENTATION_DESC.TXT"
SPACECRAFT_POINTING_MODE = ACROSSTRACK
^MEX_POINTING_DESC = "MEX_POINTING_DESC.TXT"
RIGHT_ASCENSION = -1e+32
DECLINATION = -1e+32
OFFSET_ANGLE = 1.0
SPACECRAFT_SOLAR_DISTANCE = 2.18391e+08
TARGET_NAME = MARS
/* CAMERA DATA ELEMENTS */
DETECTOR_TEMPERATURE = 17.5549
FOCAL_PLANE_TEMPERATURE = 8.1755
INST_CMPRS_NAME = "DISCRETE COSINE TRANSFORMATION (DCT)"
INST_CMPRS_RATIO = 17.6642
INST_CMPRS_QUALITY = 0
INST_CMPRS_QUANTZ_TBL_ID = 0
INSTRUMENT_TEMPERATURE = 10.8262
LENS_TEMPERATURE = 8.5833
MACROPIXEL_SIZE = 2
MISSING_FRAMES = 2
PIXEL_SUBSAMPLING_FLAG = N
SIGNAL_CHAIN_ID = 3
/* RADIOMETRIC DATA ELEMENTS */
BANDWIDTH = 174.0
CENTER_FILTER_WAVELENGTH = 675.0
RADIANCE_OFFSET = 4.36512
RADIANCE_SCALING_FACTOR = 0.0136945
REFLECTANCE_SCALING_FACTOR = 0.000351312
MEX:REFLECTANCE_OFFSET = 0.111981
/* IMAGE OBJECT DEFINITIONS */
OBJECT = IMAGE
  INTERCHANGE_FORMAT = BINARY
  LINES = 56240
  LINE_SAMPLES = 14905
  SAMPLE_TYPE = UNSIGNED_INTEGER
  SAMPLE_BITS = 8
  BANDS = 1
  BAND_STORAGE_TYPE = BAND_SEQUENTIAL
  MAXIMUM = 168
  MEAN = 129.592
  MINIMUM = 89
  STANDARD_DEVIATION = 13.6282
END_OBJECT = IMAGE
/* MAP OBJECT DEFINITIONS */
OBJECT = IMAGE_MAP_PROJECTION
  ^DATA_SET_MAP_PROJECTION_CATALOG= "DSMAP.CAT"
  A_AXIS_RADIUS = 3396.0
  B_AXIS_RADIUS = 3396.0
  C_AXIS_RADIUS = 3396.0
  CENTER_LATITUDE = 0.0
  CENTER_LONGITUDE = 33.0
  COORDINATE_SYSTEM_NAME = PLANETOGRAPHIC
  COORDINATE_SYSTEM_TYPE = "BODY-FIXED ROTATING"
  EASTERNMOST_LONGITUDE = 37.7938
  FIRST_STANDARD_PARALLEL = "N/A"
  LINE_FIRST_PIXEL = 1
  LINE_LAST_PIXEL = 56240
  LINE_PROJECTION_OFFSET = -140105.25
  MAP_PROJECTION_ROTATION = 0.0
  MAP_PROJECTION_TYPE = SINUSOIDAL
  MAP_RESOLUTION = 2370.85521546667
  MAP_SCALE = 0.025
  MAXIMUM_LATITUDE = -59.2015
  MINIMUM_LATITUDE = -82.8993
  POSITIVE_LONGITUDE_DIRECTION = EAST
  REFERENCE_LATITUDE = "N/A"
  REFERENCE_LONGITUDE = "N/A"
  SAMPLE_FIRST_PIXEL = 1
  SAMPLE_LAST_PIXEL = 14905
  SAMPLE_PROJECTION_OFFSET = 9025.75
  SECOND_STANDARD_PARALLEL = "N/A"
  WESTERNMOST_LONGITUDE = 6.60387
END_OBJECT = IMAGE_MAP_PROJECTION
/* The JPEG2000 image data file associated with this label. */
OBJECT = COMPRESSED_FILE
  FILE_NAME = "H2331_0000_P13.JP2"
  RECORD_TYPE = UNDEFINED
  FILE_RECORDS = UNK
  ENCODING_TYPE = "JP2"
  INTERCHANGE_FORMAT = BINARY
  UNCOMPRESSED_FILE_NAME = "H2331_0000_P13.IMG"
  REQUIRED_STORAGE_BYTES = "838301915"
  ^DESCRIPTION = "JP2INFO.TXT"
END_OBJECT = COMPRESSED_FILE
END
