PDS_VERSION_ID = PDS3
/* FILE DATA ELEMENTS */
RECORD_TYPE = STREAM
/* POINTERS TO DATA OBJECTS */
^COMPRESSED_FILE = "H2338_0000_P13.JP2"
/* IDENTIFICATION DATA ELEMENTS */
DATA_SET_ID = "MEX-M-HRSC-5-REFDR-MAPPROJECTED-V3.0"
DATA_SET_NAME = "MARS EXPRESS HRSC MAP PROJECTED REFDR V3.0"
DETECTOR_ID = MEX_HRSC_P1
EVENT_TYPE = "MARS-REGIONAL-STEREO-Gl-La"
INSTRUMENT_HOST_ID = MEX
INSTRUMENT_HOST_NAME = "MARS EXPRESS"
INSTRUMENT_ID = HRSC
INSTRUMENT_NAME = "HIGH RESOLUTION STEREO CAMERA"
MISSION_NAME = "MARS EXPRESS"
MISSION_PHASE_NAME = MR_Phase_8
PROCESSING_LEVEL_ID = 3
PRODUCT_CREATION_TIME = 2016-03-15T10:38:17.000Z
PRODUCT_ID = "H2338_0000_P13.JP2"
RELEASE_ID = 0029
REVISION_ID = 0000
/* QUALITY DATA ELEMENTS */
DATA_QUALITY_ID = 1
DATA_QUALITY_DESC = "Data calculated based on original SPICE kernels"
/* TIME DATA ELEMENTS */
SPACECRAFT_CLOCK_START_COUNT = "1/0079520421.57325"
SPACECRAFT_CLOCK_STOP_COUNT = "1/0079520680.57589"
START_TIME = 2005-11-08T09:00:53.201Z
STOP_TIME = 2005-11-08T09:03:37.376Z
/* ORBITAL DATA ELEMENTS */
ASCENDING_NODE_LONGITUDE = 179.17
MAXIMUM_RESOLUTION = 37.8
FOOTPRINT_POINT_LATITUDE = (-85.822,-86.1379,-86.3351,-86.5713, -86.8657,-87.1788,-87.3937,-87.6271, -87.5599,-87.4799,-87.3866,-87.2827, -87.1688,-87.046,-86.8494,-86.7096, -86.5668,-86.4188,-86.1912,-86.0355, -85.877,-85.7176,-85.5557,-85.3922, -85.2281,-85.0623,-84.8966,-84.7319, -84.5649,-84.397,-84.2302,-84.0616, -83.8923,-83.7249,-83.5583,-83.3902, -83.2226,-83.0561,-82.8888,-82.6379, -82.4722,-82.3059,-82.0559,-81.8916, -81.7264,-81.5608,-81.3966,-81.0707, -80.7435,-80.4217,-80.0984,-79.8993, -79.8099,-79.7544,-79.7008,-79.5964, -79.5184,-79.4161,-79.8647,-80.1621, -80.4624,-80.7602,-80.9094,-81.0591, -81.2076,-81.3555,-81.5786,-81.8004, -81.9469,-82.0948,-82.2411,-82.4577, -82.6017,-82.7458,-82.887,-83.0986, -83.2372,-83.3729,-83.5096,-83.6434, -83.7746,-83.9044,-84.0315,-84.155, -84.277,-84.3959,-84.5106,-84.6224, -84.7293,-84.8308,-84.9759,-85.065, -85.1491,-85.2623,-85.3294,-85.3889, -85.4413,-85.502,-85.5479,-85.822)
FOOTPRINT_POINT_LONGITUDE = (356.37,356.962,357.387,357.964,358.815 ,359.926,360.852,363.628,368.083, 372.346,376.35,380.024,383.393,386.485, 390.613,393.118,395.344,397.4,400.152, 401.803,403.328,404.727,406.023,407.226 ,408.344,409.382,410.334,411.211, 412.046,412.832,413.564,414.263,414.921 ,415.531,416.097,416.642,417.157, 417.642,418.105,418.758,419.165,419.555 ,420.109,420.453,420.786,421.106, 421.408,421.975,422.503,422.984,423.435 ,422.968,421.175,420.167,419.253, 417.615,416.489,415.115,413.979,413.159 ,412.272,411.325,410.823,410.3,409.759, 409.2,408.311,407.37,406.714,406.021, 405.303,404.174,403.372,402.535,401.668 ,400.281,399.306,398.293,397.219, 396.098,394.93,393.699,392.408,391.065, 389.647,388.159,386.61,384.975,383.27, 381.502,378.67,376.698,374.629,371.396, 369.135,366.809,364.414,360.733,356.86, 356.37)
ORBIT_NUMBER = 2338
ORBITAL_ECCENTRICITY = 0.573
ORBITAL_INCLINATION = 86.64
ORBITAL_SEMIMAJOR_AXIS = 8563.42
PERIAPSIS_ALTITUDE = 276.51
PERIAPSIS_ARGUMENT_ANGLE = 307.19
PERIAPSIS_TIME = 2005-11-08T09:11:06.000Z
SPACECRAFT_ORIENTATION = (0.0,-1.0,0.0)
^MEX_ORIENTATION_DESC = "MEX_ORIENTATION_DESC.TXT"
SPACECRAFT_POINTING_MODE = NADIR
^MEX_POINTING_DESC = "MEX_POINTING_DESC.TXT"
RIGHT_ASCENSION = -1e+32
DECLINATION = -1e+32
OFFSET_ANGLE = -1e+32
SPACECRAFT_SOLAR_DISTANCE = 2.18748e+08
TARGET_NAME = MARS
/* CAMERA DATA ELEMENTS */
DETECTOR_TEMPERATURE = 17.351
FOCAL_PLANE_TEMPERATURE = 8.1755
INST_CMPRS_NAME = "DISCRETE COSINE TRANSFORMATION (DCT)"
INST_CMPRS_RATIO = 12.7875
INST_CMPRS_QUALITY = 0
INST_CMPRS_QUANTZ_TBL_ID = 0
INSTRUMENT_TEMPERATURE = 10.8262
LENS_TEMPERATURE = 8.5833
MACROPIXEL_SIZE = 2
MISSING_FRAMES = 0
PIXEL_SUBSAMPLING_FLAG = N
SIGNAL_CHAIN_ID = 3
/* RADIOMETRIC DATA ELEMENTS */
BANDWIDTH = 174.0
CENTER_FILTER_WAVELENGTH = 675.0
RADIANCE_OFFSET = 4.36334
RADIANCE_SCALING_FACTOR = 0.0161452
REFLECTANCE_SCALING_FACTOR = 0.00041554
MEX:REFLECTANCE_OFFSET = 0.112302
/* IMAGE OBJECT DEFINITIONS */
OBJECT = IMAGE
  INTERCHANGE_FORMAT = BINARY
  LINES = 19210
  LINE_SAMPLES = 15720
  SAMPLE_TYPE = UNSIGNED_INTEGER
  SAMPLE_BITS = 8
  BANDS = 1
  BAND_STORAGE_TYPE = BAND_SEQUENTIAL
  MAXIMUM = 252
  MEAN = 152.546
  MINIMUM = 122
  STANDARD_DEVIATION = 22.8608
END_OBJECT = IMAGE
/* MAP OBJECT DEFINITIONS */
OBJECT = IMAGE_MAP_PROJECTION
  ^DATA_SET_MAP_PROJECTION_CATALOG= "DSMAP.CAT"
  A_AXIS_RADIUS = 3396.0
  B_AXIS_RADIUS = 3396.0
  C_AXIS_RADIUS = 3396.0
  CENTER_LATITUDE = 0.0
  CENTER_LONGITUDE = 47.0
  COORDINATE_SYSTEM_NAME = PLANETOGRAPHIC
  COORDINATE_SYSTEM_TYPE = "BODY-FIXED ROTATING"
  EASTERNMOST_LONGITUDE = 63.435
  FIRST_STANDARD_PARALLEL = "N/A"
  LINE_FIRST_PIXEL = 1
  LINE_LAST_PIXEL = 19210
  LINE_PROJECTION_OFFSET = -188317.75
  MAP_PROJECTION_ROTATION = 0.0
  MAP_PROJECTION_TYPE = SINUSOIDAL
  MAP_RESOLUTION = 2370.85521546667
  MAP_SCALE = 0.025
  MAXIMUM_LATITUDE = -79.4161
  MINIMUM_LATITUDE = -87.6271
  POSITIVE_LONGITUDE_DIRECTION = EAST
  REFERENCE_LATITUDE = "N/A"
  REFERENCE_LONGITUDE = "N/A"
  SAMPLE_FIRST_PIXEL = 1
  SAMPLE_LAST_PIXEL = 15720
  SAMPLE_PROJECTION_OFFSET = 8948.75
  SECOND_STANDARD_PARALLEL = "N/A"
  WESTERNMOST_LONGITUDE = -3.63
END_OBJECT = IMAGE_MAP_PROJECTION
/* The JPEG2000 image data file associated with this label. */
OBJECT = COMPRESSED_FILE
  FILE_NAME = "H2338_0000_P13.JP2"
  RECORD_TYPE = UNDEFINED
  FILE_RECORDS = UNK
  ENCODING_TYPE = "JP2"
  INTERCHANGE_FORMAT = BINARY
  UNCOMPRESSED_FILE_NAME = "H2338_0000_P13.IMG"
  REQUIRED_STORAGE_BYTES = "302028360"
  ^DESCRIPTION = "JP2INFO.TXT"
END_OBJECT = COMPRESSED_FILE
END
