PDS_VERSION_ID = PDS3
/* FILE DATA ELEMENTS */
RECORD_TYPE = STREAM
/* POINTERS TO DATA OBJECTS */
^COMPRESSED_FILE = "H2341_0000_GR3.JP2"
/* IDENTIFICATION DATA ELEMENTS */
DATA_SET_ID = "MEX-M-HRSC-5-REFDR-MAPPROJECTED-V3.0"
DATA_SET_NAME = "MARS EXPRESS HRSC MAP PROJECTED REFDR V3.0"
DETECTOR_ID = MEX_HRSC_GREEN
EVENT_TYPE = "MARS-REGIONAL-MAPPING-Vo-Te-Fl"
INSTRUMENT_HOST_ID = MEX
INSTRUMENT_HOST_NAME = "MARS EXPRESS"
INSTRUMENT_ID = HRSC
INSTRUMENT_NAME = "HIGH RESOLUTION STEREO CAMERA"
MISSION_NAME = "MARS EXPRESS"
MISSION_PHASE_NAME = MR_Phase_8
PROCESSING_LEVEL_ID = 3
PRODUCT_CREATION_TIME = 2016-03-15T10:38:17.000Z
PRODUCT_ID = "H2341_0000_GR3.JP2"
RELEASE_ID = 0029
REVISION_ID = 0000
/* QUALITY DATA ELEMENTS */
DATA_QUALITY_ID = 1
DATA_QUALITY_DESC = "Data calculated based on original SPICE kernels"
/* TIME DATA ELEMENTS */
SPACECRAFT_CLOCK_START_COUNT = "1/0079593386.57159"
SPACECRAFT_CLOCK_STOP_COUNT = "1/0079593628.47891"
START_TIME = 2005-11-09T05:16:58.359Z
STOP_TIME = 2005-11-09T05:20:05.022Z
/* ORBITAL DATA ELEMENTS */
ASCENDING_NODE_LONGITUDE = 179.11
MAXIMUM_RESOLUTION = 44
FOOTPRINT_POINT_LATITUDE = (-65.8816,-65.9131,-65.9413,-65.9601, -65.9584,-65.6912,-65.4241,-65.1595, -64.772,-64.5137,-64.255,-63.9962, -63.7371,-63.4775,-63.2177,-62.9657, -62.5894,-62.3384,-62.0873,-61.836, -61.5846,-61.333,-61.0813,-60.8294, -60.5788,-60.3359,-59.9715,-59.7224, -59.3574,-59.114,-58.7488,-58.5052, -58.2616,-58.0177,-57.7742,-57.5303, -57.2863,-57.0418,-56.7983,-56.5629, -56.3277,-56.0924,-55.7393,-55.3861, -55.1506,-54.9151,-54.5616,-54.2087, -53.9729,-53.7381,-53.5718,-53.5607, -53.5508,-53.6556,-53.8908,-54.1264, -54.3619,-54.7152,-54.9491,-55.1835, -55.4175,-55.6524,-56.0045,-56.2391, -56.4736,-56.7079,-56.9488,-57.1924, -57.4352,-57.6786,-57.9213,-58.2854, -58.6493,-59.0129,-59.3764,-59.6187, -59.9877,-60.2295,-60.4711,-60.7191, -60.9698,-61.2203,-61.4703,-61.7209, -61.9708,-62.2206,-62.4702,-62.7198, -62.9687,-63.2219,-63.4805,-63.7385, -63.9959,-64.2533,-64.5103,-64.767, -65.0233,-65.4165,-65.6811,-65.8816)
FOOTPRINT_POINT_LONGITUDE = (135.32,136.079,136.852,137.442,137.849 ,137.896,137.937,137.983,138.038,138.07 ,138.103,138.134,138.167,138.202, 138.236,138.272,138.317,138.347,138.375 ,138.402,138.429,138.456,138.481, 138.506,138.531,138.555,138.588,138.612 ,138.645,138.666,138.696,138.715, 138.733,138.752,138.767,138.783,138.8, 138.821,138.841,138.861,138.879,138.897 ,138.923,138.948,138.964,138.98,139.003 ,139.021,139.037,139.043,138.691, 138.195,137.864,137.396,137.371,137.346 ,137.32,137.28,137.255,137.228,137.201, 137.173,137.129,137.099,137.069,137.038 ,137.005,136.972,136.938,136.903, 136.868,136.814,136.758,136.7,136.64, 136.599,136.534,136.491,136.446,136.4, 136.352,136.302,136.253,136.201,136.148 ,136.094,136.039,135.983,135.926, 135.866,135.803,135.739,135.673,135.606 ,135.538,135.467,135.396,135.282, 135.203,135.32)
ORBIT_NUMBER = 2341
ORBITAL_ECCENTRICITY = 0.572
ORBITAL_INCLINATION = 86.62
ORBITAL_SEMIMAJOR_AXIS = 8563.17
PERIAPSIS_ALTITUDE = 277.63
PERIAPSIS_ARGUMENT_ANGLE = 306.68
PERIAPSIS_TIME = 2005-11-09T05:20:14.000Z
SPACECRAFT_ORIENTATION = (0.0,-1.0,0.0)
^MEX_ORIENTATION_DESC = "MEX_ORIENTATION_DESC.TXT"
SPACECRAFT_POINTING_MODE = ACROSSTRACK
^MEX_POINTING_DESC = "MEX_POINTING_DESC.TXT"
RIGHT_ASCENSION = -1e+32
DECLINATION = -1e+32
OFFSET_ANGLE = -0.62
SPACECRAFT_SOLAR_DISTANCE = 2.18902e+08
TARGET_NAME = MARS
/* CAMERA DATA ELEMENTS */
DETECTOR_TEMPERATURE = 18.3705
FOCAL_PLANE_TEMPERATURE = 6.9521
INST_CMPRS_NAME = "DISCRETE COSINE TRANSFORMATION (DCT)"
INST_CMPRS_RATIO = 24.6945
INST_CMPRS_QUALITY = 0
INST_CMPRS_QUANTZ_TBL_ID = 0
INSTRUMENT_TEMPERATURE = 11.0301
LENS_TEMPERATURE = 8.5833
MACROPIXEL_SIZE = 4
MISSING_FRAMES = 1
PIXEL_SUBSAMPLING_FLAG = N
SIGNAL_CHAIN_ID = 2
/* RADIOMETRIC DATA ELEMENTS */
BANDWIDTH = 88.0
CENTER_FILTER_WAVELENGTH = 538.0
RADIANCE_OFFSET = 1.80185
RADIANCE_SCALING_FACTOR = 0.00279154
REFLECTANCE_SCALING_FACTOR = 0.000115168
MEX:REFLECTANCE_OFFSET = 0.0743373
/* IMAGE OBJECT DEFINITIONS */
OBJECT = IMAGE
  INTERCHANGE_FORMAT = BINARY
  LINES = 14727
  LINE_SAMPLES = 2161
  SAMPLE_TYPE = UNSIGNED_INTEGER
  SAMPLE_BITS = 8
  BANDS = 1
  BAND_STORAGE_TYPE = BAND_SEQUENTIAL
  MAXIMUM = 115
  MEAN = 99.6583
  MINIMUM = 75
  STANDARD_DEVIATION = 3.98511
END_OBJECT = IMAGE
/* MAP OBJECT DEFINITIONS */
OBJECT = IMAGE_MAP_PROJECTION
  ^DATA_SET_MAP_PROJECTION_CATALOG= "DSMAP.CAT"
  A_AXIS_RADIUS = 3396.0
  B_AXIS_RADIUS = 3396.0
  C_AXIS_RADIUS = 3396.0
  CENTER_LATITUDE = 0.0
  CENTER_LONGITUDE = 138.0
  COORDINATE_SYSTEM_NAME = PLANETOGRAPHIC
  COORDINATE_SYSTEM_TYPE = "BODY-FIXED ROTATING"
  EASTERNMOST_LONGITUDE = 139.043
  FIRST_STANDARD_PARALLEL = "N/A"
  LINE_FIRST_PIXEL = 1
  LINE_LAST_PIXEL = 14727
  LINE_PROJECTION_OFFSET = -63455.625
  MAP_PROJECTION_ROTATION = 0.0
  MAP_PROJECTION_TYPE = SINUSOIDAL
  MAP_RESOLUTION = 1185.42760773333
  MAP_SCALE = 0.05
  MAXIMUM_LATITUDE = -53.5508
  MINIMUM_LATITUDE = -65.9601
  POSITIVE_LONGITUDE_DIRECTION = EAST
  REFERENCE_LATITUDE = "N/A"
  REFERENCE_LONGITUDE = "N/A"
  SAMPLE_FIRST_PIXEL = 1
  SAMPLE_LAST_PIXEL = 2161
  SAMPLE_PROJECTION_OFFSET = 1383.625
  SECOND_STANDARD_PARALLEL = "N/A"
  WESTERNMOST_LONGITUDE = 135.203
END_OBJECT = IMAGE_MAP_PROJECTION
/* The JPEG2000 image data file associated with this label. */
OBJECT = COMPRESSED_FILE
  FILE_NAME = "H2341_0000_GR3.JP2"
  RECORD_TYPE = UNDEFINED
  FILE_RECORDS = UNK
  ENCODING_TYPE = "JP2"
  INTERCHANGE_FORMAT = BINARY
  UNCOMPRESSED_FILE_NAME = "H2341_0000_GR3.IMG"
  REQUIRED_STORAGE_BYTES = "31846657"
  ^DESCRIPTION = "JP2INFO.TXT"
END_OBJECT = COMPRESSED_FILE
END
