PDS_VERSION_ID = PDS3
/* FILE DATA ELEMENTS */
RECORD_TYPE = STREAM
/* POINTERS TO DATA OBJECTS */
^COMPRESSED_FILE = "H2341_0000_P23.JP2"
/* IDENTIFICATION DATA ELEMENTS */
DATA_SET_ID = "MEX-M-HRSC-5-REFDR-MAPPROJECTED-V3.0"
DATA_SET_NAME = "MARS EXPRESS HRSC MAP PROJECTED REFDR V3.0"
DETECTOR_ID = MEX_HRSC_P2
EVENT_TYPE = "MARS-REGIONAL-MAPPING-Vo-Te-Fl"
INSTRUMENT_HOST_ID = MEX
INSTRUMENT_HOST_NAME = "MARS EXPRESS"
INSTRUMENT_ID = HRSC
INSTRUMENT_NAME = "HIGH RESOLUTION STEREO CAMERA"
MISSION_NAME = "MARS EXPRESS"
MISSION_PHASE_NAME = MR_Phase_8
PROCESSING_LEVEL_ID = 3
PRODUCT_CREATION_TIME = 2016-03-15T10:38:17.000Z
PRODUCT_ID = "H2341_0000_P23.JP2"
RELEASE_ID = 0029
REVISION_ID = 0000
/* QUALITY DATA ELEMENTS */
DATA_QUALITY_ID = 1
DATA_QUALITY_DESC = "Data calculated based on original SPICE kernels"
/* TIME DATA ELEMENTS */
SPACECRAFT_CLOCK_START_COUNT = "1/0079593386.57159"
SPACECRAFT_CLOCK_STOP_COUNT = "1/0079593628.47891"
START_TIME = 2005-11-09T05:17:21.387Z
STOP_TIME = 2005-11-09T05:20:25.248Z
/* ORBITAL DATA ELEMENTS */
ASCENDING_NODE_LONGITUDE = 179.11
MAXIMUM_RESOLUTION = 45.1
FOOTPRINT_POINT_LATITUDE = (-65.7889,-65.8092,-65.829,-65.8481, -65.8666,-65.8844,-65.8199,-65.4255, -65.0306,-64.7659,-64.5053,-64.2486, -63.8635,-63.6077,-63.3529,-62.9721, -62.7161,-62.4611,-62.2053,-61.8294, -61.5826,-61.2125,-60.9656,-60.7189, -60.4722,-60.1049,-59.8551,-59.4852, -59.2388,-58.9919,-58.7442,-58.497, -58.2495,-58.0106,-57.7708,-57.5326, -57.2946,-57.0583,-56.8228,-56.5879, -56.3513,-56.1158,-55.8794,-55.6438, -55.4076,-55.0537,-54.6996,-54.4632, -54.2242,-53.87,-53.631,-53.5704, -53.5584,-53.5413,-53.5213,-53.7443, -54.0948,-54.3278,-54.6773,-54.9161, -55.1534,-55.3914,-55.745,-55.9804, -56.2153,-56.4506,-56.6865,-56.9223, -57.2759,-57.5131,-57.8694,-58.1066, -58.3527,-58.5994,-58.846,-59.2155, -59.4616,-59.7073,-60.0758,-60.3218, -60.5676,-60.8127,-61.181,-61.4266, -61.7946,-62.0439,-62.2986,-62.68, -62.9354,-63.3169,-63.5679,-63.822, -64.0765,-64.3295,-64.5856,-64.981, -65.2444,-65.5085,-65.7725,-65.7889)
FOOTPRINT_POINT_LONGITUDE = (135.564,135.932,136.305,136.681, 137.061,137.445,137.858,137.925,137.989 ,138.028,138.062,138.095,138.143, 138.177,138.211,138.265,138.296,138.328 ,138.358,138.4,138.427,138.466,138.491, 138.516,138.541,138.582,138.6,138.634, 138.657,138.679,138.698,138.718,138.737 ,138.757,138.771,138.788,138.804, 138.824,138.844,138.865,138.883,138.902 ,138.919,138.937,138.954,138.979, 139.003,139.018,139.028,139.049,139.059 ,138.761,138.511,138.141,137.643, 137.389,137.352,137.327,137.288,137.263 ,137.236,137.209,137.168,137.139, 137.109,137.079,137.049,137.018,136.969 ,136.937,136.887,136.852,136.815, 136.778,136.74,136.681,136.64,136.599, 136.535,136.491,136.446,136.4,136.33, 136.282,136.207,136.155,136.101,136.017 ,135.959,135.87,135.809,135.746,135.682 ,135.617,135.549,135.441,135.367, 135.291,135.213,135.564)
ORBIT_NUMBER = 2341
ORBITAL_ECCENTRICITY = 0.572
ORBITAL_INCLINATION = 86.62
ORBITAL_SEMIMAJOR_AXIS = 8563.17
PERIAPSIS_ALTITUDE = 277.63
PERIAPSIS_ARGUMENT_ANGLE = 306.68
PERIAPSIS_TIME = 2005-11-09T05:20:14.000Z
SPACECRAFT_ORIENTATION = (0.0,-1.0,0.0)
^MEX_ORIENTATION_DESC = "MEX_ORIENTATION_DESC.TXT"
SPACECRAFT_POINTING_MODE = ACROSSTRACK
^MEX_POINTING_DESC = "MEX_POINTING_DESC.TXT"
RIGHT_ASCENSION = -1e+32
DECLINATION = -1e+32
OFFSET_ANGLE = -0.62
SPACECRAFT_SOLAR_DISTANCE = 2.18902e+08
TARGET_NAME = MARS
/* CAMERA DATA ELEMENTS */
DETECTOR_TEMPERATURE = 18.5744
FOCAL_PLANE_TEMPERATURE = 6.9521
INST_CMPRS_NAME = "DISCRETE COSINE TRANSFORMATION (DCT)"
INST_CMPRS_RATIO = 19.1614
INST_CMPRS_QUALITY = 0
INST_CMPRS_QUANTZ_TBL_ID = 0
INSTRUMENT_TEMPERATURE = 11.0301
LENS_TEMPERATURE = 8.5833
MACROPIXEL_SIZE = 4
MISSING_FRAMES = 0
PIXEL_SUBSAMPLING_FLAG = N
SIGNAL_CHAIN_ID = 3
/* RADIOMETRIC DATA ELEMENTS */
BANDWIDTH = 177.0
CENTER_FILTER_WAVELENGTH = 676.5
RADIANCE_OFFSET = 4.7536
RADIANCE_SCALING_FACTOR = 0.0119306
REFLECTANCE_SCALING_FACTOR = 0.000303123
MEX:REFLECTANCE_OFFSET = 0.120775
/* IMAGE OBJECT DEFINITIONS */
OBJECT = IMAGE
  INTERCHANGE_FORMAT = BINARY
  LINES = 14727
  LINE_SAMPLES = 2161
  SAMPLE_TYPE = UNSIGNED_INTEGER
  SAMPLE_BITS = 8
  BANDS = 1
  BAND_STORAGE_TYPE = BAND_SEQUENTIAL
  MAXIMUM = 125
  MEAN = 103.891
  MINIMUM = 74
  STANDARD_DEVIATION = 6.249
END_OBJECT = IMAGE
/* MAP OBJECT DEFINITIONS */
OBJECT = IMAGE_MAP_PROJECTION
  ^DATA_SET_MAP_PROJECTION_CATALOG= "DSMAP.CAT"
  A_AXIS_RADIUS = 3396.0
  B_AXIS_RADIUS = 3396.0
  C_AXIS_RADIUS = 3396.0
  CENTER_LATITUDE = 0.0
  CENTER_LONGITUDE = 138.0
  COORDINATE_SYSTEM_NAME = PLANETOGRAPHIC
  COORDINATE_SYSTEM_TYPE = "BODY-FIXED ROTATING"
  EASTERNMOST_LONGITUDE = 139.059
  FIRST_STANDARD_PARALLEL = "N/A"
  LINE_FIRST_PIXEL = 1
  LINE_LAST_PIXEL = 14727
  LINE_PROJECTION_OFFSET = -63455.625
  MAP_PROJECTION_ROTATION = 0.0
  MAP_PROJECTION_TYPE = SINUSOIDAL
  MAP_RESOLUTION = 1185.42760773333
  MAP_SCALE = 0.05
  MAXIMUM_LATITUDE = -53.5213
  MINIMUM_LATITUDE = -65.8844
  POSITIVE_LONGITUDE_DIRECTION = EAST
  REFERENCE_LATITUDE = "N/A"
  REFERENCE_LONGITUDE = "N/A"
  SAMPLE_FIRST_PIXEL = 1
  SAMPLE_LAST_PIXEL = 2161
  SAMPLE_PROJECTION_OFFSET = 1383.625
  SECOND_STANDARD_PARALLEL = "N/A"
  WESTERNMOST_LONGITUDE = 135.213
END_OBJECT = IMAGE_MAP_PROJECTION
/* The JPEG2000 image data file associated with this label. */
OBJECT = COMPRESSED_FILE
  FILE_NAME = "H2341_0000_P23.JP2"
  RECORD_TYPE = UNDEFINED
  FILE_RECORDS = UNK
  ENCODING_TYPE = "JP2"
  INTERCHANGE_FORMAT = BINARY
  UNCOMPRESSED_FILE_NAME = "H2341_0000_P23.IMG"
  REQUIRED_STORAGE_BYTES = "31846657"
  ^DESCRIPTION = "JP2INFO.TXT"
END_OBJECT = COMPRESSED_FILE
END
