PDS_VERSION_ID = PDS3
/* FILE DATA ELEMENTS */
RECORD_TYPE = STREAM
/* POINTERS TO DATA OBJECTS */
^COMPRESSED_FILE = "H2341_0001_BL3.JP2"
/* IDENTIFICATION DATA ELEMENTS */
DATA_SET_ID = "MEX-M-HRSC-5-REFDR-MAPPROJECTED-V3.0"
DATA_SET_NAME = "MARS EXPRESS HRSC MAP PROJECTED REFDR V3.0"
DETECTOR_ID = MEX_HRSC_BLUE
EVENT_TYPE = "MARS-REGIONAL-MAPPING-Te-Im-Fl"
INSTRUMENT_HOST_ID = MEX
INSTRUMENT_HOST_NAME = "MARS EXPRESS"
INSTRUMENT_ID = HRSC
INSTRUMENT_NAME = "HIGH RESOLUTION STEREO CAMERA"
MISSION_NAME = "MARS EXPRESS"
MISSION_PHASE_NAME = MR_Phase_8
PROCESSING_LEVEL_ID = 3
PRODUCT_CREATION_TIME = 2016-03-15T10:38:17.000Z
PRODUCT_ID = "H2341_0001_BL3.JP2"
RELEASE_ID = 0029
REVISION_ID = 0000
/* QUALITY DATA ELEMENTS */
DATA_QUALITY_ID = 1
DATA_QUALITY_DESC = "Data calculated based on original SPICE kernels"
/* TIME DATA ELEMENTS */
SPACECRAFT_CLOCK_START_COUNT = "1/0079594209.57310"
SPACECRAFT_CLOCK_STOP_COUNT = "1/0079594453.31511"
START_TIME = 2005-11-09T05:31:27.954Z
STOP_TIME = 2005-11-09T05:32:56.170Z
/* ORBITAL DATA ELEMENTS */
ASCENDING_NODE_LONGITUDE = 179.11
MAXIMUM_RESOLUTION = 103.8
FOOTPRINT_POINT_LATITUDE = (-11.6956,-11.6945,-11.6931,-11.6917, -11.6902,-11.6886,-11.687,-11.6853, -11.6835,-11.6817,-11.6797,-11.6777, -11.6755,-11.6239,-11.5292,-11.4348, -11.34,-11.1978,-11.1031,-11.0085, -10.914,-10.8196,-10.7252,-10.631, -10.5369,-10.4428,-10.3488,-10.2549, -10.1142,-9.92661,-9.83245,-9.6457, -9.41316,-9.22751,-9.08853,-8.9036, -8.71905,-8.58094,-8.44291,-8.25918, -8.07589,-7.89294,-7.71047,-7.57382, -7.39186,-7.21029,-7.0312,-7.03273, -7.03465,-7.03714,-7.03854,-7.04001, -7.04208,-7.04439,-7.04633,-7.04781, -7.04922,-7.05198,-7.05397,-7.05577, -7.05721,-7.05864,-7.05984,-7.06102, -7.06231,-7.0636,-7.06484,-7.06681, -7.0684,-7.11599,-7.29651,-7.56876, -7.75039,-7.93235,-8.06861,-8.25053, -8.38735,-8.57036,-8.75376,-8.9847, -9.2628,-9.44794,-9.58703,-9.77266, -9.91129,-10.0969,-10.2835,-10.4707, -10.6583,-10.7524,-10.8465,-10.9406, -11.0348,-11.1293,-11.2237,-11.3183, -11.413,-11.5077,-11.6026,-11.6956)
FOOTPRINT_POINT_LONGITUDE = (137.865,138.014,138.185,138.355, 138.527,138.698,138.87,139.043,139.215, 139.389,139.562,139.736,139.911,140.09, 140.093,140.096,140.098,140.101,140.102 ,140.104,140.105,140.107,140.108,140.11 ,140.111,140.112,140.114,140.115, 140.117,140.119,140.119,140.122,140.126 ,140.129,140.132,140.136,140.139, 140.142,140.145,140.148,140.152,140.155 ,140.159,140.161,140.165,140.168, 140.172,140.074,139.95,139.776,139.677, 139.578,139.43,139.283,139.161,139.063, 138.965,138.794,138.672,138.55,138.453, 138.356,138.258,138.161,138.064,137.967 ,137.871,137.749,137.653,137.55,137.56, 137.575,137.584,137.594,137.602,137.612 ,137.62,137.63,137.639,137.65,137.663, 137.673,137.68,137.689,137.697,137.706, 137.716,137.725,137.733,137.738,137.742 ,137.746,137.751,137.755,137.759, 137.764,137.768,137.772,137.776, 137.865)
ORBIT_NUMBER = 2341
ORBITAL_ECCENTRICITY = 0.572
ORBITAL_INCLINATION = 86.62
ORBITAL_SEMIMAJOR_AXIS = 8563.17
PERIAPSIS_ALTITUDE = 277.63
PERIAPSIS_ARGUMENT_ANGLE = 306.68
PERIAPSIS_TIME = 2005-11-09T05:20:14.000Z
SPACECRAFT_ORIENTATION = (0.0,-1.0,0.0)
^MEX_ORIENTATION_DESC = "MEX_ORIENTATION_DESC.TXT"
SPACECRAFT_POINTING_MODE = ACROSSTRACK
^MEX_POINTING_DESC = "MEX_POINTING_DESC.TXT"
RIGHT_ASCENSION = -1e+32
DECLINATION = -1e+32
OFFSET_ANGLE = -0.62
SPACECRAFT_SOLAR_DISTANCE = 2.18902e+08
TARGET_NAME = MARS
/* CAMERA DATA ELEMENTS */
DETECTOR_TEMPERATURE = 20.2056
FOCAL_PLANE_TEMPERATURE = 8.3794
INST_CMPRS_NAME = "DISCRETE COSINE TRANSFORMATION (DCT)"
INST_CMPRS_RATIO = 18.6989
INST_CMPRS_QUALITY = 0
INST_CMPRS_QUANTZ_TBL_ID = 0
INSTRUMENT_TEMPERATURE = 13.6808
LENS_TEMPERATURE = 8.9911
MACROPIXEL_SIZE = 4
MISSING_FRAMES = 0
PIXEL_SUBSAMPLING_FLAG = N
SIGNAL_CHAIN_ID = 2
/* RADIOMETRIC DATA ELEMENTS */
BANDWIDTH = 76.0
CENTER_FILTER_WAVELENGTH = 444.0
RADIANCE_OFFSET = 1.18209
RADIANCE_SCALING_FACTOR = 0.00138083
REFLECTANCE_SCALING_FACTOR = 6.79833e-05
MEX:REFLECTANCE_OFFSET = 0.0581986
/* IMAGE OBJECT DEFINITIONS */
OBJECT = IMAGE
  INTERCHANGE_FORMAT = BINARY
  LINES = 2775
  LINE_SAMPLES = 1554
  SAMPLE_TYPE = UNSIGNED_INTEGER
  SAMPLE_BITS = 8
  BANDS = 1
  BAND_STORAGE_TYPE = BAND_SEQUENTIAL
  MAXIMUM = 136
  MEAN = 109.91
  MINIMUM = 93
  STANDARD_DEVIATION = 3.60944
END_OBJECT = IMAGE
/* MAP OBJECT DEFINITIONS */
OBJECT = IMAGE_MAP_PROJECTION
  ^DATA_SET_MAP_PROJECTION_CATALOG= "DSMAP.CAT"
  A_AXIS_RADIUS = 3396.0
  B_AXIS_RADIUS = 3396.0
  C_AXIS_RADIUS = 3396.0
  CENTER_LATITUDE = 0.0
  CENTER_LONGITUDE = 139.0
  COORDINATE_SYSTEM_NAME = PLANETOGRAPHIC
  COORDINATE_SYSTEM_TYPE = "BODY-FIXED ROTATING"
  EASTERNMOST_LONGITUDE = 140.172
  FIRST_STANDARD_PARALLEL = "N/A"
  LINE_FIRST_PIXEL = 1
  LINE_LAST_PIXEL = 2775
  LINE_PROJECTION_OFFSET = -4160.125
  MAP_PROJECTION_ROTATION = 0.0
  MAP_PROJECTION_TYPE = SINUSOIDAL
  MAP_RESOLUTION = 592.713803866667
  MAP_SCALE = 0.1
  MAXIMUM_LATITUDE = -7.0312
  MINIMUM_LATITUDE = -11.6956
  POSITIVE_LONGITUDE_DIRECTION = EAST
  REFERENCE_LATITUDE = "N/A"
  REFERENCE_LONGITUDE = "N/A"
  SAMPLE_FIRST_PIXEL = 1
  SAMPLE_LAST_PIXEL = 1554
  SAMPLE_PROJECTION_OFFSET = 836.875
  SECOND_STANDARD_PARALLEL = "N/A"
  WESTERNMOST_LONGITUDE = 137.55
END_OBJECT = IMAGE_MAP_PROJECTION
/* The JPEG2000 image data file associated with this label. */
OBJECT = COMPRESSED_FILE
  FILE_NAME = "H2341_0001_BL3.JP2"
  RECORD_TYPE = UNDEFINED
  FILE_RECORDS = UNK
  ENCODING_TYPE = "JP2"
  INTERCHANGE_FORMAT = BINARY
  UNCOMPRESSED_FILE_NAME = "H2341_0001_BL3.IMG"
  REQUIRED_STORAGE_BYTES = "4332552"
  ^DESCRIPTION = "JP2INFO.TXT"
END_OBJECT = COMPRESSED_FILE
END
