PDS_VERSION_ID = PDS3
/* FILE DATA ELEMENTS */
RECORD_TYPE = STREAM
/* POINTERS TO DATA OBJECTS */
^COMPRESSED_FILE = "H2341_0001_RE3.JP2"
/* IDENTIFICATION DATA ELEMENTS */
DATA_SET_ID = "MEX-M-HRSC-5-REFDR-MAPPROJECTED-V3.0"
DATA_SET_NAME = "MARS EXPRESS HRSC MAP PROJECTED REFDR V3.0"
DETECTOR_ID = MEX_HRSC_RED
EVENT_TYPE = "MARS-REGIONAL-MAPPING-Te-Im-Fl"
INSTRUMENT_HOST_ID = MEX
INSTRUMENT_HOST_NAME = "MARS EXPRESS"
INSTRUMENT_ID = HRSC
INSTRUMENT_NAME = "HIGH RESOLUTION STEREO CAMERA"
MISSION_NAME = "MARS EXPRESS"
MISSION_PHASE_NAME = MR_Phase_8
PROCESSING_LEVEL_ID = 3
PRODUCT_CREATION_TIME = 2016-03-15T10:38:17.000Z
PRODUCT_ID = "H2341_0001_RE3.JP2"
RELEASE_ID = 0029
REVISION_ID = 0000
/* QUALITY DATA ELEMENTS */
DATA_QUALITY_ID = 1
DATA_QUALITY_DESC = "Data calculated based on original SPICE kernels"
/* TIME DATA ELEMENTS */
SPACECRAFT_CLOCK_START_COUNT = "1/0079594209.57310"
SPACECRAFT_CLOCK_STOP_COUNT = "1/0079594453.31511"
START_TIME = 2005-11-09T05:32:18.970Z
STOP_TIME = 2005-11-09T05:33:59.058Z
/* ORBITAL DATA ELEMENTS */
ASCENDING_NODE_LONGITUDE = 179.11
MAXIMUM_RESOLUTION = 118.2
FOOTPRINT_POINT_LATITUDE = (-11.7023,-11.7022,-11.702,-11.702, -11.702,-11.7022,-11.7024,-11.7027, -11.7029,-11.7032,-11.7034,-11.7037, -11.704,-11.7043,-11.7047,-11.705, -11.7054,-11.7058,-11.7062,-11.5628, -11.4699,-11.3771,-11.2367,-11.1431, -11.0027,-10.9093,-10.816,-10.7227, -10.6297,-10.4902,-10.3974,-10.212, -9.97841,-9.7909,-9.56302,-9.33585, -9.10872,-8.92889,-8.74858,-8.61383, -8.43492,-8.21103,-8.03314,-7.85547, -7.67827,-7.50226,-7.32697,-7.07042, -7.0697,-7.06951,-7.06797,-7.06703, -7.06673,-7.06671,-7.06792,-7.0683, -7.07014,-7.07206,-7.07319,-7.07446, -7.07479,-7.0752,-7.07559,-7.07576, -7.07785,-7.0802,-7.08212,-7.08244, -7.21464,-7.34707,-7.52367,-7.74481, -7.9206,-8.09334,-8.26934,-8.49026, -8.76029,-8.93941,-9.12356,-9.35234, -9.53249,-9.66847,-9.84927,-9.98414, -10.1661,-10.2589,-10.4429,-10.5356, -10.6293,-10.7235,-10.8634,-10.9591, -11.0547,-11.1897,-11.2825,-11.3766, -11.4707,-11.565,-11.6593,-11.7023)
FOOTPRINT_POINT_LONGITUDE = (137.827,138.014,138.201,138.389, 138.577,138.766,138.955,139.144,139.239 ,139.333,139.428,139.523,139.619, 139.714,139.81,139.905,140.001,140.098, 140.194,140.227,140.23,140.233,140.236, 140.239,140.242,140.244,140.246,140.249 ,140.251,140.254,140.256,140.261, 140.265,140.267,140.273,140.28,140.286, 140.291,140.296,140.3,140.305,140.311, 140.316,140.321,140.326,140.332,140.337 ,140.344,140.125,139.986,139.793, 139.628,139.518,139.327,139.164,139.055 ,138.865,138.729,138.566,138.43,138.322 ,138.214,138.106,137.998,137.836, 137.728,137.593,137.458,137.431,137.439 ,137.45,137.463,137.474,137.486,137.497 ,137.511,137.526,137.537,137.547,137.56 ,137.57,137.578,137.589,137.597,137.607 ,137.612,137.622,137.627,137.632, 137.637,137.644,137.648,137.653,137.661 ,137.666,137.671,137.676,137.68,137.685 ,137.827)
ORBIT_NUMBER = 2341
ORBITAL_ECCENTRICITY = 0.572
ORBITAL_INCLINATION = 86.62
ORBITAL_SEMIMAJOR_AXIS = 8563.17
PERIAPSIS_ALTITUDE = 277.63
PERIAPSIS_ARGUMENT_ANGLE = 306.68
PERIAPSIS_TIME = 2005-11-09T05:20:14.000Z
SPACECRAFT_ORIENTATION = (0.0,-1.0,0.0)
^MEX_ORIENTATION_DESC = "MEX_ORIENTATION_DESC.TXT"
SPACECRAFT_POINTING_MODE = ACROSSTRACK
^MEX_POINTING_DESC = "MEX_POINTING_DESC.TXT"
RIGHT_ASCENSION = -1e+32
DECLINATION = -1e+32
OFFSET_ANGLE = -0.62
SPACECRAFT_SOLAR_DISTANCE = 2.18902e+08
TARGET_NAME = MARS
/* CAMERA DATA ELEMENTS */
DETECTOR_TEMPERATURE = 21.429
FOCAL_PLANE_TEMPERATURE = 8.3794
INST_CMPRS_NAME = "DISCRETE COSINE TRANSFORMATION (DCT)"
INST_CMPRS_RATIO = 15.8897
INST_CMPRS_QUALITY = 0
INST_CMPRS_QUANTZ_TBL_ID = 0
INSTRUMENT_TEMPERATURE = 13.6808
LENS_TEMPERATURE = 8.9911
MACROPIXEL_SIZE = 4
MISSING_FRAMES = 0
PIXEL_SUBSAMPLING_FLAG = N
SIGNAL_CHAIN_ID = 2
/* RADIOMETRIC DATA ELEMENTS */
BANDWIDTH = 48.0
CENTER_FILTER_WAVELENGTH = 748.0
RADIANCE_OFFSET = 1.513
RADIANCE_SCALING_FACTOR = 0.00844747
REFLECTANCE_SCALING_FACTOR = 0.00092376
MEX:REFLECTANCE_OFFSET = 0.165452
/* IMAGE OBJECT DEFINITIONS */
OBJECT = IMAGE
  INTERCHANGE_FORMAT = BINARY
  LINES = 2775
  LINE_SAMPLES = 1554
  SAMPLE_TYPE = UNSIGNED_INTEGER
  SAMPLE_BITS = 8
  BANDS = 1
  BAND_STORAGE_TYPE = BAND_SEQUENTIAL
  MAXIMUM = 146
  MEAN = 99.5533
  MINIMUM = 57
  STANDARD_DEVIATION = 19.0329
END_OBJECT = IMAGE
/* MAP OBJECT DEFINITIONS */
OBJECT = IMAGE_MAP_PROJECTION
  ^DATA_SET_MAP_PROJECTION_CATALOG= "DSMAP.CAT"
  A_AXIS_RADIUS = 3396.0
  B_AXIS_RADIUS = 3396.0
  C_AXIS_RADIUS = 3396.0
  CENTER_LATITUDE = 0.0
  CENTER_LONGITUDE = 139.0
  COORDINATE_SYSTEM_NAME = PLANETOGRAPHIC
  COORDINATE_SYSTEM_TYPE = "BODY-FIXED ROTATING"
  EASTERNMOST_LONGITUDE = 140.344
  FIRST_STANDARD_PARALLEL = "N/A"
  LINE_FIRST_PIXEL = 1
  LINE_LAST_PIXEL = 2775
  LINE_PROJECTION_OFFSET = -4160.125
  MAP_PROJECTION_ROTATION = 0.0
  MAP_PROJECTION_TYPE = SINUSOIDAL
  MAP_RESOLUTION = 592.713803866667
  MAP_SCALE = 0.1
  MAXIMUM_LATITUDE = -7.06671
  MINIMUM_LATITUDE = -11.7062
  POSITIVE_LONGITUDE_DIRECTION = EAST
  REFERENCE_LATITUDE = "N/A"
  REFERENCE_LONGITUDE = "N/A"
  SAMPLE_FIRST_PIXEL = 1
  SAMPLE_LAST_PIXEL = 1554
  SAMPLE_PROJECTION_OFFSET = 836.875
  SECOND_STANDARD_PARALLEL = "N/A"
  WESTERNMOST_LONGITUDE = 137.431
END_OBJECT = IMAGE_MAP_PROJECTION
/* The JPEG2000 image data file associated with this label. */
OBJECT = COMPRESSED_FILE
  FILE_NAME = "H2341_0001_RE3.JP2"
  RECORD_TYPE = UNDEFINED
  FILE_RECORDS = UNK
  ENCODING_TYPE = "JP2"
  INTERCHANGE_FORMAT = BINARY
  UNCOMPRESSED_FILE_NAME = "H2341_0001_RE3.IMG"
  REQUIRED_STORAGE_BYTES = "4332552"
  ^DESCRIPTION = "JP2INFO.TXT"
END_OBJECT = COMPRESSED_FILE
END
