PDS_VERSION_ID = PDS3
/* FILE DATA ELEMENTS */
RECORD_TYPE = STREAM
/* POINTERS TO DATA OBJECTS */
^COMPRESSED_FILE = "H2341_0001_S23.JP2"
/* IDENTIFICATION DATA ELEMENTS */
DATA_SET_ID = "MEX-M-HRSC-5-REFDR-MAPPROJECTED-V3.0"
DATA_SET_NAME = "MARS EXPRESS HRSC MAP PROJECTED REFDR V3.0"
DETECTOR_ID = MEX_HRSC_S2
EVENT_TYPE = "MARS-REGIONAL-MAPPING-Te-Im-Fl"
INSTRUMENT_HOST_ID = MEX
INSTRUMENT_HOST_NAME = "MARS EXPRESS"
INSTRUMENT_ID = HRSC
INSTRUMENT_NAME = "HIGH RESOLUTION STEREO CAMERA"
MISSION_NAME = "MARS EXPRESS"
MISSION_PHASE_NAME = MR_Phase_8
PROCESSING_LEVEL_ID = 3
PRODUCT_CREATION_TIME = 2016-03-15T10:38:17.000Z
PRODUCT_ID = "H2341_0001_S23.JP2"
RELEASE_ID = 0029
REVISION_ID = 0000
/* QUALITY DATA ELEMENTS */
DATA_QUALITY_ID = 1
DATA_QUALITY_DESC = "Data calculated based on original SPICE kernels"
/* TIME DATA ELEMENTS */
SPACECRAFT_CLOCK_START_COUNT = "1/0079594209.57310"
SPACECRAFT_CLOCK_STOP_COUNT = "1/0079594453.31511"
START_TIME = 2005-11-09T05:32:33.975Z
STOP_TIME = 2005-11-09T05:34:18.485Z
/* ORBITAL DATA ELEMENTS */
ASCENDING_NODE_LONGITUDE = 179.11
MAXIMUM_RESOLUTION = 61.8
FOOTPRINT_POINT_LATITUDE = (-11.7212,-11.7212,-11.7212,-11.7213, -11.7214,-11.7215,-11.7216,-11.7218, -11.722,-11.7223,-11.7226,-11.723, -11.7234,-11.7238,-11.7243,-11.7248, -11.7254,-11.7261,-11.7267,-11.7274, -11.7281,-11.7289,-11.7297,-11.7306, -11.7315,-11.7324,-11.5834,-11.3954, -11.2524,-11.1575,-11.062,-10.9187, -10.8234,-10.7281,-10.6329,-10.538, -10.3484,-10.1593,-10.0642,-9.92032, -9.72945,-9.45204,-9.22043,-9.03616, -8.80698,-8.62457,-8.48806,-8.3059, -8.12453,-7.94431,-7.80923,-7.62966, -7.45092,-7.31792,-7.09622,-7.08428, -7.08292,-7.0818,-7.07921,-7.07767, -7.0775,-7.07821,-7.07991,-7.08168, -7.08315,-7.08371,-7.08257,-7.0836, -7.08663,-7.08955,-7.08976,-7.13469, -7.31209,-7.53695,-7.71662,-7.89473, -8.02801,-8.20391,-8.38436,-8.61017, -8.79203,-8.97445,-9.21145,-9.39742, -9.62633,-9.80974,-9.94586,-10.1331, -10.3213,-10.509,-10.6038,-10.6998, -10.7969,-10.8921,-10.9904,-11.1339, -11.3205,-11.4652,-11.5617,-11.7212)
FOOTPRINT_POINT_LONGITUDE = (137.681,137.781,137.881,137.981, 138.081,138.182,138.282,138.383,138.483 ,138.584,138.685,138.786,138.887, 138.989,139.09,139.191,139.293,139.394, 139.496,139.598,139.7,139.802,139.905, 140.008,140.111,140.214,140.275,140.283 ,140.287,140.29,140.293,140.297,140.299 ,140.302,140.304,140.307,140.312, 140.317,140.319,140.321,140.325,140.334 ,140.341,140.347,140.354,140.36,140.364 ,140.37,140.376,140.382,140.386,140.392 ,140.398,140.403,140.41,140.232,140.024 ,139.875,139.697,139.461,139.255,139.05 ,138.787,138.641,138.407,138.29,138.086 ,137.97,137.766,137.621,137.505,137.382 ,137.393,137.408,137.419,137.431,137.44 ,137.452,137.464,137.478,137.489, 137.501,137.514,137.525,137.539,137.55, 137.559,137.57,137.58,137.591,137.596, 137.602,137.606,137.612,137.617,137.624 ,137.635,137.643,137.648,137.681)
ORBIT_NUMBER = 2341
ORBITAL_ECCENTRICITY = 0.572
ORBITAL_INCLINATION = 86.62
ORBITAL_SEMIMAJOR_AXIS = 8563.17
PERIAPSIS_ALTITUDE = 277.63
PERIAPSIS_ARGUMENT_ANGLE = 306.68
PERIAPSIS_TIME = 2005-11-09T05:20:14.000Z
SPACECRAFT_ORIENTATION = (0.0,-1.0,0.0)
^MEX_ORIENTATION_DESC = "MEX_ORIENTATION_DESC.TXT"
SPACECRAFT_POINTING_MODE = ACROSSTRACK
^MEX_POINTING_DESC = "MEX_POINTING_DESC.TXT"
RIGHT_ASCENSION = -1e+32
DECLINATION = -1e+32
OFFSET_ANGLE = -0.62
SPACECRAFT_SOLAR_DISTANCE = 2.18902e+08
TARGET_NAME = MARS
/* CAMERA DATA ELEMENTS */
DETECTOR_TEMPERATURE = 21.429
FOCAL_PLANE_TEMPERATURE = 8.3794
INST_CMPRS_NAME = "DISCRETE COSINE TRANSFORMATION (DCT)"
INST_CMPRS_RATIO = 11.7615
INST_CMPRS_QUALITY = 0
INST_CMPRS_QUANTZ_TBL_ID = 0
INSTRUMENT_TEMPERATURE = 13.6808
LENS_TEMPERATURE = 8.9911
MACROPIXEL_SIZE = 2
MISSING_FRAMES = 0
PIXEL_SUBSAMPLING_FLAG = N
SIGNAL_CHAIN_ID = 1
/* RADIOMETRIC DATA ELEMENTS */
BANDWIDTH = 178.0
CENTER_FILTER_WAVELENGTH = 679.0
RADIANCE_OFFSET = 6.00172
RADIANCE_SCALING_FACTOR = 0.0281721
REFLECTANCE_SCALING_FACTOR = 0.000714913
MEX:REFLECTANCE_OFFSET = 0.152304
/* IMAGE OBJECT DEFINITIONS */
OBJECT = IMAGE
  INTERCHANGE_FORMAT = BINARY
  LINES = 5550
  LINE_SAMPLES = 3107
  SAMPLE_TYPE = UNSIGNED_INTEGER
  SAMPLE_BITS = 8
  BANDS = 1
  BAND_STORAGE_TYPE = BAND_SEQUENTIAL
  MAXIMUM = 150
  MEAN = 104.765
  MINIMUM = 65
  STANDARD_DEVIATION = 17.7019
END_OBJECT = IMAGE
/* MAP OBJECT DEFINITIONS */
OBJECT = IMAGE_MAP_PROJECTION
  ^DATA_SET_MAP_PROJECTION_CATALOG= "DSMAP.CAT"
  A_AXIS_RADIUS = 3396.0
  B_AXIS_RADIUS = 3396.0
  C_AXIS_RADIUS = 3396.0
  CENTER_LATITUDE = 0.0
  CENTER_LONGITUDE = 139.0
  COORDINATE_SYSTEM_NAME = PLANETOGRAPHIC
  COORDINATE_SYSTEM_TYPE = "BODY-FIXED ROTATING"
  EASTERNMOST_LONGITUDE = 140.41
  FIRST_STANDARD_PARALLEL = "N/A"
  LINE_FIRST_PIXEL = 1
  LINE_LAST_PIXEL = 5550
  LINE_PROJECTION_OFFSET = -8319.75
  MAP_PROJECTION_ROTATION = 0.0
  MAP_PROJECTION_TYPE = SINUSOIDAL
  MAP_RESOLUTION = 1185.42760773333
  MAP_SCALE = 0.05
  MAXIMUM_LATITUDE = -7.0775
  MINIMUM_LATITUDE = -11.7324
  POSITIVE_LONGITUDE_DIRECTION = EAST
  REFERENCE_LATITUDE = "N/A"
  REFERENCE_LONGITUDE = "N/A"
  SAMPLE_FIRST_PIXEL = 1
  SAMPLE_LAST_PIXEL = 3107
  SAMPLE_PROJECTION_OFFSET = 1674.25
  SECOND_STANDARD_PARALLEL = "N/A"
  WESTERNMOST_LONGITUDE = 137.382
END_OBJECT = IMAGE_MAP_PROJECTION
/* The JPEG2000 image data file associated with this label. */
OBJECT = COMPRESSED_FILE
  FILE_NAME = "H2341_0001_S23.JP2"
  RECORD_TYPE = UNDEFINED
  FILE_RECORDS = UNK
  ENCODING_TYPE = "JP2"
  INTERCHANGE_FORMAT = BINARY
  UNCOMPRESSED_FILE_NAME = "H2341_0001_S23.IMG"
  REQUIRED_STORAGE_BYTES = "17268706"
  ^DESCRIPTION = "JP2INFO.TXT"
END_OBJECT = COMPRESSED_FILE
END
