PDS_VERSION_ID = PDS3
/* FILE DATA ELEMENTS */
RECORD_TYPE = STREAM
/* POINTERS TO DATA OBJECTS */
^COMPRESSED_FILE = "H2343_0000_BL3.JP2"
/* IDENTIFICATION DATA ELEMENTS */
DATA_SET_ID = "MEX-M-HRSC-5-REFDR-MAPPROJECTED-V3.0"
DATA_SET_NAME = "MARS EXPRESS HRSC MAP PROJECTED REFDR V3.0"
DETECTOR_ID = MEX_HRSC_BLUE
EVENT_TYPE = "MARS-REGIONAL-MAPPING-Gl-Eo-La"
INSTRUMENT_HOST_ID = MEX
INSTRUMENT_HOST_NAME = "MARS EXPRESS"
INSTRUMENT_ID = HRSC
INSTRUMENT_NAME = "HIGH RESOLUTION STEREO CAMERA"
MISSION_NAME = "MARS EXPRESS"
MISSION_PHASE_NAME = MR_Phase_8
PROCESSING_LEVEL_ID = 3
PRODUCT_CREATION_TIME = 2016-03-15T10:38:17.000Z
PRODUCT_ID = "H2343_0000_BL3.JP2"
RELEASE_ID = 0029
REVISION_ID = 0000
/* QUALITY DATA ELEMENTS */
DATA_QUALITY_ID = 1
DATA_QUALITY_DESC = "Data calculated based on original SPICE kernels"
/* TIME DATA ELEMENTS */
SPACECRAFT_CLOCK_START_COUNT = "1/0079641439.56186"
SPACECRAFT_CLOCK_STOP_COUNT = "1/0079641728.21418"
START_TIME = 2005-11-09T18:38:28.922Z
STOP_TIME = 2005-11-09T18:41:47.160Z
/* ORBITAL DATA ELEMENTS */
ASCENDING_NODE_LONGITUDE = 179.07
MAXIMUM_RESOLUTION = 56.2
FOOTPRINT_POINT_LATITUDE = (-82.6036,-82.8975,-83.0629,-83.2217, -83.3735,-83.5184,-83.5466,-83.3071, -82.9471,-82.7035,-82.4618,-82.2175, -81.9724,-81.7292,-81.3608,-81.1171, -80.8734,-80.5062,-80.2646,-80.0217, -79.7776,-79.538,-79.2978,-79.0571, -78.8173,-78.4618,-78.2236,-77.9856, -77.6345,-77.3997,-77.0478,-76.8183, -76.5875,-76.3565,-76.1245,-75.8923, -75.5438,-75.31,-74.9587,-74.7242, -74.4893,-74.2539,-74.0178,-73.7816, -73.5449,-73.3077,-73.0702,-72.7269, -72.5273,-72.3273,-72.127,-71.8607, -71.7771,-71.723,-71.6733,-71.6019, -71.9928,-72.4793,-72.8226,-73.0531, -73.2833,-73.5124,-73.7413,-73.9697, -74.197,-74.5371,-74.7626,-74.9874, -75.212,-75.4354,-75.6581,-75.8799, -76.1009,-76.3209,-76.54,-76.7597, -76.9832,-77.2053,-77.426,-77.7607, -77.9845,-78.317,-78.5408,-78.8756, -79.0979,-79.433,-79.6547,-79.8745, -80.0971,-80.3173,-80.5348,-80.7539, -80.9709,-81.1839,-81.3983,-81.7118, -81.9186,-82.1222,-82.3208,-82.6036)
FOOTPRINT_POINT_LONGITUDE = (261.337,263.776,265.293,266.865, 268.492,270.177,272.488,273.818,275.614 ,276.712,277.722,278.67,279.554,280.374 ,281.515,282.218,282.874,283.793, 284.358,284.896,285.408,285.886,286.341 ,286.772,287.188,287.765,288.132, 288.484,288.98,289.295,289.745,290.018, 290.29,290.549,290.802,291.046,291.389, 291.616,291.942,292.149,292.349,292.543 ,292.734,292.917,293.096,293.27,293.439 ,293.674,293.806,293.936,294.062, 293.932,292.626,291.85,291.178,290.257, 289.899,289.425,289.069,288.82,288.572, 288.303,288.039,287.773,287.484,287.047 ,286.736,286.415,286.1,285.766,285.42, 285.065,284.698,284.318,283.925,283.481 ,283.063,282.622,282.159,281.411, 280.901,280.087,279.492,278.567,277.943 ,276.895,276.16,275.394,274.577,273.724 ,272.833,271.874,270.879,269.826,268.7, 266.895,265.599,264.229,262.788, 261.337)
ORBIT_NUMBER = 2343
ORBITAL_ECCENTRICITY = 0.572
ORBITAL_INCLINATION = 86.63
ORBITAL_SEMIMAJOR_AXIS = 8559.49
PERIAPSIS_ALTITUDE = 277.44
PERIAPSIS_ARGUMENT_ANGLE = 306.34
PERIAPSIS_TIME = 2005-11-09T18:46:23.000Z
SPACECRAFT_ORIENTATION = (0.0,-1.0,0.0)
^MEX_ORIENTATION_DESC = "MEX_ORIENTATION_DESC.TXT"
SPACECRAFT_POINTING_MODE = ACROSSTRACK
^MEX_POINTING_DESC = "MEX_POINTING_DESC.TXT"
RIGHT_ASCENSION = -1e+32
DECLINATION = -1e+32
OFFSET_ANGLE = 1.1
SPACECRAFT_SOLAR_DISTANCE = 2.19005e+08
TARGET_NAME = MARS
/* CAMERA DATA ELEMENTS */
DETECTOR_TEMPERATURE = 18.1666
FOCAL_PLANE_TEMPERATURE = 7.9716
INST_CMPRS_NAME = "DISCRETE COSINE TRANSFORMATION (DCT)"
INST_CMPRS_RATIO = 38.1026
INST_CMPRS_QUALITY = 0
INST_CMPRS_QUANTZ_TBL_ID = 0
INSTRUMENT_TEMPERATURE = 10.8262
LENS_TEMPERATURE = 8.3794
MACROPIXEL_SIZE = 4
MISSING_FRAMES = 0
PIXEL_SUBSAMPLING_FLAG = N
SIGNAL_CHAIN_ID = 2
/* RADIOMETRIC DATA ELEMENTS */
BANDWIDTH = 76.0
CENTER_FILTER_WAVELENGTH = 444.0
RADIANCE_OFFSET = 0.390015
RADIANCE_SCALING_FACTOR = 0.00275305
REFLECTANCE_SCALING_FACTOR = 0.000135667
MEX:REFLECTANCE_OFFSET = 0.0192195
/* IMAGE OBJECT DEFINITIONS */
OBJECT = IMAGE
  INTERCHANGE_FORMAT = BINARY
  LINES = 14333
  LINE_SAMPLES = 6930
  SAMPLE_TYPE = UNSIGNED_INTEGER
  SAMPLE_BITS = 8
  BANDS = 1
  BAND_STORAGE_TYPE = BAND_SEQUENTIAL
  MAXIMUM = 33
  MEAN = 18.7703
  MINIMUM = 8
  STANDARD_DEVIATION = 2.17715
END_OBJECT = IMAGE
/* MAP OBJECT DEFINITIONS */
OBJECT = IMAGE_MAP_PROJECTION
  ^DATA_SET_MAP_PROJECTION_CATALOG= "DSMAP.CAT"
  A_AXIS_RADIUS = 3396.0
  B_AXIS_RADIUS = 3396.0
  C_AXIS_RADIUS = 3396.0
  CENTER_LATITUDE = 0.0
  CENTER_LONGITUDE = 286.0
  COORDINATE_SYSTEM_NAME = PLANETOGRAPHIC
  COORDINATE_SYSTEM_TYPE = "BODY-FIXED ROTATING"
  EASTERNMOST_LONGITUDE = 294.062
  FIRST_STANDARD_PARALLEL = "N/A"
  LINE_FIRST_PIXEL = 1
  LINE_LAST_PIXEL = 14333
  LINE_PROJECTION_OFFSET = -84893.875
  MAP_PROJECTION_ROTATION = 0.0
  MAP_PROJECTION_TYPE = SINUSOIDAL
  MAP_RESOLUTION = 1185.42760773333
  MAP_SCALE = 0.05
  MAXIMUM_LATITUDE = -71.6019
  MINIMUM_LATITUDE = -83.5466
  POSITIVE_LONGITUDE_DIRECTION = EAST
  REFERENCE_LATITUDE = "N/A"
  REFERENCE_LONGITUDE = "N/A"
  SAMPLE_FIRST_PIXEL = 1
  SAMPLE_LAST_PIXEL = 6930
  SAMPLE_PROJECTION_OFFSET = 3859.875
  SECOND_STANDARD_PARALLEL = "N/A"
  WESTERNMOST_LONGITUDE = 261.337
END_OBJECT = IMAGE_MAP_PROJECTION
/* The JPEG2000 image data file associated with this label. */
OBJECT = COMPRESSED_FILE
  FILE_NAME = "H2343_0000_BL3.JP2"
  RECORD_TYPE = UNDEFINED
  FILE_RECORDS = UNK
  ENCODING_TYPE = "JP2"
  INTERCHANGE_FORMAT = BINARY
  UNCOMPRESSED_FILE_NAME = "H2343_0000_BL3.IMG"
  REQUIRED_STORAGE_BYTES = "99362340"
  ^DESCRIPTION = "JP2INFO.TXT"
END_OBJECT = COMPRESSED_FILE
END
