PDS_VERSION_ID = PDS3
/* FILE DATA ELEMENTS */
RECORD_TYPE = STREAM
/* POINTERS TO DATA OBJECTS */
^COMPRESSED_FILE = "H2343_0000_IR3.JP2"
/* IDENTIFICATION DATA ELEMENTS */
DATA_SET_ID = "MEX-M-HRSC-5-REFDR-MAPPROJECTED-V3.0"
DATA_SET_NAME = "MARS EXPRESS HRSC MAP PROJECTED REFDR V3.0"
DETECTOR_ID = MEX_HRSC_IR
EVENT_TYPE = "MARS-REGIONAL-MAPPING-Gl-Eo-La"
INSTRUMENT_HOST_ID = MEX
INSTRUMENT_HOST_NAME = "MARS EXPRESS"
INSTRUMENT_ID = HRSC
INSTRUMENT_NAME = "HIGH RESOLUTION STEREO CAMERA"
MISSION_NAME = "MARS EXPRESS"
MISSION_PHASE_NAME = MR_Phase_8
PROCESSING_LEVEL_ID = 3
PRODUCT_CREATION_TIME = 2016-03-15T10:38:17.000Z
PRODUCT_ID = "H2343_0000_IR3.JP2"
RELEASE_ID = 0029
REVISION_ID = 0000
/* QUALITY DATA ELEMENTS */
DATA_QUALITY_ID = 1
DATA_QUALITY_DESC = "Data calculated based on original SPICE kernels"
/* TIME DATA ELEMENTS */
SPACECRAFT_CLOCK_START_COUNT = "1/0079641439.56186"
SPACECRAFT_CLOCK_STOP_COUNT = "1/0079641728.21418"
START_TIME = 2005-11-09T18:37:36.929Z
STOP_TIME = 2005-11-09T18:41:12.957Z
/* ORBITAL DATA ELEMENTS */
ASCENDING_NODE_LONGITUDE = 179.07
MAXIMUM_RESOLUTION = 61.6
FOOTPRINT_POINT_LATITUDE = (-82.8605,-83.0615,-83.2551,-83.4409, -83.6188,-83.7886,-83.6806,-83.4402, -83.1955,-82.9538,-82.7077,-82.3406, -82.0932,-81.8474,-81.6006,-81.2335, -80.9852,-80.7389,-80.4932,-80.2474, -80.0043,-79.759,-79.3956,-79.1482, -78.9081,-78.6668,-78.4283,-78.1843, -77.9486,-77.5957,-77.361,-77.129, -76.893,-76.6607,-76.4304,-76.0835, -75.8522,-75.5037,-75.2807,-75.0527, -74.8251,-74.489,-74.2645,-74.0406, -73.8149,-73.4759,-73.2496,-73.0227, -72.7951,-72.4526,-72.2239,-71.9947, -71.8624,-71.7494,-71.6371,-71.6781, -71.9013,-72.1235,-72.345,-72.567, -72.7875,-73.0054,-73.225,-73.4435, -73.8762,-74.306,-74.5274,-74.8551, -75.0733,-75.4027,-75.6235,-75.8437, -76.063,-76.2864,-76.5085,-76.8351, -77.0592,-77.3933,-77.6142,-77.84, -78.1759,-78.3996,-78.617,-78.9554, -79.1813,-79.4007,-79.7333,-79.9537, -80.1741,-80.3944,-80.6103,-80.8294, -81.0445,-81.2583,-81.5691,-81.7758, -81.9781,-82.1782,-82.4665,-82.8605)
FOOTPRINT_POINT_LONGITUDE = (262.083,263.612,265.216,266.897, 268.658,270.505,272.604,273.944,275.192 ,276.327,277.394,278.839,279.728, 280.551,281.325,282.387,283.051,283.67, 284.255,284.807,285.325,285.82,286.51, 286.947,287.357,287.747,288.118,288.478 ,288.813,289.292,289.596,289.883, 290.163,290.431,290.686,291.051,291.286 ,291.618,291.829,292.034,292.232, 292.512,292.693,292.869,293.04,293.289, 293.449,293.605,293.757,293.978,294.121 ,294.261,293.196,291.976,290.856, 290.077,289.868,289.654,289.433,289.21, 288.979,288.738,288.496,288.247,287.725 ,287.175,286.892,286.435,286.121, 285.626,285.278,284.92,284.551,284.16, 283.757,283.119,282.669,281.967,281.472 ,280.955,280.145,279.565,278.953, 278.004,277.326,276.616,275.48,274.678, 273.831,272.939,272.005,271.01,269.967, 268.861,267.088,265.813,264.472,263.046 ,260.759,262.083)
ORBIT_NUMBER = 2343
ORBITAL_ECCENTRICITY = 0.572
ORBITAL_INCLINATION = 86.63
ORBITAL_SEMIMAJOR_AXIS = 8559.49
PERIAPSIS_ALTITUDE = 277.44
PERIAPSIS_ARGUMENT_ANGLE = 306.34
PERIAPSIS_TIME = 2005-11-09T18:46:23.000Z
SPACECRAFT_ORIENTATION = (0.0,-1.0,0.0)
^MEX_ORIENTATION_DESC = "MEX_ORIENTATION_DESC.TXT"
SPACECRAFT_POINTING_MODE = ACROSSTRACK
^MEX_POINTING_DESC = "MEX_POINTING_DESC.TXT"
RIGHT_ASCENSION = -1e+32
DECLINATION = -1e+32
OFFSET_ANGLE = 1.1
SPACECRAFT_SOLAR_DISTANCE = 2.19005e+08
TARGET_NAME = MARS
/* CAMERA DATA ELEMENTS */
DETECTOR_TEMPERATURE = 17.1471
FOCAL_PLANE_TEMPERATURE = 7.9716
INST_CMPRS_NAME = "DISCRETE COSINE TRANSFORMATION (DCT)"
INST_CMPRS_RATIO = 20.0124
INST_CMPRS_QUALITY = 0
INST_CMPRS_QUANTZ_TBL_ID = 0
INSTRUMENT_TEMPERATURE = 10.8262
LENS_TEMPERATURE = 8.3794
MACROPIXEL_SIZE = 4
MISSING_FRAMES = 0
PIXEL_SUBSAMPLING_FLAG = N
SIGNAL_CHAIN_ID = 2
/* RADIOMETRIC DATA ELEMENTS */
BANDWIDTH = 81.0
CENTER_FILTER_WAVELENGTH = 955.5
RADIANCE_OFFSET = 0.999696
RADIANCE_SCALING_FACTOR = 0.00298929
REFLECTANCE_SCALING_FACTOR = 0.000309315
MEX:REFLECTANCE_OFFSET = 0.103443
/* IMAGE OBJECT DEFINITIONS */
OBJECT = IMAGE
  INTERCHANGE_FORMAT = BINARY
  LINES = 14333
  LINE_SAMPLES = 6930
  SAMPLE_TYPE = UNSIGNED_INTEGER
  SAMPLE_BITS = 8
  BANDS = 1
  BAND_STORAGE_TYPE = BAND_SEQUENTIAL
  MAXIMUM = 143
  MEAN = 113.361
  MINIMUM = 78
  STANDARD_DEVIATION = 11.135
END_OBJECT = IMAGE
/* MAP OBJECT DEFINITIONS */
OBJECT = IMAGE_MAP_PROJECTION
  ^DATA_SET_MAP_PROJECTION_CATALOG= "DSMAP.CAT"
  A_AXIS_RADIUS = 3396.0
  B_AXIS_RADIUS = 3396.0
  C_AXIS_RADIUS = 3396.0
  CENTER_LATITUDE = 0.0
  CENTER_LONGITUDE = 286.0
  COORDINATE_SYSTEM_NAME = PLANETOGRAPHIC
  COORDINATE_SYSTEM_TYPE = "BODY-FIXED ROTATING"
  EASTERNMOST_LONGITUDE = 294.261
  FIRST_STANDARD_PARALLEL = "N/A"
  LINE_FIRST_PIXEL = 1
  LINE_LAST_PIXEL = 14333
  LINE_PROJECTION_OFFSET = -84893.875
  MAP_PROJECTION_ROTATION = 0.0
  MAP_PROJECTION_TYPE = SINUSOIDAL
  MAP_RESOLUTION = 1185.42760773333
  MAP_SCALE = 0.05
  MAXIMUM_LATITUDE = -71.6371
  MINIMUM_LATITUDE = -83.7886
  POSITIVE_LONGITUDE_DIRECTION = EAST
  REFERENCE_LATITUDE = "N/A"
  REFERENCE_LONGITUDE = "N/A"
  SAMPLE_FIRST_PIXEL = 1
  SAMPLE_LAST_PIXEL = 6930
  SAMPLE_PROJECTION_OFFSET = 3859.875
  SECOND_STANDARD_PARALLEL = "N/A"
  WESTERNMOST_LONGITUDE = 260.759
END_OBJECT = IMAGE_MAP_PROJECTION
/* The JPEG2000 image data file associated with this label. */
OBJECT = COMPRESSED_FILE
  FILE_NAME = "H2343_0000_IR3.JP2"
  RECORD_TYPE = UNDEFINED
  FILE_RECORDS = UNK
  ENCODING_TYPE = "JP2"
  INTERCHANGE_FORMAT = BINARY
  UNCOMPRESSED_FILE_NAME = "H2343_0000_IR3.IMG"
  REQUIRED_STORAGE_BYTES = "99362340"
  ^DESCRIPTION = "JP2INFO.TXT"
END_OBJECT = COMPRESSED_FILE
END
