PDS_VERSION_ID = PDS3
/* FILE DATA ELEMENTS */
RECORD_TYPE = STREAM
/* POINTERS TO DATA OBJECTS */
^COMPRESSED_FILE = "H2343_0001_IR3.JP2"
/* IDENTIFICATION DATA ELEMENTS */
DATA_SET_ID = "MEX-M-HRSC-5-REFDR-MAPPROJECTED-V3.0"
DATA_SET_NAME = "MARS EXPRESS HRSC MAP PROJECTED REFDR V3.0"
DETECTOR_ID = MEX_HRSC_IR
EVENT_TYPE = "MARS-LOCAL-STEREO-Te-Fl"
INSTRUMENT_HOST_ID = MEX
INSTRUMENT_HOST_NAME = "MARS EXPRESS"
INSTRUMENT_ID = HRSC
INSTRUMENT_NAME = "HIGH RESOLUTION STEREO CAMERA"
MISSION_NAME = "MARS EXPRESS"
MISSION_PHASE_NAME = MR_Phase_8
PROCESSING_LEVEL_ID = 3
PRODUCT_CREATION_TIME = 2016-03-15T10:38:17.000Z
PRODUCT_ID = "H2343_0001_IR3.JP2"
RELEASE_ID = 0029
REVISION_ID = 0000
/* QUALITY DATA ELEMENTS */
DATA_QUALITY_ID = 1
DATA_QUALITY_DESC = "Data calculated based on original SPICE kernels"
/* TIME DATA ELEMENTS */
SPACECRAFT_CLOCK_START_COUNT = "1/0079642214.57141"
SPACECRAFT_CLOCK_STOP_COUNT = "1/0079642387.55204"
START_TIME = 2005-11-09T18:50:26.848Z
STOP_TIME = 2005-11-09T18:52:04.584Z
/* ORBITAL DATA ELEMENTS */
ASCENDING_NODE_LONGITUDE = 179.07
MAXIMUM_RESOLUTION = 108.5
FOOTPRINT_POINT_LATITUDE = (-35.6987,-35.7184,-35.7373,-35.7553, -35.7726,-35.7891,-35.8048,-35.6023, -35.4788,-35.2936,-35.0469,-34.8619, -34.7386,-34.5494,-34.4224,-34.2951, -34.1683,-34.0412,-33.9141,-33.7869, -33.596,-33.4055,-33.2147,-33.088, -32.9608,-32.8337,-32.7067,-32.58, -32.4531,-32.3266,-32.1999,-32.0734, -31.8832,-31.7563,-31.6298,-31.5034, -31.3768,-31.2497,-31.1228,-30.9969, -30.8704,-30.7436,-30.6171,-30.4908, -30.3483,-30.1982,-30.0476,-29.8216, -29.5959,-29.446,-29.2784,-29.2605, -29.2422,-29.2256,-29.2088,-29.186, -29.3305,-29.4801,-29.7047,-29.8544, -30.0042,-30.1546,-30.3047,-30.4371, -30.5623,-30.6883,-30.8148,-30.9406, -31.0671,-31.194,-31.3201,-31.4465, -31.5733,-31.6995,-31.8892,-32.0159, -32.2056,-32.3325,-32.4594,-32.5866, -32.7138,-32.8409,-32.9678,-33.0939, -33.283,-33.4089,-33.5368,-33.6633, -33.7901,-33.9803,-34.1072,-34.2339, -34.3609,-34.4876,-34.6133,-34.7975, -35.0436,-35.2893,-35.5355,-35.6987)
FOOTPRINT_POINT_LONGITUDE = (299.659,299.881,300.099,300.315, 300.528,300.737,300.944,301.003,301.009 ,301.018,301.03,301.039,301.044,301.053 ,301.059,301.065,301.071,301.077, 301.082,301.088,301.097,301.105,301.113 ,301.119,301.124,301.129,301.135,301.14 ,301.145,301.151,301.156,301.161, 301.169,301.174,301.179,301.184,301.189 ,301.194,301.199,301.204,301.209, 301.214,301.218,301.223,301.229,301.234 ,301.24,301.248,301.256,301.262,301.187 ,300.892,300.608,300.363,300.129, 299.832,299.73,299.727,299.723,299.72, 299.716,299.714,299.71,299.708,299.705, 299.702,299.7,299.696,299.694,299.692, 299.689,299.686,299.683,299.68,299.675, 299.672,299.667,299.664,299.661,299.658 ,299.655,299.652,299.648,299.644, 299.637,299.632,299.629,299.624,299.62, 299.613,299.609,299.604,299.6,299.595, 299.59,299.583,299.573,299.563,299.553, 299.659)
ORBIT_NUMBER = 2343
ORBITAL_ECCENTRICITY = 0.572
ORBITAL_INCLINATION = 86.63
ORBITAL_SEMIMAJOR_AXIS = 8559.49
PERIAPSIS_ALTITUDE = 277.44
PERIAPSIS_ARGUMENT_ANGLE = 306.34
PERIAPSIS_TIME = 2005-11-09T18:46:23.000Z
SPACECRAFT_ORIENTATION = (0.0,-1.0,0.0)
^MEX_ORIENTATION_DESC = "MEX_ORIENTATION_DESC.TXT"
SPACECRAFT_POINTING_MODE = ACROSSTRACK
^MEX_POINTING_DESC = "MEX_POINTING_DESC.TXT"
RIGHT_ASCENSION = -1e+32
DECLINATION = -1e+32
OFFSET_ANGLE = 1.1
SPACECRAFT_SOLAR_DISTANCE = 2.19005e+08
TARGET_NAME = MARS
/* CAMERA DATA ELEMENTS */
DETECTOR_TEMPERATURE = 19.1861
FOCAL_PLANE_TEMPERATURE = 8.3794
INST_CMPRS_NAME = "DISCRETE COSINE TRANSFORMATION (DCT)"
INST_CMPRS_RATIO = 30.2496
INST_CMPRS_QUALITY = 0
INST_CMPRS_QUANTZ_TBL_ID = 0
INSTRUMENT_TEMPERATURE = 13.6808
LENS_TEMPERATURE = 8.9911
MACROPIXEL_SIZE = 8
MISSING_FRAMES = 0
PIXEL_SUBSAMPLING_FLAG = N
SIGNAL_CHAIN_ID = 2
/* RADIOMETRIC DATA ELEMENTS */
BANDWIDTH = 81.0
CENTER_FILTER_WAVELENGTH = 955.5
RADIANCE_OFFSET = 1.18671
RADIANCE_SCALING_FACTOR = 0.00197432
REFLECTANCE_SCALING_FACTOR = 0.000204293
MEX:REFLECTANCE_OFFSET = 0.122795
/* IMAGE OBJECT DEFINITIONS */
OBJECT = IMAGE
  INTERCHANGE_FORMAT = BINARY
  LINES = 3865
  LINE_SAMPLES = 965
  SAMPLE_TYPE = UNSIGNED_INTEGER
  SAMPLE_BITS = 8
  BANDS = 1
  BAND_STORAGE_TYPE = BAND_SEQUENTIAL
  MAXIMUM = 104
  MEAN = 80.9901
  MINIMUM = 65
  STANDARD_DEVIATION = 3.73335
END_OBJECT = IMAGE
/* MAP OBJECT DEFINITIONS */
OBJECT = IMAGE_MAP_PROJECTION
  ^DATA_SET_MAP_PROJECTION_CATALOG= "DSMAP.CAT"
  A_AXIS_RADIUS = 3396.0
  B_AXIS_RADIUS = 3396.0
  C_AXIS_RADIUS = 3396.0
  CENTER_LATITUDE = 0.0
  CENTER_LONGITUDE = 300.0
  COORDINATE_SYSTEM_NAME = PLANETOGRAPHIC
  COORDINATE_SYSTEM_TYPE = "BODY-FIXED ROTATING"
  EASTERNMOST_LONGITUDE = 301.262
  FIRST_STANDARD_PARALLEL = "N/A"
  LINE_FIRST_PIXEL = 1
  LINE_LAST_PIXEL = 3865
  LINE_PROJECTION_OFFSET = -17333.1875
  MAP_PROJECTION_ROTATION = 0.0
  MAP_PROJECTION_TYPE = SINUSOIDAL
  MAP_RESOLUTION = 592.713803866667
  MAP_SCALE = 0.1
  MAXIMUM_LATITUDE = -29.186
  MINIMUM_LATITUDE = -35.8048
  POSITIVE_LONGITUDE_DIRECTION = EAST
  REFERENCE_LATITUDE = "N/A"
  REFERENCE_LONGITUDE = "N/A"
  SAMPLE_FIRST_PIXEL = 1
  SAMPLE_LAST_PIXEL = 965
  SAMPLE_PROJECTION_OFFSET = 279.4375
  SECOND_STANDARD_PARALLEL = "N/A"
  WESTERNMOST_LONGITUDE = 299.553
END_OBJECT = IMAGE_MAP_PROJECTION
/* The JPEG2000 image data file associated with this label. */
OBJECT = COMPRESSED_FILE
  FILE_NAME = "H2343_0001_IR3.JP2"
  RECORD_TYPE = UNDEFINED
  FILE_RECORDS = UNK
  ENCODING_TYPE = "JP2"
  INTERCHANGE_FORMAT = BINARY
  UNCOMPRESSED_FILE_NAME = "H2343_0001_IR3.IMG"
  REQUIRED_STORAGE_BYTES = "3748060"
  ^DESCRIPTION = "JP2INFO.TXT"
END_OBJECT = COMPRESSED_FILE
END
