PDS_VERSION_ID = PDS3
/* FILE DATA ELEMENTS */
RECORD_TYPE = STREAM
/* POINTERS TO DATA OBJECTS */
^COMPRESSED_FILE = "H2345_0002_SR3.JP2"
/* IDENTIFICATION DATA ELEMENTS */
DATA_SET_ID = "MEX-M-HRSC-5-REFDR-MAPPROJECTED-V3.0"
DATA_SET_NAME = "MARS EXPRESS HRSC MAP PROJECTED REFDR V3.0"
DETECTOR_ID = MEX_HRSC_SRC
EVENT_TYPE = "MARS-LOCAL-CARTOGRAPHY-Ot"
INSTRUMENT_HOST_ID = MEX
INSTRUMENT_HOST_NAME = "MARS EXPRESS"
INSTRUMENT_ID = HRSC
INSTRUMENT_NAME = "HIGH RESOLUTION STEREO CAMERA"
MISSION_NAME = "MARS EXPRESS"
MISSION_PHASE_NAME = MR_Phase_8
PROCESSING_LEVEL_ID = 3
PRODUCT_CREATION_TIME = 2016-03-15T10:38:17.000Z
PRODUCT_ID = "H2345_0002_SR3.JP2"
RELEASE_ID = 0029
REVISION_ID = 0000
/* QUALITY DATA ELEMENTS */
DATA_QUALITY_ID = 1
DATA_QUALITY_DESC = "Data calculated based on original SPICE kernels"
/* TIME DATA ELEMENTS */
SPACECRAFT_CLOCK_START_COUNT = "1/0079691656.57958"
SPACECRAFT_CLOCK_STOP_COUNT = "1/0079692520.54906"
IMAGE_TIME = 2005-11-10T08:39:49.465Z
START_TIME = 2005-11-10T08:39:49.462Z
STOP_TIME = 2005-11-10T08:39:49.467Z
/* ORBITAL DATA ELEMENTS */
ASCENDING_NODE_LONGITUDE = 179.02
MAXIMUM_RESOLUTION = 18.234
FOOTPRINT_POINT_LATITUDE = (29.0749,29.0611,29.0506,29.0423, 29.0337,29.0189,29.0081,28.993,28.9831, 28.9681,28.9502,28.9406,28.9255,28.9151 ,28.9003,28.8898,28.8815,28.8716, 28.8556,28.839,28.8248,28.8156,28.8026, 28.7875,28.7815,28.7811,28.7805,28.7799 ,28.7793,28.7787,28.7781,28.7775, 28.7769,28.7763,28.7757,28.7751,28.7745 ,28.7739,28.7733,28.7726,28.772,28.7714 ,28.7708,28.7702,28.7696,28.7689, 28.7683,28.7677,28.7671,28.7699,28.7847 ,28.8032,28.817,28.8278,28.8454,28.8565 ,28.8728,28.8947,28.9045,28.9147, 28.9267,28.9362,28.9483,28.9581,28.9661 ,28.9772,28.9966,29.0114,29.0219, 29.0302,29.0416,29.0533,29.0687,29.0769 ,29.0775,29.078,29.0786,29.0792,29.0798 ,29.0805,29.0811,29.0817,29.0823, 29.0829,29.0836,29.0842,29.0848,29.0854 ,29.086,29.0866,29.0872,29.0878,29.0884 ,29.089,29.0896,29.0902,29.0908,29.0914 ,29.092,29.0749)
FOOTPRINT_POINT_LONGITUDE = (103.931,103.932,103.933,103.933, 103.934,103.934,103.935,103.936,103.936 ,103.937,103.938,103.939,103.94,103.94, 103.941,103.942,103.942,103.943,103.943 ,103.944,103.945,103.946,103.946, 103.947,103.937,103.926,103.912,103.898 ,103.884,103.87,103.856,103.842,103.828 ,103.814,103.799,103.785,103.771, 103.757,103.743,103.729,103.715,103.701 ,103.687,103.673,103.659,103.645, 103.631,103.617,103.603,103.591,103.59, 103.589,103.588,103.588,103.587,103.586 ,103.585,103.584,103.583,103.582, 103.582,103.581,103.58,103.58,103.579, 103.579,103.578,103.577,103.576,103.576 ,103.575,103.574,103.573,103.577, 103.591,103.602,103.616,103.63,103.644, 103.658,103.672,103.686,103.7,103.714, 103.728,103.743,103.757,103.771,103.785 ,103.799,103.813,103.827,103.841, 103.855,103.869,103.884,103.898,103.912 ,103.926,103.931)
ORBIT_NUMBER = 2345
ORBITAL_ECCENTRICITY = 0.573
ORBITAL_INCLINATION = 86.63
ORBITAL_SEMIMAJOR_AXIS = 8562.89
PERIAPSIS_ALTITUDE = 276.8
PERIAPSIS_ARGUMENT_ANGLE = 305.95
PERIAPSIS_TIME = 2005-11-10T08:12:28.000Z
SPACECRAFT_ORIENTATION = (0.0,-1.0,0.0)
^MEX_ORIENTATION_DESC = "MEX_ORIENTATION_DESC.TXT"
SPACECRAFT_POINTING_MODE = ACROSSTRACK
^MEX_POINTING_DESC = "MEX_POINTING_DESC.TXT"
RIGHT_ASCENSION = -1e+32
DECLINATION = -1e+32
OFFSET_ANGLE = 0.13
SPACECRAFT_SOLAR_DISTANCE = 2.19108e+08
TARGET_NAME = MARS
/* CAMERA DATA ELEMENTS */
BUFFER_MODE_ID = BUFFER_8
EXPOSURE_DURATION = 5.04
INST_CMPRS_NAME = NONE
INST_CMPRS_RATIO = 1.0
INST_CMPRS_QUALITY = -2147483648
INST_CMPRS_QUANTZ_TBL_ID = -2147483648
INSTRUMENT_TEMPERATURE = 11.921
MISSING_FRAMES = 0
START_BIT = 0
/* RADIOMETRIC DATA ELEMENTS */
BANDWIDTH = 250.0
CENTER_FILTER_WAVELENGTH = 600.0
RADIANCE_OFFSET = -9.99e+31
RADIANCE_SCALING_FACTOR = -9.99e+31
REFLECTANCE_SCALING_FACTOR = -9.99e+31
MEX:REFLECTANCE_OFFSET = -9.99e+31
/* IMAGE OBJECT DEFINITIONS */
OBJECT = IMAGE
  INTERCHANGE_FORMAT = BINARY
  LINES = 1009
  LINE_SAMPLES = 1012
  SAMPLE_TYPE = UNSIGNED_INTEGER
  SAMPLE_BITS = 8
  BANDS = 1
  BAND_STORAGE_TYPE = BAND_SEQUENTIAL
  MAXIMUM = 8158
  MEAN = 7465.6
  MINIMUM = 6300
  STANDARD_DEVIATION = 133.144
END_OBJECT = IMAGE
/* MAP OBJECT DEFINITIONS */
OBJECT = IMAGE_MAP_PROJECTION
  ^DATA_SET_MAP_PROJECTION_CATALOG= "DSMAP.CAT"
  A_AXIS_RADIUS = 3396.19
  B_AXIS_RADIUS = 3396.19
  C_AXIS_RADIUS = 3396.19
  CENTER_LATITUDE = 0.0
  CENTER_LONGITUDE = 104.0
  COORDINATE_SYSTEM_NAME = PLANETOGRAPHIC
  COORDINATE_SYSTEM_TYPE = "BODY-FIXED ROTATING"
  EASTERNMOST_LONGITUDE = 103.947
  FIRST_STANDARD_PARALLEL = "N/A"
  LINE_FIRST_PIXEL = 1
  LINE_LAST_PIXEL = 1009
  LINE_PROJECTION_OFFSET = 86201.0
  MAP_PROJECTION_ROTATION = 0.0
  MAP_PROJECTION_TYPE = SINUSOIDAL
  MAP_RESOLUTION = 2963.73482560944
  MAP_SCALE = 0.02
  MAXIMUM_LATITUDE = 29.092
  MINIMUM_LATITUDE = 28.7671
  POSITIVE_LONGITUDE_DIRECTION = EAST
  REFERENCE_LATITUDE = "N/A"
  REFERENCE_LONGITUDE = "N/A"
  SAMPLE_FIRST_PIXEL = 1
  SAMPLE_LAST_PIXEL = 1012
  SAMPLE_PROJECTION_OFFSET = 1127.0
  SECOND_STANDARD_PARALLEL = "N/A"
  WESTERNMOST_LONGITUDE = 103.573
END_OBJECT = IMAGE_MAP_PROJECTION
/* The JPEG2000 image data file associated with this label. */
OBJECT = COMPRESSED_FILE
  FILE_NAME = "H2345_0002_SR3.JP2"
  RECORD_TYPE = UNDEFINED
  FILE_RECORDS = UNK
  ENCODING_TYPE = "JP2"
  INTERCHANGE_FORMAT = BINARY
  UNCOMPRESSED_FILE_NAME = "H2345_0002_SR3.IMG"
  REQUIRED_STORAGE_BYTES = "1040336"
  ^DESCRIPTION = "JP2INFO.TXT"
END_OBJECT = COMPRESSED_FILE
END
