PDS_VERSION_ID = PDS3
/* FILE DATA ELEMENTS */
RECORD_TYPE = STREAM
/* POINTERS TO DATA OBJECTS */
^COMPRESSED_FILE = "H2345_0003_SR3.JP2"
/* IDENTIFICATION DATA ELEMENTS */
DATA_SET_ID = "MEX-M-HRSC-5-REFDR-MAPPROJECTED-V3.0"
DATA_SET_NAME = "MARS EXPRESS HRSC MAP PROJECTED REFDR V3.0"
DETECTOR_ID = MEX_HRSC_SRC
EVENT_TYPE = "MARS-LOCAL-CARTOGRAPHY-Ot"
INSTRUMENT_HOST_ID = MEX
INSTRUMENT_HOST_NAME = "MARS EXPRESS"
INSTRUMENT_ID = HRSC
INSTRUMENT_NAME = "HIGH RESOLUTION STEREO CAMERA"
MISSION_NAME = "MARS EXPRESS"
MISSION_PHASE_NAME = MR_Phase_8
PROCESSING_LEVEL_ID = 3
PRODUCT_CREATION_TIME = 2016-03-15T10:38:17.000Z
PRODUCT_ID = "H2345_0003_SR3.JP2"
RELEASE_ID = 0029
REVISION_ID = 0000
/* QUALITY DATA ELEMENTS */
DATA_QUALITY_ID = 1
DATA_QUALITY_DESC = "Data calculated based on original SPICE kernels"
/* TIME DATA ELEMENTS */
SPACECRAFT_CLOCK_START_COUNT = "1/0079691656.57958"
SPACECRAFT_CLOCK_STOP_COUNT = "1/0079692520.54906"
IMAGE_TIME = 2005-11-10T08:39:50.010Z
START_TIME = 2005-11-10T08:39:50.007Z
STOP_TIME = 2005-11-10T08:39:50.012Z
/* ORBITAL DATA ELEMENTS */
ASCENDING_NODE_LONGITUDE = 179.02
MAXIMUM_RESOLUTION = 18.242
FOOTPRINT_POINT_LATITUDE = (29.0953,29.0839,29.0697,29.058,29.0494 ,29.0392,29.0253,29.0164,29.0056, 28.9964,28.9862,28.9779,28.9625,28.9492 ,28.9298,28.9211,28.9079,28.8934, 28.8817,28.8654,28.854,28.841,28.8306, 28.821,28.8062,28.7986,28.7981,28.7975, 28.7969,28.7963,28.7957,28.7951,28.7945 ,28.7939,28.7933,28.7927,28.792,28.7914 ,28.7908,28.7902,28.7896,28.789,28.7884 ,28.7878,28.7871,28.7865,28.7859, 28.7853,28.7846,28.784,28.7834,28.7975, 28.8083,28.8259,28.8345,28.8499,28.8613 ,28.8789,28.8909,28.9044,28.9248, 28.9408,28.9537,28.9633,28.9725,28.9864 ,28.9993,29.0191,29.0289,29.0413, 29.0576,29.0678,29.0819,29.0912,29.0941 ,29.0949,29.0955,29.0962,29.0968, 29.0974,29.098,29.0986,29.0993,29.0999, 29.1005,29.1011,29.1017,29.1023,29.1029 ,29.1035,29.1042,29.1048,29.1054,29.106 ,29.1066,29.1072,29.1078,29.1084, 29.1089,29.0953)
FOOTPRINT_POINT_LONGITUDE = (103.93,103.931,103.932,103.932,103.933 ,103.933,103.934,103.935,103.935, 103.936,103.936,103.937,103.938,103.938 ,103.939,103.94,103.941,103.941,103.942 ,103.943,103.944,103.944,103.945, 103.945,103.946,103.943,103.929,103.915 ,103.901,103.886,103.872,103.858, 103.844,103.83,103.816,103.802,103.788, 103.774,103.76,103.746,103.732,103.718, 103.704,103.69,103.675,103.661,103.647, 103.633,103.619,103.605,103.591,103.589 ,103.589,103.588,103.587,103.586, 103.586,103.584,103.584,103.583,103.582 ,103.581,103.58,103.58,103.579,103.578, 103.577,103.576,103.576,103.575,103.574 ,103.573,103.573,103.572,103.583,103.6, 103.615,103.629,103.643,103.657,103.671 ,103.685,103.699,103.713,103.727, 103.742,103.756,103.77,103.784,103.798, 103.812,103.826,103.84,103.854,103.869, 103.883,103.897,103.911,103.925,103.93)
ORBIT_NUMBER = 2345
ORBITAL_ECCENTRICITY = 0.573
ORBITAL_INCLINATION = 86.63
ORBITAL_SEMIMAJOR_AXIS = 8562.89
PERIAPSIS_ALTITUDE = 276.8
PERIAPSIS_ARGUMENT_ANGLE = 305.95
PERIAPSIS_TIME = 2005-11-10T08:12:28.000Z
SPACECRAFT_ORIENTATION = (0.0,-1.0,0.0)
^MEX_ORIENTATION_DESC = "MEX_ORIENTATION_DESC.TXT"
SPACECRAFT_POINTING_MODE = ACROSSTRACK
^MEX_POINTING_DESC = "MEX_POINTING_DESC.TXT"
RIGHT_ASCENSION = -1e+32
DECLINATION = -1e+32
OFFSET_ANGLE = 0.13
SPACECRAFT_SOLAR_DISTANCE = 2.19108e+08
TARGET_NAME = MARS
/* CAMERA DATA ELEMENTS */
BUFFER_MODE_ID = BUFFER_8
EXPOSURE_DURATION = 5.04
INST_CMPRS_NAME = NONE
INST_CMPRS_RATIO = 1.0
INST_CMPRS_QUALITY = -2147483648
INST_CMPRS_QUANTZ_TBL_ID = -2147483648
INSTRUMENT_TEMPERATURE = 11.9726
MISSING_FRAMES = 0
START_BIT = 0
/* RADIOMETRIC DATA ELEMENTS */
BANDWIDTH = 250.0
CENTER_FILTER_WAVELENGTH = 600.0
RADIANCE_OFFSET = -9.99e+31
RADIANCE_SCALING_FACTOR = -9.99e+31
REFLECTANCE_SCALING_FACTOR = -9.99e+31
MEX:REFLECTANCE_OFFSET = -9.99e+31
/* IMAGE OBJECT DEFINITIONS */
OBJECT = IMAGE
  INTERCHANGE_FORMAT = BINARY
  LINES = 1009
  LINE_SAMPLES = 1013
  SAMPLE_TYPE = UNSIGNED_INTEGER
  SAMPLE_BITS = 8
  BANDS = 1
  BAND_STORAGE_TYPE = BAND_SEQUENTIAL
  MAXIMUM = 8215
  MEAN = 7464.68
  MINIMUM = 6370
  STANDARD_DEVIATION = 130.466
END_OBJECT = IMAGE
/* MAP OBJECT DEFINITIONS */
OBJECT = IMAGE_MAP_PROJECTION
  ^DATA_SET_MAP_PROJECTION_CATALOG= "DSMAP.CAT"
  A_AXIS_RADIUS = 3396.19
  B_AXIS_RADIUS = 3396.19
  C_AXIS_RADIUS = 3396.19
  CENTER_LATITUDE = 0.0
  CENTER_LONGITUDE = 104.0
  COORDINATE_SYSTEM_NAME = PLANETOGRAPHIC
  COORDINATE_SYSTEM_TYPE = "BODY-FIXED ROTATING"
  EASTERNMOST_LONGITUDE = 103.946
  FIRST_STANDARD_PARALLEL = "N/A"
  LINE_FIRST_PIXEL = 1
  LINE_LAST_PIXEL = 1009
  LINE_PROJECTION_OFFSET = 86251.0
  MAP_PROJECTION_ROTATION = 0.0
  MAP_PROJECTION_TYPE = SINUSOIDAL
  MAP_RESOLUTION = 2963.73482560944
  MAP_SCALE = 0.02
  MAXIMUM_LATITUDE = 29.1089
  MINIMUM_LATITUDE = 28.7834
  POSITIVE_LONGITUDE_DIRECTION = EAST
  REFERENCE_LATITUDE = "N/A"
  REFERENCE_LONGITUDE = "N/A"
  SAMPLE_FIRST_PIXEL = 1
  SAMPLE_LAST_PIXEL = 1013
  SAMPLE_PROJECTION_OFFSET = 1130.0
  SECOND_STANDARD_PARALLEL = "N/A"
  WESTERNMOST_LONGITUDE = 103.572
END_OBJECT = IMAGE_MAP_PROJECTION
/* The JPEG2000 image data file associated with this label. */
OBJECT = COMPRESSED_FILE
  FILE_NAME = "H2345_0003_SR3.JP2"
  RECORD_TYPE = UNDEFINED
  FILE_RECORDS = UNK
  ENCODING_TYPE = "JP2"
  INTERCHANGE_FORMAT = BINARY
  UNCOMPRESSED_FILE_NAME = "H2345_0003_SR3.IMG"
  REQUIRED_STORAGE_BYTES = "1040351"
  ^DESCRIPTION = "JP2INFO.TXT"
END_OBJECT = COMPRESSED_FILE
END
