PDS_VERSION_ID = PDS3
/* FILE DATA ELEMENTS */
RECORD_TYPE = STREAM
/* POINTERS TO DATA OBJECTS */
^COMPRESSED_FILE = "H2345_0004_SR3.JP2"
/* IDENTIFICATION DATA ELEMENTS */
DATA_SET_ID = "MEX-M-HRSC-5-REFDR-MAPPROJECTED-V3.0"
DATA_SET_NAME = "MARS EXPRESS HRSC MAP PROJECTED REFDR V3.0"
DETECTOR_ID = MEX_HRSC_SRC
EVENT_TYPE = "MARS-LOCAL-CARTOGRAPHY-Ot"
INSTRUMENT_HOST_ID = MEX
INSTRUMENT_HOST_NAME = "MARS EXPRESS"
INSTRUMENT_ID = HRSC
INSTRUMENT_NAME = "HIGH RESOLUTION STEREO CAMERA"
MISSION_NAME = "MARS EXPRESS"
MISSION_PHASE_NAME = MR_Phase_8
PROCESSING_LEVEL_ID = 3
PRODUCT_CREATION_TIME = 2016-03-15T10:38:17.000Z
PRODUCT_ID = "H2345_0004_SR3.JP2"
RELEASE_ID = 0029
REVISION_ID = 0000
/* QUALITY DATA ELEMENTS */
DATA_QUALITY_ID = 1
DATA_QUALITY_DESC = "Data calculated based on original SPICE kernels"
/* TIME DATA ELEMENTS */
SPACECRAFT_CLOCK_START_COUNT = "1/0079691656.57958"
SPACECRAFT_CLOCK_STOP_COUNT = "1/0079692520.54906"
IMAGE_TIME = 2005-11-10T08:39:50.555Z
START_TIME = 2005-11-10T08:39:50.552Z
STOP_TIME = 2005-11-10T08:39:50.557Z
/* ORBITAL DATA ELEMENTS */
ASCENDING_NODE_LONGITUDE = 179.02
MAXIMUM_RESOLUTION = 18.249
FOOTPRINT_POINT_LATITUDE = (29.1224,29.1097,29.0983,29.086,29.0675 ,29.0509,29.0361,29.0234,29.0139, 29.0015,28.9907,28.9821,28.9701,28.9556 ,28.9445,28.9352,28.9207,28.9096, 28.8927,28.8813,28.8699,28.8597,28.8465 ,28.8363,28.8264,28.8156,28.815,28.8146 ,28.814,28.8134,28.8128,28.8122,28.8116 ,28.811,28.8104,28.8098,28.8092,28.8085 ,28.8079,28.8073,28.8067,28.8061, 28.8055,28.8049,28.8042,28.8036,28.803, 28.8024,28.8018,28.8011,28.8002,28.8088 ,28.8193,28.8282,28.8371,28.8467, 28.8655,28.8766,28.8905,28.9019,28.9179 ,28.9342,28.9469,28.9601,28.9688, 28.9796,28.9962,29.0054,29.0196,29.0292 ,29.0403,29.0579,29.0742,29.093,29.1069 ,29.1111,29.1117,29.1123,29.1129, 29.1136,29.1142,29.1148,29.1154,29.116, 29.1167,29.1173,29.1179,29.1185,29.1191 ,29.1197,29.1203,29.1209,29.1215, 29.1221,29.1228,29.1234,29.124,29.1245, 29.1251,29.1224)
FOOTPRINT_POINT_LONGITUDE = (103.929,103.93,103.93,103.931,103.932, 103.933,103.934,103.934,103.935,103.936 ,103.936,103.937,103.937,103.938, 103.939,103.939,103.94,103.941,103.942, 103.942,103.943,103.943,103.944,103.945 ,103.945,103.945,103.931,103.921, 103.907,103.893,103.879,103.864,103.85, 103.836,103.822,103.808,103.794,103.78, 103.766,103.752,103.738,103.724,103.71, 103.696,103.682,103.667,103.653,103.639 ,103.625,103.611,103.59,103.589,103.588 ,103.587,103.587,103.586,103.585, 103.585,103.584,103.583,103.582,103.581 ,103.58,103.58,103.579,103.579,103.578, 103.577,103.576,103.576,103.575,103.574 ,103.573,103.572,103.571,103.582, 103.596,103.61,103.624,103.638,103.652, 103.666,103.681,103.695,103.709,103.723 ,103.737,103.751,103.765,103.779, 103.794,103.808,103.822,103.836,103.85, 103.864,103.878,103.892,103.906, 103.929)
ORBIT_NUMBER = 2345
ORBITAL_ECCENTRICITY = 0.573
ORBITAL_INCLINATION = 86.63
ORBITAL_SEMIMAJOR_AXIS = 8562.89
PERIAPSIS_ALTITUDE = 276.8
PERIAPSIS_ARGUMENT_ANGLE = 305.95
PERIAPSIS_TIME = 2005-11-10T08:12:28.000Z
SPACECRAFT_ORIENTATION = (0.0,-1.0,0.0)
^MEX_ORIENTATION_DESC = "MEX_ORIENTATION_DESC.TXT"
SPACECRAFT_POINTING_MODE = ACROSSTRACK
^MEX_POINTING_DESC = "MEX_POINTING_DESC.TXT"
RIGHT_ASCENSION = -1e+32
DECLINATION = -1e+32
OFFSET_ANGLE = 0.13
SPACECRAFT_SOLAR_DISTANCE = 2.19108e+08
TARGET_NAME = MARS
/* CAMERA DATA ELEMENTS */
BUFFER_MODE_ID = BUFFER_8
EXPOSURE_DURATION = 5.04
INST_CMPRS_NAME = NONE
INST_CMPRS_RATIO = 1.0
INST_CMPRS_QUALITY = -2147483648
INST_CMPRS_QUANTZ_TBL_ID = -2147483648
INSTRUMENT_TEMPERATURE = 12.0242
MISSING_FRAMES = 0
START_BIT = 0
/* RADIOMETRIC DATA ELEMENTS */
BANDWIDTH = 250.0
CENTER_FILTER_WAVELENGTH = 600.0
RADIANCE_OFFSET = -9.99e+31
RADIANCE_SCALING_FACTOR = -9.99e+31
REFLECTANCE_SCALING_FACTOR = -9.99e+31
MEX:REFLECTANCE_OFFSET = -9.99e+31
/* IMAGE OBJECT DEFINITIONS */
OBJECT = IMAGE
  INTERCHANGE_FORMAT = BINARY
  LINES = 1009
  LINE_SAMPLES = 1013
  SAMPLE_TYPE = UNSIGNED_INTEGER
  SAMPLE_BITS = 8
  BANDS = 1
  BAND_STORAGE_TYPE = BAND_SEQUENTIAL
  MAXIMUM = 8154
  MEAN = 7462.71
  MINIMUM = 6352
  STANDARD_DEVIATION = 127.15
END_OBJECT = IMAGE
/* MAP OBJECT DEFINITIONS */
OBJECT = IMAGE_MAP_PROJECTION
  ^DATA_SET_MAP_PROJECTION_CATALOG= "DSMAP.CAT"
  A_AXIS_RADIUS = 3396.19
  B_AXIS_RADIUS = 3396.19
  C_AXIS_RADIUS = 3396.19
  CENTER_LATITUDE = 0.0
  CENTER_LONGITUDE = 104.0
  COORDINATE_SYSTEM_NAME = PLANETOGRAPHIC
  COORDINATE_SYSTEM_TYPE = "BODY-FIXED ROTATING"
  EASTERNMOST_LONGITUDE = 103.945
  FIRST_STANDARD_PARALLEL = "N/A"
  LINE_FIRST_PIXEL = 1
  LINE_LAST_PIXEL = 1009
  LINE_PROJECTION_OFFSET = 86301.0
  MAP_PROJECTION_ROTATION = 0.0
  MAP_PROJECTION_TYPE = SINUSOIDAL
  MAP_RESOLUTION = 2963.73482560944
  MAP_SCALE = 0.02
  MAXIMUM_LATITUDE = 29.1251
  MINIMUM_LATITUDE = 28.8002
  POSITIVE_LONGITUDE_DIRECTION = EAST
  REFERENCE_LATITUDE = "N/A"
  REFERENCE_LONGITUDE = "N/A"
  SAMPLE_FIRST_PIXEL = 1
  SAMPLE_LAST_PIXEL = 1013
  SAMPLE_PROJECTION_OFFSET = 1132.0
  SECOND_STANDARD_PARALLEL = "N/A"
  WESTERNMOST_LONGITUDE = 103.571
END_OBJECT = IMAGE_MAP_PROJECTION
/* The JPEG2000 image data file associated with this label. */
OBJECT = COMPRESSED_FILE
  FILE_NAME = "H2345_0004_SR3.JP2"
  RECORD_TYPE = UNDEFINED
  FILE_RECORDS = UNK
  ENCODING_TYPE = "JP2"
  INTERCHANGE_FORMAT = BINARY
  UNCOMPRESSED_FILE_NAME = "H2345_0004_SR3.IMG"
  REQUIRED_STORAGE_BYTES = "1041364"
  ^DESCRIPTION = "JP2INFO.TXT"
END_OBJECT = COMPRESSED_FILE
END
