PDS_VERSION_ID = PDS3
/* FILE DATA ELEMENTS */
RECORD_TYPE = STREAM
/* POINTERS TO DATA OBJECTS */
^COMPRESSED_FILE = "H2345_0006_SR3.JP2"
/* IDENTIFICATION DATA ELEMENTS */
DATA_SET_ID = "MEX-M-HRSC-5-REFDR-MAPPROJECTED-V3.0"
DATA_SET_NAME = "MARS EXPRESS HRSC MAP PROJECTED REFDR V3.0"
DETECTOR_ID = MEX_HRSC_SRC
EVENT_TYPE = "MARS-LOCAL-CARTOGRAPHY-Ot"
INSTRUMENT_HOST_ID = MEX
INSTRUMENT_HOST_NAME = "MARS EXPRESS"
INSTRUMENT_ID = HRSC
INSTRUMENT_NAME = "HIGH RESOLUTION STEREO CAMERA"
MISSION_NAME = "MARS EXPRESS"
MISSION_PHASE_NAME = MR_Phase_8
PROCESSING_LEVEL_ID = 3
PRODUCT_CREATION_TIME = 2016-03-15T10:38:17.000Z
PRODUCT_ID = "H2345_0006_SR3.JP2"
RELEASE_ID = 0029
REVISION_ID = 0000
/* QUALITY DATA ELEMENTS */
DATA_QUALITY_ID = 1
DATA_QUALITY_DESC = "Data calculated based on original SPICE kernels"
/* TIME DATA ELEMENTS */
SPACECRAFT_CLOCK_START_COUNT = "1/0079691656.57958"
SPACECRAFT_CLOCK_STOP_COUNT = "1/0079692520.54906"
IMAGE_TIME = 2005-11-10T08:39:51.645Z
START_TIME = 2005-11-10T08:39:51.642Z
STOP_TIME = 2005-11-10T08:39:51.647Z
/* ORBITAL DATA ELEMENTS */
ASCENDING_NODE_LONGITUDE = 179.02
MAXIMUM_RESOLUTION = 18.265
FOOTPRINT_POINT_LATITUDE = (29.1454,29.135,29.1266,29.1146,29.1001 ,29.089,29.0785,29.0609,29.0439,29.0307 ,29.0229,29.0128,28.9967,28.9844, 28.9751,28.96,28.952,28.9356,28.9177, 28.906,28.8872,28.8782,28.8684,28.8529, 28.8486,28.8482,28.8476,28.847,28.8464, 28.8458,28.8452,28.8446,28.844,28.8434, 28.8428,28.8421,28.8415,28.8409,28.8403 ,28.8397,28.8391,28.8385,28.8378, 28.8372,28.8366,28.836,28.8353,28.8347, 28.8341,28.8384,28.8507,28.8615,28.8766 ,28.8893,28.8997,28.9121,28.9272, 28.9383,28.955,28.9676,28.9837,28.9942, 29.0114,29.0225,29.0352,29.0466,29.0602 ,29.0688,29.0815,29.096,29.1055,29.1154 ,29.1293,29.142,29.1454,29.1459,29.1465 ,29.1471,29.1477,29.1484,29.149,29.1496 ,29.1502,29.1508,29.1514,29.1521, 29.1527,29.1533,29.1539,29.1545,29.1551 ,29.1557,29.1563,29.1569,29.1575, 29.1581,29.1587,29.1593,29.1599, 29.1454)
FOOTPRINT_POINT_LONGITUDE = (103.928,103.928,103.929,103.929,103.93 ,103.931,103.931,103.932,103.933, 103.934,103.935,103.935,103.936,103.937 ,103.937,103.938,103.938,103.939,103.94 ,103.941,103.942,103.942,103.943, 103.944,103.93,103.919,103.905,103.891, 103.877,103.863,103.849,103.835,103.82, 103.806,103.792,103.778,103.764,103.75, 103.736,103.722,103.708,103.694,103.68, 103.665,103.651,103.637,103.623,103.609 ,103.595,103.587,103.586,103.585, 103.584,103.584,103.583,103.582,103.581 ,103.581,103.58,103.579,103.578,103.578 ,103.577,103.576,103.575,103.574, 103.574,103.573,103.572,103.572,103.571 ,103.57,103.57,103.569,103.59,103.601, 103.615,103.629,103.643,103.657,103.672 ,103.686,103.7,103.714,103.728,103.742, 103.756,103.77,103.785,103.799,103.813, 103.827,103.841,103.855,103.869,103.884 ,103.898,103.912,103.926,103.928)
ORBIT_NUMBER = 2345
ORBITAL_ECCENTRICITY = 0.573
ORBITAL_INCLINATION = 86.63
ORBITAL_SEMIMAJOR_AXIS = 8562.89
PERIAPSIS_ALTITUDE = 276.8
PERIAPSIS_ARGUMENT_ANGLE = 305.95
PERIAPSIS_TIME = 2005-11-10T08:12:28.000Z
SPACECRAFT_ORIENTATION = (0.0,-1.0,0.0)
^MEX_ORIENTATION_DESC = "MEX_ORIENTATION_DESC.TXT"
SPACECRAFT_POINTING_MODE = ACROSSTRACK
^MEX_POINTING_DESC = "MEX_POINTING_DESC.TXT"
RIGHT_ASCENSION = -1e+32
DECLINATION = -1e+32
OFFSET_ANGLE = 0.13
SPACECRAFT_SOLAR_DISTANCE = 2.19108e+08
TARGET_NAME = MARS
/* CAMERA DATA ELEMENTS */
BUFFER_MODE_ID = BUFFER_8
EXPOSURE_DURATION = 5.04
INST_CMPRS_NAME = NONE
INST_CMPRS_RATIO = 1.0
INST_CMPRS_QUALITY = -2147483648
INST_CMPRS_QUANTZ_TBL_ID = -2147483648
INSTRUMENT_TEMPERATURE = 12.1274
MISSING_FRAMES = 0
START_BIT = 0
/* RADIOMETRIC DATA ELEMENTS */
BANDWIDTH = 250.0
CENTER_FILTER_WAVELENGTH = 600.0
RADIANCE_OFFSET = -9.99e+31
RADIANCE_SCALING_FACTOR = -9.99e+31
REFLECTANCE_SCALING_FACTOR = -9.99e+31
MEX:REFLECTANCE_OFFSET = -9.99e+31
/* IMAGE OBJECT DEFINITIONS */
OBJECT = IMAGE
  INTERCHANGE_FORMAT = BINARY
  LINES = 1010
  LINE_SAMPLES = 1015
  SAMPLE_TYPE = UNSIGNED_INTEGER
  SAMPLE_BITS = 8
  BANDS = 1
  BAND_STORAGE_TYPE = BAND_SEQUENTIAL
  MAXIMUM = 8111
  MEAN = 7453.48
  MINIMUM = 6235
  STANDARD_DEVIATION = 119.349
END_OBJECT = IMAGE
/* MAP OBJECT DEFINITIONS */
OBJECT = IMAGE_MAP_PROJECTION
  ^DATA_SET_MAP_PROJECTION_CATALOG= "DSMAP.CAT"
  A_AXIS_RADIUS = 3396.19
  B_AXIS_RADIUS = 3396.19
  C_AXIS_RADIUS = 3396.19
  CENTER_LATITUDE = 0.0
  CENTER_LONGITUDE = 104.0
  COORDINATE_SYSTEM_NAME = PLANETOGRAPHIC
  COORDINATE_SYSTEM_TYPE = "BODY-FIXED ROTATING"
  EASTERNMOST_LONGITUDE = 103.944
  FIRST_STANDARD_PARALLEL = "N/A"
  LINE_FIRST_PIXEL = 1
  LINE_LAST_PIXEL = 1010
  LINE_PROJECTION_OFFSET = 86401.0
  MAP_PROJECTION_ROTATION = 0.0
  MAP_PROJECTION_TYPE = SINUSOIDAL
  MAP_RESOLUTION = 2963.73482560944
  MAP_SCALE = 0.02
  MAXIMUM_LATITUDE = 29.1599
  MINIMUM_LATITUDE = 28.8341
  POSITIVE_LONGITUDE_DIRECTION = EAST
  REFERENCE_LATITUDE = "N/A"
  REFERENCE_LONGITUDE = "N/A"
  SAMPLE_FIRST_PIXEL = 1
  SAMPLE_LAST_PIXEL = 1015
  SAMPLE_PROJECTION_OFFSET = 1138.0
  SECOND_STANDARD_PARALLEL = "N/A"
  WESTERNMOST_LONGITUDE = 103.569
END_OBJECT = IMAGE_MAP_PROJECTION
/* The JPEG2000 image data file associated with this label. */
OBJECT = COMPRESSED_FILE
  FILE_NAME = "H2345_0006_SR3.JP2"
  RECORD_TYPE = UNDEFINED
  FILE_RECORDS = UNK
  ENCODING_TYPE = "JP2"
  INTERCHANGE_FORMAT = BINARY
  UNCOMPRESSED_FILE_NAME = "H2345_0006_SR3.IMG"
  REQUIRED_STORAGE_BYTES = "1043420"
  ^DESCRIPTION = "JP2INFO.TXT"
END_OBJECT = COMPRESSED_FILE
END
