PDS_VERSION_ID = PDS3
/* FILE DATA ELEMENTS */
RECORD_TYPE = STREAM
/* POINTERS TO DATA OBJECTS */
^COMPRESSED_FILE = "H2348_0001_S23.JP2"
/* IDENTIFICATION DATA ELEMENTS */
DATA_SET_ID = "MEX-M-HRSC-5-REFDR-MAPPROJECTED-V3.0"
DATA_SET_NAME = "MARS EXPRESS HRSC MAP PROJECTED REFDR V3.0"
DETECTOR_ID = MEX_HRSC_S2
EVENT_TYPE = "MARS-REGIONAL-MAPPING-Im-Eo"
INSTRUMENT_HOST_ID = MEX
INSTRUMENT_HOST_NAME = "MARS EXPRESS"
INSTRUMENT_ID = HRSC
INSTRUMENT_NAME = "HIGH RESOLUTION STEREO CAMERA"
MISSION_NAME = "MARS EXPRESS"
MISSION_PHASE_NAME = MR_Phase_8
PROCESSING_LEVEL_ID = 3
PRODUCT_CREATION_TIME = 2016-03-15T10:38:17.000Z
PRODUCT_ID = "H2348_0001_S23.JP2"
RELEASE_ID = 0029
REVISION_ID = 0000
/* QUALITY DATA ELEMENTS */
DATA_QUALITY_ID = 1
DATA_QUALITY_DESC = "Data calculated based on original SPICE kernels"
/* TIME DATA ELEMENTS */
SPACECRAFT_CLOCK_START_COUNT = "1/0079762686.57155"
SPACECRAFT_CLOCK_STOP_COUNT = "1/0079762900.48974"
START_TIME = 2005-11-11T04:19:09.475Z
STOP_TIME = 2005-11-11T04:21:45.716Z
/* ORBITAL DATA ELEMENTS */
ASCENDING_NODE_LONGITUDE = 178.96
MAXIMUM_RESOLUTION = 23.4
FOOTPRINT_POINT_LATITUDE = (-65.9773,-66.012,-66.0434,-66.1439, -65.9237,-65.7016,-65.4784,-65.2579, -65.033,-64.8118,-64.483,-64.2617, -64.0478,-63.8342,-63.6208,-63.4072, -63.0866,-62.8726,-62.5525,-62.339, -62.1236,-61.9067,-61.695,-61.4801, -61.2619,-61.0502,-60.7322,-60.5297, -60.325,-60.1205,-59.9169,-59.7131, -59.509,-59.2949,-58.9856,-58.7819, -58.5871,-58.3841,-58.1813,-57.977, -57.7706,-57.4617,-57.2582,-57.0534, -56.7411,-56.5334,-56.3317,-56.1293, -55.9259,-55.7226,-55.6089,-55.5959, -55.5786,-55.567,-55.7695,-55.9727, -56.1751,-56.3776,-56.5806,-56.7836, -57.0878,-57.3923,-57.5952,-57.7985, -58.0044,-58.2061,-58.4088,-58.6131, -58.9188,-59.1228,-59.3355,-59.6408, -59.8444,-60.0481,-60.2513,-60.4562, -60.6611,-60.8704,-61.0827,-61.4013, -61.614,-61.8251,-62.0371,-62.2509, -62.5699,-62.7822,-62.9941,-63.2063, -63.4183,-63.6297,-63.842,-64.0542, -64.2695,-64.5966,-64.8163,-65.0352, -65.2556,-65.4753,-65.8048,-65.9773)
FOOTPRINT_POINT_LONGITUDE = (165.815,166.579,167.339,167.757, 167.814,167.869,167.922,167.975,168.027 ,168.078,168.153,168.201,168.247, 168.292,168.337,168.38,168.444,168.485, 168.547,168.586,168.625,168.663,168.702 ,168.739,168.775,168.811,168.863, 168.897,168.93,168.962,168.994,169.025, 169.056,169.088,169.132,169.161,169.191 ,169.22,169.248,169.275,169.302,169.342 ,169.368,169.394,169.431,169.455,169.48 ,169.505,169.528,169.552,169.251, 168.771,168.203,167.844,167.811,167.778 ,167.745,167.711,167.676,167.641, 167.587,167.532,167.494,167.456,167.414 ,167.376,167.336,167.294,167.231, 167.187,167.141,167.074,167.029,166.982 ,166.936,166.886,166.836,166.784, 166.731,166.649,166.593,166.538,166.481 ,166.42,166.329,166.267,166.205,166.141 ,166.076,166.01,165.943,165.873,165.803 ,165.695,165.619,165.542,165.462, 165.381,165.255,165.815)
ORBIT_NUMBER = 2348
ORBITAL_ECCENTRICITY = 0.572
ORBITAL_INCLINATION = 86.63
ORBITAL_SEMIMAJOR_AXIS = 8558.7
PERIAPSIS_ALTITUDE = 277.89
PERIAPSIS_ARGUMENT_ANGLE = 305.46
PERIAPSIS_TIME = 2005-11-11T04:21:39.000Z
SPACECRAFT_ORIENTATION = (0.0,-1.0,0.0)
^MEX_ORIENTATION_DESC = "MEX_ORIENTATION_DESC.TXT"
SPACECRAFT_POINTING_MODE = ACROSSTRACK
^MEX_POINTING_DESC = "MEX_POINTING_DESC.TXT"
RIGHT_ASCENSION = -1e+32
DECLINATION = -1e+32
OFFSET_ANGLE = 0.25
SPACECRAFT_SOLAR_DISTANCE = 2.19263e+08
TARGET_NAME = MARS
/* CAMERA DATA ELEMENTS */
DETECTOR_TEMPERATURE = 19.7978
FOCAL_PLANE_TEMPERATURE = 8.5833
INST_CMPRS_NAME = "DISCRETE COSINE TRANSFORMATION (DCT)"
INST_CMPRS_RATIO = 13.3967
INST_CMPRS_QUALITY = 0
INST_CMPRS_QUANTZ_TBL_ID = 0
INSTRUMENT_TEMPERATURE = 12.6613
LENS_TEMPERATURE = 8.7872
MACROPIXEL_SIZE = 2
MISSING_FRAMES = 3
PIXEL_SUBSAMPLING_FLAG = N
SIGNAL_CHAIN_ID = 1
/* RADIOMETRIC DATA ELEMENTS */
BANDWIDTH = 178.0
CENTER_FILTER_WAVELENGTH = 679.0
RADIANCE_OFFSET = 5.05081
RADIANCE_SCALING_FACTOR = 0.0123794
REFLECTANCE_SCALING_FACTOR = 0.000315183
MEX:REFLECTANCE_OFFSET = 0.128595
/* IMAGE OBJECT DEFINITIONS */
OBJECT = IMAGE
  INTERCHANGE_FORMAT = BINARY
  LINES = 25176
  LINE_SAMPLES = 4861
  SAMPLE_TYPE = UNSIGNED_INTEGER
  SAMPLE_BITS = 8
  BANDS = 1
  BAND_STORAGE_TYPE = BAND_SEQUENTIAL
  MAXIMUM = 107
  MEAN = 87.0234
  MINIMUM = 62
  STANDARD_DEVIATION = 5.51011
END_OBJECT = IMAGE
/* MAP OBJECT DEFINITIONS */
OBJECT = IMAGE_MAP_PROJECTION
  ^DATA_SET_MAP_PROJECTION_CATALOG= "DSMAP.CAT"
  A_AXIS_RADIUS = 3396.0
  B_AXIS_RADIUS = 3396.0
  C_AXIS_RADIUS = 3396.0
  CENTER_LATITUDE = 0.0
  CENTER_LONGITUDE = 168.0
  COORDINATE_SYSTEM_NAME = PLANETOGRAPHIC
  COORDINATE_SYSTEM_TYPE = "BODY-FIXED ROTATING"
  EASTERNMOST_LONGITUDE = 169.552
  FIRST_STANDARD_PARALLEL = "N/A"
  LINE_FIRST_PIXEL = 1
  LINE_LAST_PIXEL = 25176
  LINE_PROJECTION_OFFSET = -131743.25
  MAP_PROJECTION_ROTATION = 0.0
  MAP_PROJECTION_TYPE = SINUSOIDAL
  MAP_RESOLUTION = 2370.85521546667
  MAP_SCALE = 0.025
  MAXIMUM_LATITUDE = -55.567
  MINIMUM_LATITUDE = -66.1439
  POSITIVE_LONGITUDE_DIRECTION = EAST
  REFERENCE_LATITUDE = "N/A"
  REFERENCE_LONGITUDE = "N/A"
  SAMPLE_FIRST_PIXEL = 1
  SAMPLE_LAST_PIXEL = 4861
  SAMPLE_PROJECTION_OFFSET = 2800.25
  SECOND_STANDARD_PARALLEL = "N/A"
  WESTERNMOST_LONGITUDE = 165.255
END_OBJECT = IMAGE_MAP_PROJECTION
/* The JPEG2000 image data file associated with this label. */
OBJECT = COMPRESSED_FILE
  FILE_NAME = "H2348_0001_S23.JP2"
  RECORD_TYPE = UNDEFINED
  FILE_RECORDS = UNK
  ENCODING_TYPE = "JP2"
  INTERCHANGE_FORMAT = BINARY
  UNCOMPRESSED_FILE_NAME = "H2348_0001_S23.IMG"
  REQUIRED_STORAGE_BYTES = "122404841"
  ^DESCRIPTION = "JP2INFO.TXT"
END_OBJECT = COMPRESSED_FILE
END
