PDS_VERSION_ID = PDS3
/* FILE DATA ELEMENTS */
RECORD_TYPE = STREAM
/* POINTERS TO DATA OBJECTS */
^COMPRESSED_FILE = "H2350_0000_BL3.JP2"
/* IDENTIFICATION DATA ELEMENTS */
DATA_SET_ID = "MEX-M-HRSC-5-REFDR-MAPPROJECTED-V3.0"
DATA_SET_NAME = "MARS EXPRESS HRSC MAP PROJECTED REFDR V3.0"
DETECTOR_ID = MEX_HRSC_BLUE
EVENT_TYPE = "MARS-REGIONAL-MAPPING-Gl-La"
INSTRUMENT_HOST_ID = MEX
INSTRUMENT_HOST_NAME = "MARS EXPRESS"
INSTRUMENT_ID = HRSC
INSTRUMENT_NAME = "HIGH RESOLUTION STEREO CAMERA"
MISSION_NAME = "MARS EXPRESS"
MISSION_PHASE_NAME = MR_Phase_8
PROCESSING_LEVEL_ID = 3
PRODUCT_CREATION_TIME = 2016-03-15T10:38:17.000Z
PRODUCT_ID = "H2350_0000_BL3.JP2"
RELEASE_ID = 0029
REVISION_ID = 0000
/* QUALITY DATA ELEMENTS */
DATA_QUALITY_ID = 1
DATA_QUALITY_DESC = "Data calculated based on original SPICE kernels"
/* TIME DATA ELEMENTS */
SPACECRAFT_CLOCK_START_COUNT = "1/0079810498.57141"
SPACECRAFT_CLOCK_STOP_COUNT = "1/0079810758.56348"
START_TIME = 2005-11-11T17:36:42.200Z
STOP_TIME = 2005-11-11T17:38:42.495Z
/* ORBITAL DATA ELEMENTS */
ASCENDING_NODE_LONGITUDE = 178.92
MAXIMUM_RESOLUTION = 42.8
FOOTPRINT_POINT_LATITUDE = (-81.6864,-81.785,-81.8697,-81.9517, -82.0692,-82.1621,-82.2328,-82.3004, -82.3725,-82.4332,-82.4905,-82.5511, -82.6939,-82.8366,-82.9789,-83.1189, -83.2587,-83.4672,-83.6041,-83.7407, -83.944,-84.0774,-84.2103,-84.4082, -84.5377,-84.6665,-84.8582,-84.9831, -85.1073,-85.2916,-85.4114,-85.53, -85.6475,-85.7633,-85.8761,-85.9874, -86.0971,-86.2045,-86.3085,-86.4104, -86.51,-86.6068,-86.7895,-86.8762, -86.9595,-87.075,-87.2463,-87.36, -87.4702,-87.5292,-87.5569,-87.5686, -87.4249,-87.2803,-87.0278,-86.8113, -86.5586,-86.3961,-86.2151,-86.0705, -85.8347,-85.6972,-85.6714,-85.6057, -85.5237,-85.4633,-85.3697,-85.2908, -85.1418,-85.0096,-84.9384,-84.8643, -84.7877,-84.7088,-84.6264,-84.5414, -84.4542,-84.3652,-84.2732,-84.179, -84.0831,-83.9855,-83.8848,-83.7306, -83.626,-83.4643,-83.3546,-83.2438, -83.0733,-82.9579,-82.8416,-82.6631, -82.5426,-82.4213,-82.2354,-82.1102, -81.9844,-81.856,-81.6621,-81.6864)
FOOTPRINT_POINT_LONGITUDE = (191.839,190.685,189.637,188.567, 186.923,185.515,184.367,183.198,181.858 ,180.645,179.411,177.536,177.919, 178.318,178.734,179.161,179.607,180.31, 180.798,181.309,182.117,182.679,183.269 ,184.206,184.86,185.546,186.639,187.405 ,188.21,189.497,190.398,191.349,192.344 ,193.402,194.504,195.676,196.903, 198.198,199.553,200.996,202.522,204.125 ,207.565,209.436,211.413,214.544, 220.313,225.35,232.207,238.008,242.477, 247.009,247.165,247.303,247.507,247.66, 247.819,247.904,247.983,248.048,248.134 ,247.316,243.911,238.896,234.814, 232.432,229.329,227.091,223.49,220.771, 219.449,218.163,216.915,215.706,214.519 ,213.365,212.249,211.168,210.108, 209.081,208.087,207.128,206.186,204.832 ,203.967,202.708,201.902,201.124, 199.992,199.267,198.568,197.549,196.897 ,196.267,195.349,194.76,194.192,193.634 ,192.831,191.839)
ORBIT_NUMBER = 2350
ORBITAL_ECCENTRICITY = 0.572
ORBITAL_INCLINATION = 86.64
ORBITAL_SEMIMAJOR_AXIS = 8556.55
PERIAPSIS_ALTITUDE = 277.55
PERIAPSIS_ARGUMENT_ANGLE = 305.09
PERIAPSIS_TIME = 2005-11-11T17:47:43.000Z
SPACECRAFT_ORIENTATION = (0.0,-1.0,0.0)
^MEX_ORIENTATION_DESC = "MEX_ORIENTATION_DESC.TXT"
SPACECRAFT_POINTING_MODE = NADIR
^MEX_POINTING_DESC = "MEX_POINTING_DESC.TXT"
RIGHT_ASCENSION = -1e+32
DECLINATION = -1e+32
OFFSET_ANGLE = -1e+32
SPACECRAFT_SOLAR_DISTANCE = 2.19367e+08
TARGET_NAME = MARS
/* CAMERA DATA ELEMENTS */
DETECTOR_TEMPERATURE = 17.9627
FOCAL_PLANE_TEMPERATURE = 7.9716
INST_CMPRS_NAME = "DISCRETE COSINE TRANSFORMATION (DCT)"
INST_CMPRS_RATIO = 3.99672
INST_CMPRS_QUALITY = 0
INST_CMPRS_QUANTZ_TBL_ID = 0
INSTRUMENT_TEMPERATURE = 10.8262
LENS_TEMPERATURE = 8.3794
MACROPIXEL_SIZE = 2
MISSING_FRAMES = 0
PIXEL_SUBSAMPLING_FLAG = N
SIGNAL_CHAIN_ID = 2
/* RADIOMETRIC DATA ELEMENTS */
BANDWIDTH = 76.0
CENTER_FILTER_WAVELENGTH = 444.0
RADIANCE_OFFSET = 0.222522
RADIANCE_SCALING_FACTOR = 0.00422071
REFLECTANCE_SCALING_FACTOR = 0.000208679
MEX:REFLECTANCE_OFFSET = 0.0110019
/* IMAGE OBJECT DEFINITIONS */
OBJECT = IMAGE
  INTERCHANGE_FORMAT = BINARY
  LINES = 8601
  LINE_SAMPLES = 5093
  SAMPLE_TYPE = UNSIGNED_INTEGER
  SAMPLE_BITS = 8
  BANDS = 1
  BAND_STORAGE_TYPE = BAND_SEQUENTIAL
  MAXIMUM = 292
  MEAN = 91.2363
  MINIMUM = 43
  STANDARD_DEVIATION = 15.4142
END_OBJECT = IMAGE
/* MAP OBJECT DEFINITIONS */
OBJECT = IMAGE_MAP_PROJECTION
  ^DATA_SET_MAP_PROJECTION_CATALOG= "DSMAP.CAT"
  A_AXIS_RADIUS = 3396.0
  B_AXIS_RADIUS = 3396.0
  C_AXIS_RADIUS = 3396.0
  CENTER_LATITUDE = -90.0
  CENTER_LONGITUDE = 0.0
  COORDINATE_SYSTEM_NAME = PLANETOGRAPHIC
  COORDINATE_SYSTEM_TYPE = "BODY-FIXED ROTATING"
  EASTERNMOST_LONGITUDE = 248.134
  FIRST_STANDARD_PARALLEL = "N/A"
  LINE_FIRST_PIXEL = 1
  LINE_LAST_PIXEL = 8601
  LINE_PROJECTION_OFFSET = -1147.75
  MAP_PROJECTION_ROTATION = 0.0
  MAP_PROJECTION_TYPE = STEREOGRAPHIC
  MAP_RESOLUTION = 1185.42760773333
  MAP_SCALE = 0.05
  MAXIMUM_LATITUDE = -81.6621
  MINIMUM_LATITUDE = -87.5686
  POSITIVE_LONGITUDE_DIRECTION = EAST
  REFERENCE_LATITUDE = "N/A"
  REFERENCE_LONGITUDE = "N/A"
  SAMPLE_FIRST_PIXEL = 1
  SAMPLE_LAST_PIXEL = 5093
  SAMPLE_PROJECTION_OFFSET = 4707.75
  SECOND_STANDARD_PARALLEL = "N/A"
  WESTERNMOST_LONGITUDE = 177.536
END_OBJECT = IMAGE_MAP_PROJECTION
/* The JPEG2000 image data file associated with this label. */
OBJECT = COMPRESSED_FILE
  FILE_NAME = "H2350_0000_BL3.JP2"
  RECORD_TYPE = UNDEFINED
  FILE_RECORDS = UNK
  ENCODING_TYPE = "JP2"
  INTERCHANGE_FORMAT = BINARY
  UNCOMPRESSED_FILE_NAME = "H2350_0000_BL3.IMG"
  REQUIRED_STORAGE_BYTES = "43830358"
  ^DESCRIPTION = "JP2INFO.TXT"
END_OBJECT = COMPRESSED_FILE
END
