PDS_VERSION_ID = PDS3
/* FILE DATA ELEMENTS */
RECORD_TYPE = STREAM
/* POINTERS TO DATA OBJECTS */
^COMPRESSED_FILE = "H2350_0000_GR3.JP2"
/* IDENTIFICATION DATA ELEMENTS */
DATA_SET_ID = "MEX-M-HRSC-5-REFDR-MAPPROJECTED-V3.0"
DATA_SET_NAME = "MARS EXPRESS HRSC MAP PROJECTED REFDR V3.0"
DETECTOR_ID = MEX_HRSC_GREEN
EVENT_TYPE = "MARS-REGIONAL-MAPPING-Gl-La"
INSTRUMENT_HOST_ID = MEX
INSTRUMENT_HOST_NAME = "MARS EXPRESS"
INSTRUMENT_ID = HRSC
INSTRUMENT_NAME = "HIGH RESOLUTION STEREO CAMERA"
MISSION_NAME = "MARS EXPRESS"
MISSION_PHASE_NAME = MR_Phase_8
PROCESSING_LEVEL_ID = 3
PRODUCT_CREATION_TIME = 2016-03-15T10:38:17.000Z
PRODUCT_ID = "H2350_0000_GR3.JP2"
RELEASE_ID = 0029
REVISION_ID = 0000
/* QUALITY DATA ELEMENTS */
DATA_QUALITY_ID = 1
DATA_QUALITY_DESC = "Data calculated based on original SPICE kernels"
/* TIME DATA ELEMENTS */
SPACECRAFT_CLOCK_START_COUNT = "1/0079810498.57141"
SPACECRAFT_CLOCK_STOP_COUNT = "1/0079810758.56348"
START_TIME = 2005-11-11T17:36:17.911Z
STOP_TIME = 2005-11-11T17:38:23.595Z
/* ORBITAL DATA ELEMENTS */
ASCENDING_NODE_LONGITUDE = 178.92
MAXIMUM_RESOLUTION = 44.1
FOOTPRINT_POINT_LATITUDE = (-81.5996,-81.6909,-81.833,-81.9165, -82.007,-82.0839,-82.1575,-82.2278, -82.2947,-82.3581,-82.418,-82.4605, -82.5398,-82.7534,-82.8956,-83.0355, -83.1754,-83.3838,-83.5209,-83.6578, -83.7937,-83.9279,-84.0617,-84.1947, -84.3256,-84.456,-84.5859,-84.7132, -84.903,-85.0285,-85.2174,-85.339, -85.4595,-85.5771,-85.694,-85.8091, -85.922,-86.032,-86.1411,-86.3005, -86.4025,-86.5023,-86.6001,-86.7858, -86.9165,-86.9992,-87.1498,-87.3136, -87.4211,-87.5048,-87.5727,-87.5975, -87.4498,-87.2447,-87.096,-86.8911, -86.6304,-86.4628,-86.3133,-86.164, -85.9584,-85.671,-85.6473,-85.5982, -85.5241,-85.4485,-85.3579,-85.2542, -85.1366,-85.0075,-84.9379,-84.8656, -84.7908,-84.6735,-84.5916,-84.5075, -84.4214,-84.332,-84.1945,-84.1006, -84.0036,-83.9049,-83.7498,-83.5934, -83.4873,-83.38,-83.27,-83.1587, -83.0463,-82.8738,-82.7572,-82.6397, -82.5196,-82.3986,-82.2769,-82.1529, -82.0279,-81.9024,-81.7104,-81.5996)
FOOTPRINT_POINT_LONGITUDE = (192.157,191.1,189.336,188.221,186.939, 185.776,184.593,183.388,182.161,180.913 ,179.642,178.676,177.134,177.704, 178.103,178.514,178.942,179.617,180.087 ,180.577,181.088,181.617,182.17,182.748 ,183.347,183.975,184.634,185.315, 186.403,187.175,188.426,189.293,190.208 ,191.157,192.156,193.216,194.33,195.499 ,196.73,198.71,200.113,201.598,203.17, 206.554,209.345,211.341,215.599,221.546 ,226.737,232.331,239.662,245.752,246.43 ,246.689,246.86,247.063,247.282,247.41, 247.518,247.615,247.74,247.883,244.514, 240.353,236.264,233.105,230.014,227.059 ,224.198,221.483,220.158,218.872, 217.625,215.815,214.642,213.509,212.411 ,211.331,209.773,208.778,207.803, 206.859,205.466,204.162,203.328,202.523 ,201.734,200.971,200.233,199.161, 198.474,197.81,197.159,196.53,195.922, 195.326,194.749,194.191,193.378, 192.157)
ORBIT_NUMBER = 2350
ORBITAL_ECCENTRICITY = 0.572
ORBITAL_INCLINATION = 86.64
ORBITAL_SEMIMAJOR_AXIS = 8556.55
PERIAPSIS_ALTITUDE = 277.55
PERIAPSIS_ARGUMENT_ANGLE = 305.09
PERIAPSIS_TIME = 2005-11-11T17:47:43.000Z
SPACECRAFT_ORIENTATION = (0.0,-1.0,0.0)
^MEX_ORIENTATION_DESC = "MEX_ORIENTATION_DESC.TXT"
SPACECRAFT_POINTING_MODE = NADIR
^MEX_POINTING_DESC = "MEX_POINTING_DESC.TXT"
RIGHT_ASCENSION = -1e+32
DECLINATION = -1e+32
OFFSET_ANGLE = -1e+32
SPACECRAFT_SOLAR_DISTANCE = 2.19367e+08
TARGET_NAME = MARS
/* CAMERA DATA ELEMENTS */
DETECTOR_TEMPERATURE = 17.9627
FOCAL_PLANE_TEMPERATURE = 7.9716
INST_CMPRS_NAME = "DISCRETE COSINE TRANSFORMATION (DCT)"
INST_CMPRS_RATIO = 10.9952
INST_CMPRS_QUALITY = 0
INST_CMPRS_QUANTZ_TBL_ID = 0
INSTRUMENT_TEMPERATURE = 10.8262
LENS_TEMPERATURE = 8.3794
MACROPIXEL_SIZE = 2
MISSING_FRAMES = 1
PIXEL_SUBSAMPLING_FLAG = N
SIGNAL_CHAIN_ID = 2
/* RADIOMETRIC DATA ELEMENTS */
BANDWIDTH = 88.0
CENTER_FILTER_WAVELENGTH = 538.0
RADIANCE_OFFSET = 0.665325
RADIANCE_SCALING_FACTOR = 0.00642544
REFLECTANCE_SCALING_FACTOR = 0.000266213
MEX:REFLECTANCE_OFFSET = 0.0275651
/* IMAGE OBJECT DEFINITIONS */
OBJECT = IMAGE
  INTERCHANGE_FORMAT = BINARY
  LINES = 8601
  LINE_SAMPLES = 5093
  SAMPLE_TYPE = UNSIGNED_INTEGER
  SAMPLE_BITS = 8
  BANDS = 1
  BAND_STORAGE_TYPE = BAND_SEQUENTIAL
  MAXIMUM = 251
  MEAN = 97.8435
  MINIMUM = 64
  STANDARD_DEVIATION = 15.3403
END_OBJECT = IMAGE
/* MAP OBJECT DEFINITIONS */
OBJECT = IMAGE_MAP_PROJECTION
  ^DATA_SET_MAP_PROJECTION_CATALOG= "DSMAP.CAT"
  A_AXIS_RADIUS = 3396.0
  B_AXIS_RADIUS = 3396.0
  C_AXIS_RADIUS = 3396.0
  CENTER_LATITUDE = -90.0
  CENTER_LONGITUDE = 0.0
  COORDINATE_SYSTEM_NAME = PLANETOGRAPHIC
  COORDINATE_SYSTEM_TYPE = "BODY-FIXED ROTATING"
  EASTERNMOST_LONGITUDE = 247.883
  FIRST_STANDARD_PARALLEL = "N/A"
  LINE_FIRST_PIXEL = 1
  LINE_LAST_PIXEL = 8601
  LINE_PROJECTION_OFFSET = -1147.75
  MAP_PROJECTION_ROTATION = 0.0
  MAP_PROJECTION_TYPE = STEREOGRAPHIC
  MAP_RESOLUTION = 1185.42760773333
  MAP_SCALE = 0.05
  MAXIMUM_LATITUDE = -81.5996
  MINIMUM_LATITUDE = -87.5975
  POSITIVE_LONGITUDE_DIRECTION = EAST
  REFERENCE_LATITUDE = "N/A"
  REFERENCE_LONGITUDE = "N/A"
  SAMPLE_FIRST_PIXEL = 1
  SAMPLE_LAST_PIXEL = 5093
  SAMPLE_PROJECTION_OFFSET = 4707.75
  SECOND_STANDARD_PARALLEL = "N/A"
  WESTERNMOST_LONGITUDE = 177.134
END_OBJECT = IMAGE_MAP_PROJECTION
/* The JPEG2000 image data file associated with this label. */
OBJECT = COMPRESSED_FILE
  FILE_NAME = "H2350_0000_GR3.JP2"
  RECORD_TYPE = UNDEFINED
  FILE_RECORDS = UNK
  ENCODING_TYPE = "JP2"
  INTERCHANGE_FORMAT = BINARY
  UNCOMPRESSED_FILE_NAME = "H2350_0000_GR3.IMG"
  REQUIRED_STORAGE_BYTES = "43830358"
  ^DESCRIPTION = "JP2INFO.TXT"
END_OBJECT = COMPRESSED_FILE
END
