PDS_VERSION_ID = PDS3
/* FILE DATA ELEMENTS */
RECORD_TYPE = STREAM
/* POINTERS TO DATA OBJECTS */
^COMPRESSED_FILE = "H2350_0000_ND3.JP2"
/* IDENTIFICATION DATA ELEMENTS */
DATA_SET_ID = "MEX-M-HRSC-5-REFDR-MAPPROJECTED-V3.0"
DATA_SET_NAME = "MARS EXPRESS HRSC MAP PROJECTED REFDR V3.0"
DETECTOR_ID = MEX_HRSC_NADIR
EVENT_TYPE = "MARS-REGIONAL-MAPPING-Gl-La"
INSTRUMENT_HOST_ID = MEX
INSTRUMENT_HOST_NAME = "MARS EXPRESS"
INSTRUMENT_ID = HRSC
INSTRUMENT_NAME = "HIGH RESOLUTION STEREO CAMERA"
MISSION_NAME = "MARS EXPRESS"
MISSION_PHASE_NAME = MR_Phase_8
PROCESSING_LEVEL_ID = 3
PRODUCT_CREATION_TIME = 2016-03-15T10:38:17.000Z
PRODUCT_ID = "H2350_0000_ND3.JP2"
RELEASE_ID = 0029
REVISION_ID = 0000
/* QUALITY DATA ELEMENTS */
DATA_QUALITY_ID = 1
DATA_QUALITY_DESC = "Data calculated based on original SPICE kernels"
/* TIME DATA ELEMENTS */
SPACECRAFT_CLOCK_START_COUNT = "1/0079810498.57141"
SPACECRAFT_CLOCK_STOP_COUNT = "1/0079810758.56348"
START_TIME = 2005-11-11T17:36:30.238Z
STOP_TIME = 2005-11-11T17:38:33.185Z
/* ORBITAL DATA ELEMENTS */
ASCENDING_NODE_LONGITUDE = 178.92
MAXIMUM_RESOLUTION = 21.7
FOOTPRINT_POINT_LATITUDE = (-81.6165,-81.7086,-81.7977,-81.8732, -81.9567,-82.0273,-82.1049,-82.2062, -82.2757,-82.3658,-82.4418,-82.5053, -82.6146,-82.7575,-82.899,-83.0403, -83.1808,-83.3195,-83.458,-83.5959, -83.7316,-83.867,-84.0686,-84.2009, -84.3327,-84.464,-84.5927,-84.7208, -84.8482,-84.9741,-85.0979,-85.221, -85.4031,-85.5217,-85.6394,-85.8127, -85.9248,-86.0353,-86.1445,-86.2512, -86.3546,-86.4556,-86.5544,-86.6504, -86.8316,-86.9994,-87.1492,-87.2817, -87.3927,-87.4988,-87.5544,-87.587, -87.3818,-87.1946,-87.0265,-86.8021, -86.5215,-86.3529,-86.2028,-86.0531, -85.9028,-85.6867,-85.6558,-85.6152, -85.5417,-85.4665,-85.3759,-85.272, -85.1544,-85.0248,-84.8828,-84.8076, -84.7301,-84.6493,-84.5658,-84.48, -84.3923,-84.2556,-84.1619,-84.0665, -83.9684,-83.868,-83.7662,-83.6099, -83.5029,-83.3947,-83.2852,-83.173, -83.0024,-82.8875,-82.7697,-82.6511, -82.5315,-82.4098,-82.2868,-82.1631, -81.9741,-81.8468,-81.7189,-81.6165)
FOOTPRINT_POINT_LONGITUDE = (192.224,191.168,190.09,189.129,188.008 ,187.009,185.846,184.211,182.997,181.29 ,179.702,178.246,177.48,177.868,178.268 ,178.685,179.118,179.565,180.032, 180.518,181.02,181.545,182.375,182.954, 183.562,184.199,184.858,185.549,186.276 ,187.036,187.828,188.661,189.991, 190.927,191.908,193.492,194.609,195.793 ,197.035,198.349,199.725,201.187, 202.734,204.355,207.853,211.759,216.054 ,220.802,225.904,232.863,238.705, 246.294,246.84,247.039,247.195,247.379, 247.576,247.678,247.763,247.84,247.912, 248.003,243.763,240.432,236.315,233.134 ,230.022,227.043,224.165,221.428, 218.808,217.55,216.331,215.137,213.974, 212.849,211.759,210.169,209.149,208.163 ,207.201,206.266,205.362,204.057, 203.215,202.402,201.617,200.847,199.74, 199.033,198.34,197.67,197.022,196.39, 195.776,195.182,194.319,193.765,193.229 ,192.224)
ORBIT_NUMBER = 2350
ORBITAL_ECCENTRICITY = 0.572
ORBITAL_INCLINATION = 86.64
ORBITAL_SEMIMAJOR_AXIS = 8556.55
PERIAPSIS_ALTITUDE = 277.55
PERIAPSIS_ARGUMENT_ANGLE = 305.09
PERIAPSIS_TIME = 2005-11-11T17:47:43.000Z
SPACECRAFT_ORIENTATION = (0.0,-1.0,0.0)
^MEX_ORIENTATION_DESC = "MEX_ORIENTATION_DESC.TXT"
SPACECRAFT_POINTING_MODE = NADIR
^MEX_POINTING_DESC = "MEX_POINTING_DESC.TXT"
RIGHT_ASCENSION = -1e+32
DECLINATION = -1e+32
OFFSET_ANGLE = -1e+32
SPACECRAFT_SOLAR_DISTANCE = 2.19367e+08
TARGET_NAME = MARS
/* CAMERA DATA ELEMENTS */
DETECTOR_TEMPERATURE = 17.9627
FOCAL_PLANE_TEMPERATURE = 7.9716
INST_CMPRS_NAME = "DISCRETE COSINE TRANSFORMATION (DCT)"
INST_CMPRS_RATIO = 8.63304
INST_CMPRS_QUALITY = 0
INST_CMPRS_QUANTZ_TBL_ID = 0
INSTRUMENT_TEMPERATURE = 10.8262
LENS_TEMPERATURE = 8.3794
MACROPIXEL_SIZE = 1
MISSING_FRAMES = 0
PIXEL_SUBSAMPLING_FLAG = N
SIGNAL_CHAIN_ID = 0
/* RADIOMETRIC DATA ELEMENTS */
BANDWIDTH = 177.0
CENTER_FILTER_WAVELENGTH = 677.5
RADIANCE_OFFSET = 1.28891
RADIANCE_SCALING_FACTOR = 0.0166268
REFLECTANCE_SCALING_FACTOR = 0.000425039
MEX:REFLECTANCE_OFFSET = 0.032949
/* IMAGE OBJECT DEFINITIONS */
OBJECT = IMAGE
  INTERCHANGE_FORMAT = BINARY
  LINES = 17202
  LINE_SAMPLES = 10186
  SAMPLE_TYPE = UNSIGNED_INTEGER
  SAMPLE_BITS = 8
  BANDS = 1
  BAND_STORAGE_TYPE = BAND_SEQUENTIAL
  MAXIMUM = 173
  MEAN = 64.8162
  MINIMUM = 33
  STANDARD_DEVIATION = 12.7386
END_OBJECT = IMAGE
/* MAP OBJECT DEFINITIONS */
OBJECT = IMAGE_MAP_PROJECTION
  ^DATA_SET_MAP_PROJECTION_CATALOG= "DSMAP.CAT"
  A_AXIS_RADIUS = 3396.0
  B_AXIS_RADIUS = 3396.0
  C_AXIS_RADIUS = 3396.0
  CENTER_LATITUDE = -90.0
  CENTER_LONGITUDE = 0.0
  COORDINATE_SYSTEM_NAME = PLANETOGRAPHIC
  COORDINATE_SYSTEM_TYPE = "BODY-FIXED ROTATING"
  EASTERNMOST_LONGITUDE = 248.003
  FIRST_STANDARD_PARALLEL = "N/A"
  LINE_FIRST_PIXEL = 1
  LINE_LAST_PIXEL = 17202
  LINE_PROJECTION_OFFSET = -2295.0
  MAP_PROJECTION_ROTATION = 0
  MAP_PROJECTION_TYPE = STEREOGRAPHIC
  MAP_RESOLUTION = 2370.85521546667
  MAP_SCALE = 0.025
  MAXIMUM_LATITUDE = -81.6165
  MINIMUM_LATITUDE = -87.587
  POSITIVE_LONGITUDE_DIRECTION = EAST
  REFERENCE_LATITUDE = "N/A"
  REFERENCE_LONGITUDE = "N/A"
  SAMPLE_FIRST_PIXEL = 1
  SAMPLE_LAST_PIXEL = 10186
  SAMPLE_PROJECTION_OFFSET = 9416.0
  SECOND_STANDARD_PARALLEL = "N/A"
  WESTERNMOST_LONGITUDE = 177.48
END_OBJECT = IMAGE_MAP_PROJECTION
/* The JPEG2000 image data file associated with this label. */
OBJECT = COMPRESSED_FILE
  FILE_NAME = "H2350_0000_ND3.JP2"
  RECORD_TYPE = UNDEFINED
  FILE_RECORDS = UNK
  ENCODING_TYPE = "JP2"
  INTERCHANGE_FORMAT = BINARY
  UNCOMPRESSED_FILE_NAME = "H2350_0000_ND3.IMG"
  REQUIRED_STORAGE_BYTES = "175250130"
  ^DESCRIPTION = "JP2INFO.TXT"
END_OBJECT = COMPRESSED_FILE
END
