PDS_VERSION_ID = PDS3
/* FILE DATA ELEMENTS */
RECORD_TYPE = STREAM
/* POINTERS TO DATA OBJECTS */
^COMPRESSED_FILE = "H2350_0001_ND3.JP2"
/* IDENTIFICATION DATA ELEMENTS */
DATA_SET_ID = "MEX-M-HRSC-5-REFDR-MAPPROJECTED-V3.0"
DATA_SET_NAME = "MARS EXPRESS HRSC MAP PROJECTED REFDR V3.0"
DETECTOR_ID = MEX_HRSC_NADIR
EVENT_TYPE = "MARS-REGIONAL-MAPPING-Fl-Gl-Mw"
INSTRUMENT_HOST_ID = MEX
INSTRUMENT_HOST_NAME = "MARS EXPRESS"
INSTRUMENT_ID = HRSC
INSTRUMENT_NAME = "HIGH RESOLUTION STEREO CAMERA"
MISSION_NAME = "MARS EXPRESS"
MISSION_PHASE_NAME = MR_Phase_8
PROCESSING_LEVEL_ID = 3
PRODUCT_CREATION_TIME = 2016-03-15T10:38:17.000Z
PRODUCT_ID = "H2350_0001_ND3.JP2"
RELEASE_ID = 0029
REVISION_ID = 0000
/* QUALITY DATA ELEMENTS */
DATA_QUALITY_ID = 1
DATA_QUALITY_DESC = "Data calculated based on original SPICE kernels"
/* TIME DATA ELEMENTS */
SPACECRAFT_CLOCK_START_COUNT = "1/0079811058.57141"
SPACECRAFT_CLOCK_STOP_COUNT = "1/0079811292.25066"
START_TIME = 2005-11-11T17:44:54.064Z
STOP_TIME = 2005-11-11T17:47:53.074Z
/* ORBITAL DATA ELEMENTS */
ASCENDING_NODE_LONGITUDE = 178.92
MAXIMUM_RESOLUTION = 11
FOOTPRINT_POINT_LATITUDE = (-65.9155,-65.9769,-66.0161,-65.7703, -65.5154,-65.2683,-65.0211,-64.7737, -64.526,-64.2783,-64.0303,-63.7822, -63.534,-63.2856,-62.9221,-62.6825, -62.4429,-62.2032,-61.9634,-61.7234, -61.4833,-61.2432,-61.0029,-60.6423, -60.4021,-60.1615,-59.804,-59.5725, -59.2254,-58.9934,-58.7617,-58.5299, -58.2982,-58.0663,-57.8346,-57.6027, -57.3707,-57.1387,-56.9066,-56.6745, -56.4423,-56.21,-55.9778,-55.7458, -55.5135,-55.2812,-55.0488,-54.8167, -54.5844,-54.3521,-54.108,-54.0798, -54.0544,-54.286,-54.6332,-54.8647, -55.0962,-55.3276,-55.559,-55.7904, -56.0218,-56.3688,-56.6,-56.9468, -57.1779,-57.409,-57.64,-57.871, -58.1019,-58.3327,-58.5635,-58.7942, -59.0248,-59.2553,-59.4857,-59.7161, -60.0716,-60.3109,-60.5501,-60.7891, -61.0281,-61.2668,-61.5055,-61.744, -62.1016,-62.3398,-62.5779,-62.8158, -63.0535,-63.3002,-63.6699,-63.9162, -64.1623,-64.4081,-64.6538,-64.8993, -65.1446,-65.3897,-65.6423,-65.9155)
FOOTPRINT_POINT_LONGITUDE = (329.71,330.902,331.781,332.058,332.113 ,332.166,332.218,332.269,332.318, 332.367,332.413,332.459,332.504,332.549 ,332.612,332.652,332.692,332.731, 332.768,332.806,332.842,332.878,332.913 ,332.964,333.001,333.035,333.081, 333.112,333.161,333.185,333.215,333.243 ,333.272,333.3,333.329,333.357,333.384, 333.41,333.436,333.461,333.485,333.506, 333.531,333.558,333.58,333.603,333.622, 333.648,333.67,333.691,333.449,332.673, 332.07,332.041,331.992,331.958,331.927, 331.888,331.853,331.819,331.785,331.734 ,331.693,331.638,331.599,331.56,331.519 ,331.478,331.437,331.395,331.354, 331.311,331.267,331.222,331.176,331.129 ,331.054,331.003,330.95,330.895,330.839 ,330.781,330.723,330.663,330.573, 330.511,330.448,330.383,330.316,330.247 ,330.138,330.064,329.988,329.911, 329.832,329.751,329.669,329.584,329.495 ,329.71)
ORBIT_NUMBER = 2350
ORBITAL_ECCENTRICITY = 0.572
ORBITAL_INCLINATION = 86.64
ORBITAL_SEMIMAJOR_AXIS = 8556.55
PERIAPSIS_ALTITUDE = 277.55
PERIAPSIS_ARGUMENT_ANGLE = 305.09
PERIAPSIS_TIME = 2005-11-11T17:47:43.000Z
SPACECRAFT_ORIENTATION = (0.0,-1.0,0.0)
^MEX_ORIENTATION_DESC = "MEX_ORIENTATION_DESC.TXT"
SPACECRAFT_POINTING_MODE = NADIR
^MEX_POINTING_DESC = "MEX_POINTING_DESC.TXT"
RIGHT_ASCENSION = -1e+32
DECLINATION = -1e+32
OFFSET_ANGLE = -1e+32
SPACECRAFT_SOLAR_DISTANCE = 2.19367e+08
TARGET_NAME = MARS
/* CAMERA DATA ELEMENTS */
DETECTOR_TEMPERATURE = 19.39
FOCAL_PLANE_TEMPERATURE = 8.1755
INST_CMPRS_NAME = "DISCRETE COSINE TRANSFORMATION (DCT)"
INST_CMPRS_RATIO = 7.10021
INST_CMPRS_QUALITY = 0
INST_CMPRS_QUANTZ_TBL_ID = 0
INSTRUMENT_TEMPERATURE = 13.0691
LENS_TEMPERATURE = 8.5833
MACROPIXEL_SIZE = 1
MISSING_FRAMES = 0
PIXEL_SUBSAMPLING_FLAG = N
SIGNAL_CHAIN_ID = 0
/* RADIOMETRIC DATA ELEMENTS */
BANDWIDTH = 177.0
CENTER_FILTER_WAVELENGTH = 677.5
RADIANCE_OFFSET = 4.12189
RADIANCE_SCALING_FACTOR = 0.0144849
REFLECTANCE_SCALING_FACTOR = 0.000370289
MEX:REFLECTANCE_OFFSET = 0.105371
/* IMAGE OBJECT DEFINITIONS */
OBJECT = IMAGE
  INTERCHANGE_FORMAT = BINARY
  LINES = 56768
  LINE_SAMPLES = 9602
  SAMPLE_TYPE = UNSIGNED_INTEGER
  SAMPLE_BITS = 8
  BANDS = 1
  BAND_STORAGE_TYPE = BAND_SEQUENTIAL
  MAXIMUM = 159
  MEAN = 111.611
  MINIMUM = 72
  STANDARD_DEVIATION = 9.07254
END_OBJECT = IMAGE
/* MAP OBJECT DEFINITIONS */
OBJECT = IMAGE_MAP_PROJECTION
  ^DATA_SET_MAP_PROJECTION_CATALOG= "DSMAP.CAT"
  A_AXIS_RADIUS = 3396.0
  B_AXIS_RADIUS = 3396.0
  C_AXIS_RADIUS = 3396.0
  CENTER_LATITUDE = 0.0
  CENTER_LONGITUDE = 332.0
  COORDINATE_SYSTEM_NAME = PLANETOGRAPHIC
  COORDINATE_SYSTEM_TYPE = "BODY-FIXED ROTATING"
  EASTERNMOST_LONGITUDE = 333.691
  FIRST_STANDARD_PARALLEL = "N/A"
  LINE_FIRST_PIXEL = 1
  LINE_LAST_PIXEL = 56768
  LINE_PROJECTION_OFFSET = -256312.0
  MAP_PROJECTION_ROTATION = 0.0
  MAP_PROJECTION_TYPE = SINUSOIDAL
  MAP_RESOLUTION = 4741.71043093333
  MAP_SCALE = 0.0125
  MAXIMUM_LATITUDE = -54.0544
  MINIMUM_LATITUDE = -66.01609999999999
  POSITIVE_LONGITUDE_DIRECTION = EAST
  REFERENCE_LATITUDE = "N/A"
  REFERENCE_LONGITUDE = "N/A"
  SAMPLE_FIRST_PIXEL = 1
  SAMPLE_LAST_PIXEL = 9602
  SAMPLE_PROJECTION_OFFSET = 4903.0
  SECOND_STANDARD_PARALLEL = "N/A"
  WESTERNMOST_LONGITUDE = 329.495
END_OBJECT = IMAGE_MAP_PROJECTION
/* The JPEG2000 image data file associated with this label. */
OBJECT = COMPRESSED_FILE
  FILE_NAME = "H2350_0001_ND3.JP2"
  RECORD_TYPE = UNDEFINED
  FILE_RECORDS = UNK
  ENCODING_TYPE = "JP2"
  INTERCHANGE_FORMAT = BINARY
  UNCOMPRESSED_FILE_NAME = "H2350_0001_ND3.IMG"
  REQUIRED_STORAGE_BYTES = "545115142"
  ^DESCRIPTION = "JP2INFO.TXT"
END_OBJECT = COMPRESSED_FILE
END
