PDS_VERSION_ID = PDS3
/* FILE DATA ELEMENTS */
RECORD_TYPE = STREAM
/* POINTERS TO DATA OBJECTS */
^COMPRESSED_FILE = "H2350_0002_GR3.JP2"
/* IDENTIFICATION DATA ELEMENTS */
DATA_SET_ID = "MEX-M-HRSC-5-REFDR-MAPPROJECTED-V3.0"
DATA_SET_NAME = "MARS EXPRESS HRSC MAP PROJECTED REFDR V3.0"
DETECTOR_ID = MEX_HRSC_GREEN
EVENT_TYPE = "MARS-LOCAL-COLOR-Fl-Lc"
INSTRUMENT_HOST_ID = MEX
INSTRUMENT_HOST_NAME = "MARS EXPRESS"
INSTRUMENT_ID = HRSC
INSTRUMENT_NAME = "HIGH RESOLUTION STEREO CAMERA"
MISSION_NAME = "MARS EXPRESS"
MISSION_PHASE_NAME = MR_Phase_8
PROCESSING_LEVEL_ID = 3
PRODUCT_CREATION_TIME = 2016-03-15T10:38:17.000Z
PRODUCT_ID = "H2350_0002_GR3.JP2"
RELEASE_ID = 0029
REVISION_ID = 0000
/* QUALITY DATA ELEMENTS */
DATA_QUALITY_ID = 1
DATA_QUALITY_DESC = "Data calculated based on original SPICE kernels"
/* TIME DATA ELEMENTS */
SPACECRAFT_CLOCK_START_COUNT = "1/0079811797.57299"
SPACECRAFT_CLOCK_STOP_COUNT = "1/0079811985.07102"
START_TIME = 2005-11-11T17:57:27.249Z
STOP_TIME = 2005-11-11T17:58:23.927Z
/* ORBITAL DATA ELEMENTS */
ASCENDING_NODE_LONGITUDE = 178.92
MAXIMUM_RESOLUTION = 45
FOOTPRINT_POINT_LATITUDE = (-17.1172,-17.1173,-17.1173,-17.1172, -17.1172,-17.1171,-17.1169,-17.1168, -17.1166,-17.1162,-17.1159,-17.1156, -17.1153,-17.1149,-17.1144,-17.114, -17.1132,-17.1126,-17.1121,-17.1114, -17.1108,-17.1099,-17.1083,-17.0725, -16.9484,-16.8245,-16.7008,-16.5749, -16.4491,-16.3548,-16.2292,-16.1037, -15.9442,-15.8167,-15.6578,-15.5624, -15.4332,-15.2714,-15.1422,-15.0454, -14.8817,-14.7506,-14.6523,-14.5214, -14.3887,-14.3219,-14.2555,-14.1563, -14.0182,-13.952,-13.838,-13.8394, -13.8407,-13.8427,-13.8438,-13.8448, -13.8462,-13.8473,-13.8483,-13.8493, -13.8502,-13.851,-13.8517,-13.8524, -13.8531,-13.854,-13.8546,-13.8554, -13.8559,-13.8563,-13.8569,-13.8573, -13.8577,-13.8922,-14.0255,-14.1302, -14.2293,-14.3616,-14.4939,-14.6241, -14.7544,-14.9174,-15.0803,-15.2087, -15.3375,-15.4343,-15.563,-15.6899, -15.817,-15.9123,-16.0077,-16.1345, -16.3224,-16.4476,-16.5731,-16.7297, -16.8531,-16.9766,-17.1002,-17.1172)
FOOTPRINT_POINT_LONGITUDE = (333.166,333.245,333.324,333.403, 333.482,333.581,333.66,333.739,333.818, 333.917,333.996,334.074,334.153,334.232 ,334.311,334.39,334.508,334.587,334.666 ,334.745,334.824,334.923,335.081, 335.155,335.157,335.159,335.161,335.163 ,335.165,335.167,335.169,335.171, 335.174,335.176,335.178,335.179,335.182 ,335.185,335.187,335.189,335.192, 335.194,335.196,335.198,335.202,335.203 ,335.205,335.206,335.208,335.209, 335.189,335.103,335.016,334.865,334.779 ,334.693,334.585,334.499,334.413, 334.327,334.242,334.156,334.07,333.984, 333.877,333.748,333.662,333.533,333.447 ,333.361,333.232,333.146,333.06,332.989 ,332.994,332.998,333.002,333.006, 333.011,333.016,333.02,333.025,333.031, 333.035,333.039,333.043,333.047,333.052 ,333.056,333.059,333.062,333.066, 333.073,333.077,333.081,333.086,333.089 ,333.093,333.097,333.166)
ORBIT_NUMBER = 2350
ORBITAL_ECCENTRICITY = 0.572
ORBITAL_INCLINATION = 86.64
ORBITAL_SEMIMAJOR_AXIS = 8556.55
PERIAPSIS_ALTITUDE = 277.55
PERIAPSIS_ARGUMENT_ANGLE = 305.09
PERIAPSIS_TIME = 2005-11-11T17:47:43.000Z
SPACECRAFT_ORIENTATION = (0.0,-1.0,0.0)
^MEX_ORIENTATION_DESC = "MEX_ORIENTATION_DESC.TXT"
SPACECRAFT_POINTING_MODE = NADIR
^MEX_POINTING_DESC = "MEX_POINTING_DESC.TXT"
RIGHT_ASCENSION = -1e+32
DECLINATION = -1e+32
OFFSET_ANGLE = -1e+32
SPACECRAFT_SOLAR_DISTANCE = 2.19367e+08
TARGET_NAME = MARS
/* CAMERA DATA ELEMENTS */
DETECTOR_TEMPERATURE = 20.8173
FOCAL_PLANE_TEMPERATURE = 8.5833
INST_CMPRS_NAME = "DISCRETE COSINE TRANSFORMATION (DCT)"
INST_CMPRS_RATIO = 8.34364
INST_CMPRS_QUALITY = 0
INST_CMPRS_QUANTZ_TBL_ID = 0
INSTRUMENT_TEMPERATURE = 14.9042
LENS_TEMPERATURE = 9.195
MACROPIXEL_SIZE = 2
MISSING_FRAMES = 1
PIXEL_SUBSAMPLING_FLAG = N
SIGNAL_CHAIN_ID = 2
/* RADIOMETRIC DATA ELEMENTS */
BANDWIDTH = 88.0
CENTER_FILTER_WAVELENGTH = 538.0
RADIANCE_OFFSET = 2.74593
RADIANCE_SCALING_FACTOR = 0.0031884
REFLECTANCE_SCALING_FACTOR = 0.000132102
MEX:REFLECTANCE_OFFSET = 0.11377
/* IMAGE OBJECT DEFINITIONS */
OBJECT = IMAGE
  INTERCHANGE_FORMAT = BINARY
  LINES = 3892
  LINE_SAMPLES = 2688
  SAMPLE_TYPE = UNSIGNED_INTEGER
  SAMPLE_BITS = 8
  BANDS = 1
  BAND_STORAGE_TYPE = BAND_SEQUENTIAL
  MAXIMUM = 238
  MEAN = 199.311
  MINIMUM = 176
  STANDARD_DEVIATION = 6.77636
END_OBJECT = IMAGE
/* MAP OBJECT DEFINITIONS */
OBJECT = IMAGE_MAP_PROJECTION
  ^DATA_SET_MAP_PROJECTION_CATALOG= "DSMAP.CAT"
  A_AXIS_RADIUS = 3396.0
  B_AXIS_RADIUS = 3396.0
  C_AXIS_RADIUS = 3396.0
  CENTER_LATITUDE = 0.0
  CENTER_LONGITUDE = 334.0
  COORDINATE_SYSTEM_NAME = PLANETOGRAPHIC
  COORDINATE_SYSTEM_TYPE = "BODY-FIXED ROTATING"
  EASTERNMOST_LONGITUDE = 335.209
  FIRST_STANDARD_PARALLEL = "N/A"
  LINE_FIRST_PIXEL = 1
  LINE_LAST_PIXEL = 3892
  LINE_PROJECTION_OFFSET = -16423.75
  MAP_PROJECTION_ROTATION = 0.0
  MAP_PROJECTION_TYPE = SINUSOIDAL
  MAP_RESOLUTION = 1185.42760773333
  MAP_SCALE = 0.05
  MAXIMUM_LATITUDE = -13.838
  MINIMUM_LATITUDE = -17.1173
  POSITIVE_LONGITUDE_DIRECTION = EAST
  REFERENCE_LATITUDE = "N/A"
  REFERENCE_LONGITUDE = "N/A"
  SAMPLE_FIRST_PIXEL = 1
  SAMPLE_LAST_PIXEL = 2688
  SAMPLE_PROJECTION_OFFSET = 1227.25
  SECOND_STANDARD_PARALLEL = "N/A"
  WESTERNMOST_LONGITUDE = 332.989
END_OBJECT = IMAGE_MAP_PROJECTION
/* The JPEG2000 image data file associated with this label. */
OBJECT = COMPRESSED_FILE
  FILE_NAME = "H2350_0002_GR3.JP2"
  RECORD_TYPE = UNDEFINED
  FILE_RECORDS = UNK
  ENCODING_TYPE = "JP2"
  INTERCHANGE_FORMAT = BINARY
  UNCOMPRESSED_FILE_NAME = "H2350_0002_GR3.IMG"
  REQUIRED_STORAGE_BYTES = "10483200"
  ^DESCRIPTION = "JP2INFO.TXT"
END_OBJECT = COMPRESSED_FILE
END
