PDS_VERSION_ID = PDS3
/* FILE DATA ELEMENTS */
RECORD_TYPE = STREAM
/* POINTERS TO DATA OBJECTS */
^COMPRESSED_FILE = "H2353_0000_P13.JP2"
/* IDENTIFICATION DATA ELEMENTS */
DATA_SET_ID = "MEX-M-HRSC-5-REFDR-MAPPROJECTED-V3.0"
DATA_SET_NAME = "MARS EXPRESS HRSC MAP PROJECTED REFDR V3.0"
DETECTOR_ID = MEX_HRSC_P1
EVENT_TYPE = "MARS-REGIONAL-MAPPING-Vo-Im-Gl"
INSTRUMENT_HOST_ID = MEX
INSTRUMENT_HOST_NAME = "MARS EXPRESS"
INSTRUMENT_ID = HRSC
INSTRUMENT_NAME = "HIGH RESOLUTION STEREO CAMERA"
MISSION_NAME = "MARS EXPRESS"
MISSION_PHASE_NAME = MR_Phase_8
PROCESSING_LEVEL_ID = 3
PRODUCT_CREATION_TIME = 2016-03-15T10:38:17.000Z
PRODUCT_ID = "H2353_0000_P13.JP2"
RELEASE_ID = 0029
REVISION_ID = 0000
/* QUALITY DATA ELEMENTS */
DATA_QUALITY_ID = 1
DATA_QUALITY_DESC = "Data calculated based on original SPICE kernels"
/* TIME DATA ELEMENTS */
SPACECRAFT_CLOCK_START_COUNT = "1/0079883498.57161"
SPACECRAFT_CLOCK_STOP_COUNT = "1/0079883885.25982"
START_TIME = 2005-11-12T13:51:57.718Z
STOP_TIME = 2005-11-12T13:57:51.835Z
/* ORBITAL DATA ELEMENTS */
ASCENDING_NODE_LONGITUDE = 178.86
MAXIMUM_RESOLUTION = 45.2
FOOTPRINT_POINT_LATITUDE = (-73.2934,-73.348,-73.4072,-73.472, -73.1904,-72.6885,-72.1859,-71.6818, -71.4281,-70.922,-70.667,-70.4114, -69.9025,-69.4048,-68.9062,-68.1669, -67.6831,-67.1973,-66.7157,-66.0095, -65.5385,-64.8346,-64.3773,-63.9189, -63.4583,-62.9959,-62.5355,-62.0904, -61.6433,-61.1963,-60.748,-60.2993, -59.8504,-59.4007,-58.9665,-58.3158, -57.6639,-57.2289,-56.7932,-56.3574, -55.9211,-55.4845,-55.0472,-54.6098, -54.172,-53.7363,-53.2972,-52.8586, -52.4196,-51.98,-51.3209,-50.8816, -50.3872,-50.3604,-50.5605,-50.9993, -51.4377,-51.8749,-52.5328,-52.9708, -53.4079,-53.8447,-54.2811,-54.7166, -55.3699,-56.0227,-56.457,-57.1076, -57.7575,-58.4062,-58.8377,-59.2688, -59.7159,-60.1627,-60.6085,-61.0542, -61.4984,-61.9423,-62.3853,-62.841, -63.2994,-63.7568,-64.213,-64.6672, -65.364,-65.8297,-66.5285,-67.003, -67.4835,-67.9632,-68.6944,-69.1875, -69.6781,-70.1746,-70.9239,-71.4233, -71.9195,-72.4139,-72.905,-73.2934)
FOOTPRINT_POINT_LONGITUDE = (30.9228,31.7971,32.8307,34.1034, 34.9087,35.138,35.3523,35.5544,35.6534, 35.8387,35.93,36.0196,36.1913,36.3503, 36.5011,36.7131,36.8404,36.9635,37.0802 ,37.2406,37.3407,37.4822,37.5708, 37.6563,37.7406,37.8232,37.9016,37.9737 ,38.0447,38.1126,38.179,38.2429,38.3043 ,38.364,38.4196,38.5003,38.5775,38.6269 ,38.6752,38.7217,38.7671,38.8109,38.854 ,38.8957,38.9362,38.9734,39.0124, 39.0496,39.086,39.1216,39.1729,39.2056, 38.9871,38.2086,37.7016,37.6578,37.6122 ,37.5644,37.491,37.4398,37.3863,37.3309 ,37.2735,37.2137,37.1207,37.0228, 36.9545,36.8474,36.7349,36.6164,36.5337 ,36.4481,36.3557,36.2599,36.1603, 36.0573,35.95,35.8388,35.7235,35.6004, 35.471,35.3363,35.1961,35.0493,34.8093, 34.6385,34.3701,34.1779,33.9739,33.7607 ,33.4196,33.1716,32.9101,32.6265, 32.1668,31.8408,31.4952,31.1299,30.742, 30.9228)
ORBIT_NUMBER = 2353
ORBITAL_ECCENTRICITY = 0.572
ORBITAL_INCLINATION = 86.63
ORBITAL_SEMIMAJOR_AXIS = 8559.79
PERIAPSIS_ALTITUDE = 277.68
PERIAPSIS_ARGUMENT_ANGLE = 304.57
PERIAPSIS_TIME = 2005-11-12T13:56:54.000Z
SPACECRAFT_ORIENTATION = (0.0,-1.0,0.0)
^MEX_ORIENTATION_DESC = "MEX_ORIENTATION_DESC.TXT"
SPACECRAFT_POINTING_MODE = NADIR
^MEX_POINTING_DESC = "MEX_POINTING_DESC.TXT"
RIGHT_ASCENSION = -1e+32
DECLINATION = -1e+32
OFFSET_ANGLE = -1e+32
SPACECRAFT_SOLAR_DISTANCE = 2.19523e+08
TARGET_NAME = MARS
/* CAMERA DATA ELEMENTS */
DETECTOR_TEMPERATURE = 17.1471
FOCAL_PLANE_TEMPERATURE = 8.1755
INST_CMPRS_NAME = "DISCRETE COSINE TRANSFORMATION (DCT)"
INST_CMPRS_RATIO = 23.3318
INST_CMPRS_QUALITY = 0
INST_CMPRS_QUANTZ_TBL_ID = 0
INSTRUMENT_TEMPERATURE = 11.234
LENS_TEMPERATURE = 8.5833
MACROPIXEL_SIZE = 4
MISSING_FRAMES = 0
PIXEL_SUBSAMPLING_FLAG = N
SIGNAL_CHAIN_ID = 3
/* RADIOMETRIC DATA ELEMENTS */
BANDWIDTH = 174.0
CENTER_FILTER_WAVELENGTH = 675.0
RADIANCE_OFFSET = 4.06474
RADIANCE_SCALING_FACTOR = 0.0180785
REFLECTANCE_SCALING_FACTOR = 0.000468603
MEX:REFLECTANCE_OFFSET = 0.10536
/* IMAGE OBJECT DEFINITIONS */
OBJECT = IMAGE
  INTERCHANGE_FORMAT = BINARY
  LINES = 27323
  LINE_SAMPLES = 3897
  SAMPLE_TYPE = UNSIGNED_INTEGER
  SAMPLE_BITS = 8
  BANDS = 1
  BAND_STORAGE_TYPE = BAND_SEQUENTIAL
  MAXIMUM = 178
  MEAN = 135.732
  MINIMUM = 80
  STANDARD_DEVIATION = 17.725
END_OBJECT = IMAGE
/* MAP OBJECT DEFINITIONS */
OBJECT = IMAGE_MAP_PROJECTION
  ^DATA_SET_MAP_PROJECTION_CATALOG= "DSMAP.CAT"
  A_AXIS_RADIUS = 3396.0
  B_AXIS_RADIUS = 3396.0
  C_AXIS_RADIUS = 3396.0
  CENTER_LATITUDE = 0.0
  CENTER_LONGITUDE = 37.0
  COORDINATE_SYSTEM_NAME = PLANETOGRAPHIC
  COORDINATE_SYSTEM_TYPE = "BODY-FIXED ROTATING"
  EASTERNMOST_LONGITUDE = 39.2056
  FIRST_STANDARD_PARALLEL = "N/A"
  LINE_FIRST_PIXEL = 1
  LINE_LAST_PIXEL = 27323
  LINE_PROJECTION_OFFSET = -59692.875
  MAP_PROJECTION_ROTATION = 0.0
  MAP_PROJECTION_TYPE = SINUSOIDAL
  MAP_RESOLUTION = 1185.42760773333
  MAP_SCALE = 0.05
  MAXIMUM_LATITUDE = -50.3604
  MINIMUM_LATITUDE = -73.47199999999999
  POSITIVE_LONGITUDE_DIRECTION = EAST
  REFERENCE_LATITUDE = "N/A"
  REFERENCE_LONGITUDE = "N/A"
  SAMPLE_FIRST_PIXEL = 1
  SAMPLE_LAST_PIXEL = 3897
  SAMPLE_PROJECTION_OFFSET = 2183.875
  SECOND_STANDARD_PARALLEL = "N/A"
  WESTERNMOST_LONGITUDE = 30.742
END_OBJECT = IMAGE_MAP_PROJECTION
/* The JPEG2000 image data file associated with this label. */
OBJECT = COMPRESSED_FILE
  FILE_NAME = "H2353_0000_P13.JP2"
  RECORD_TYPE = UNDEFINED
  FILE_RECORDS = UNK
  ENCODING_TYPE = "JP2"
  INTERCHANGE_FORMAT = BINARY
  UNCOMPRESSED_FILE_NAME = "H2353_0000_P13.IMG"
  REQUIRED_STORAGE_BYTES = "106501113"
  ^DESCRIPTION = "JP2INFO.TXT"
END_OBJECT = COMPRESSED_FILE
END
