PDS_VERSION_ID = PDS3
/* FILE DATA ELEMENTS */
RECORD_TYPE = STREAM
/* POINTERS TO DATA OBJECTS */
^COMPRESSED_FILE = "H2355_0000_GR3.JP2"
/* IDENTIFICATION DATA ELEMENTS */
DATA_SET_ID = "MEX-M-HRSC-5-REFDR-MAPPROJECTED-V3.0"
DATA_SET_NAME = "MARS EXPRESS HRSC MAP PROJECTED REFDR V3.0"
DETECTOR_ID = MEX_HRSC_GREEN
EVENT_TYPE = "MARS-REGIONAL-MAPPING-Vo-Te-Im"
INSTRUMENT_HOST_ID = MEX
INSTRUMENT_HOST_NAME = "MARS EXPRESS"
INSTRUMENT_ID = HRSC
INSTRUMENT_NAME = "HIGH RESOLUTION STEREO CAMERA"
MISSION_NAME = "MARS EXPRESS"
MISSION_PHASE_NAME = MR_Phase_8
PROCESSING_LEVEL_ID = 3
PRODUCT_CREATION_TIME = 2016-03-15T10:38:17.000Z
PRODUCT_ID = "H2355_0000_GR3.JP2"
RELEASE_ID = 0029
REVISION_ID = 0000
/* QUALITY DATA ELEMENTS */
DATA_QUALITY_ID = 1
DATA_QUALITY_DESC = "Data calculated based on original SPICE kernels"
/* TIME DATA ELEMENTS */
SPACECRAFT_CLOCK_START_COUNT = "1/0079931923.56195"
SPACECRAFT_CLOCK_STOP_COUNT = "1/0079932206.39419"
START_TIME = 2005-11-13T03:19:16.454Z
STOP_TIME = 2005-11-13T03:23:03.336Z
/* ORBITAL DATA ELEMENTS */
ASCENDING_NODE_LONGITUDE = 178.81
MAXIMUM_RESOLUTION = 87.8
FOOTPRINT_POINT_LATITUDE = (-70.2184,-70.2464,-70.2898,-70.3161, -70.1505,-69.8197,-69.4988,-69.1776, -68.8558,-68.5337,-68.0529,-67.7409, -67.4286,-67.1159,-66.803,-66.4897, -66.0243,-65.7215,-65.4184,-65.115, -64.8113,-64.5075,-64.2032,-63.747, -63.4536,-63.16,-62.8661,-62.5721, -62.2779,-61.8364,-61.5419,-61.2471, -60.9521,-60.6569,-60.3646,-60.0799, -59.6538,-59.3693,-59.0849,-58.8002, -58.5154,-58.2306,-57.8028,-57.5165, -57.2312,-56.946,-56.6607,-56.2339, -55.9481,-55.5195,-55.3128,-55.297, -55.2844,-55.2681,-55.553,-55.8378, -56.2648,-56.549,-56.8337,-57.2602, -57.6862,-57.9703,-58.2541,-58.5377, -58.8213,-59.1048,-59.5299,-59.8131, -60.0958,-60.5262,-60.8201,-61.1135, -61.553,-61.8462,-62.2854,-62.7238, -63.0161,-63.3081,-63.5999,-63.8999, -64.2019,-64.5037,-64.8055,-65.1067, -65.4078,-65.7085,-66.0088,-66.3183, -66.6289,-66.9393,-67.2491,-67.5586, -67.8676,-68.3414,-68.6603,-68.9786, -69.2963,-69.6134,-69.9382,-70.2184)
FOOTPRINT_POINT_LONGITUDE = (197.885,198.443,199.391,200.474, 200.524,200.618,200.708,200.793,200.877 ,200.959,201.074,201.147,201.218, 201.287,201.353,201.417,201.51,201.567, 201.624,201.679,201.733,201.784,201.836 ,201.91,201.956,202.0,202.044,202.086, 202.128,202.186,202.224,202.261,202.299 ,202.336,202.371,202.409,202.457, 202.489,202.519,202.55,202.581,202.61, 202.656,202.692,202.72,202.747,202.773, 202.803,202.83,202.869,202.538,202.033, 201.673,201.212,201.175,201.138,201.079 ,201.039,200.998,200.934,200.868, 200.823,200.776,200.728,200.679,200.629 ,200.552,200.499,200.445,200.359, 200.299,200.237,200.141,200.075,199.972 ,199.866,199.793,199.718,199.641,199.56 ,199.475,199.388,199.298,199.206, 199.112,199.015,198.915,198.808,198.698 ,198.585,198.468,198.348,198.223, 198.024,197.885,197.741,197.592,197.438 ,197.274,197.885)
ORBIT_NUMBER = 2355
ORBITAL_ECCENTRICITY = 0.572
ORBITAL_INCLINATION = 86.64
ORBITAL_SEMIMAJOR_AXIS = 8555.77
PERIAPSIS_ALTITUDE = 277.4
PERIAPSIS_ARGUMENT_ANGLE = 304.22
PERIAPSIS_TIME = 2005-11-13T03:23:02.000Z
SPACECRAFT_ORIENTATION = (0.0,-1.0,0.0)
^MEX_ORIENTATION_DESC = "MEX_ORIENTATION_DESC.TXT"
SPACECRAFT_POINTING_MODE = ACROSSTRACK
^MEX_POINTING_DESC = "MEX_POINTING_DESC.TXT"
RIGHT_ASCENSION = -1e+32
DECLINATION = -1e+32
OFFSET_ANGLE = -0.3
SPACECRAFT_SOLAR_DISTANCE = 2.19627e+08
TARGET_NAME = MARS
/* CAMERA DATA ELEMENTS */
DETECTOR_TEMPERATURE = 18.3705
FOCAL_PLANE_TEMPERATURE = 8.1755
INST_CMPRS_NAME = "DISCRETE COSINE TRANSFORMATION (DCT)"
INST_CMPRS_RATIO = 28.7645
INST_CMPRS_QUALITY = 0
INST_CMPRS_QUANTZ_TBL_ID = 0
INSTRUMENT_TEMPERATURE = 11.234
LENS_TEMPERATURE = 8.5833
MACROPIXEL_SIZE = 8
MISSING_FRAMES = 0
PIXEL_SUBSAMPLING_FLAG = N
SIGNAL_CHAIN_ID = 2
/* RADIOMETRIC DATA ELEMENTS */
BANDWIDTH = 88.0
CENTER_FILTER_WAVELENGTH = 538.0
RADIANCE_OFFSET = 1.72875
RADIANCE_SCALING_FACTOR = 0.00297464
REFLECTANCE_SCALING_FACTOR = 0.000123536
MEX:REFLECTANCE_OFFSET = 0.0717947
/* IMAGE OBJECT DEFINITIONS */
OBJECT = IMAGE
  INTERCHANGE_FORMAT = BINARY
  LINES = 8920
  LINE_SAMPLES = 1417
  SAMPLE_TYPE = UNSIGNED_INTEGER
  SAMPLE_BITS = 8
  BANDS = 1
  BAND_STORAGE_TYPE = BAND_SEQUENTIAL
  MAXIMUM = 143
  MEAN = 121.351
  MINIMUM = 97
  STANDARD_DEVIATION = 5.8623
END_OBJECT = IMAGE
/* MAP OBJECT DEFINITIONS */
OBJECT = IMAGE_MAP_PROJECTION
  ^DATA_SET_MAP_PROJECTION_CATALOG= "DSMAP.CAT"
  A_AXIS_RADIUS = 3396.0
  B_AXIS_RADIUS = 3396.0
  C_AXIS_RADIUS = 3396.0
  CENTER_LATITUDE = 0.0
  CENTER_LONGITUDE = 201.0
  COORDINATE_SYSTEM_NAME = PLANETOGRAPHIC
  COORDINATE_SYSTEM_TYPE = "BODY-FIXED ROTATING"
  EASTERNMOST_LONGITUDE = 202.869
  FIRST_STANDARD_PARALLEL = "N/A"
  LINE_FIRST_PIXEL = 1
  LINE_LAST_PIXEL = 8920
  LINE_PROJECTION_OFFSET = -32760.3125
  MAP_PROJECTION_ROTATION = 0.0
  MAP_PROJECTION_TYPE = SINUSOIDAL
  MAP_RESOLUTION = 592.713803866667
  MAP_SCALE = 0.1
  MAXIMUM_LATITUDE = -55.2681
  MINIMUM_LATITUDE = -70.31610000000001
  POSITIVE_LONGITUDE_DIRECTION = EAST
  REFERENCE_LATITUDE = "N/A"
  REFERENCE_LONGITUDE = "N/A"
  SAMPLE_FIRST_PIXEL = 1
  SAMPLE_LAST_PIXEL = 1417
  SAMPLE_PROJECTION_OFFSET = 763.4375
  SECOND_STANDARD_PARALLEL = "N/A"
  WESTERNMOST_LONGITUDE = 197.274
END_OBJECT = IMAGE_MAP_PROJECTION
/* The JPEG2000 image data file associated with this label. */
OBJECT = COMPRESSED_FILE
  FILE_NAME = "H2355_0000_GR3.JP2"
  RECORD_TYPE = UNDEFINED
  FILE_RECORDS = UNK
  ENCODING_TYPE = "JP2"
  INTERCHANGE_FORMAT = BINARY
  UNCOMPRESSED_FILE_NAME = "H2355_0000_GR3.IMG"
  REQUIRED_STORAGE_BYTES = "12659478"
  ^DESCRIPTION = "JP2INFO.TXT"
END_OBJECT = COMPRESSED_FILE
END
