PDS_VERSION_ID = PDS3
/* FILE DATA ELEMENTS */
RECORD_TYPE = STREAM
/* POINTERS TO DATA OBJECTS */
^COMPRESSED_FILE = "H2355_0000_IR3.JP2"
/* IDENTIFICATION DATA ELEMENTS */
DATA_SET_ID = "MEX-M-HRSC-5-REFDR-MAPPROJECTED-V3.0"
DATA_SET_NAME = "MARS EXPRESS HRSC MAP PROJECTED REFDR V3.0"
DETECTOR_ID = MEX_HRSC_IR
EVENT_TYPE = "MARS-REGIONAL-MAPPING-Vo-Te-Im"
INSTRUMENT_HOST_ID = MEX
INSTRUMENT_HOST_NAME = "MARS EXPRESS"
INSTRUMENT_ID = HRSC
INSTRUMENT_NAME = "HIGH RESOLUTION STEREO CAMERA"
MISSION_NAME = "MARS EXPRESS"
MISSION_PHASE_NAME = MR_Phase_8
PROCESSING_LEVEL_ID = 3
PRODUCT_CREATION_TIME = 2016-03-15T10:38:17.000Z
PRODUCT_ID = "H2355_0000_IR3.JP2"
RELEASE_ID = 0029
REVISION_ID = 0000
/* QUALITY DATA ELEMENTS */
DATA_QUALITY_ID = 1
DATA_QUALITY_DESC = "Data calculated based on original SPICE kernels"
/* TIME DATA ELEMENTS */
SPACECRAFT_CLOCK_START_COUNT = "1/0079931923.56195"
SPACECRAFT_CLOCK_STOP_COUNT = "1/0079932206.39419"
START_TIME = 2005-11-13T03:18:56.259Z
STOP_TIME = 2005-11-13T03:22:47.463Z
/* ORBITAL DATA ELEMENTS */
ASCENDING_NODE_LONGITUDE = 178.81
MAXIMUM_RESOLUTION = 91.7
FOOTPRINT_POINT_LATITUDE = (-70.2653,-70.29,-70.3134,-70.3355, -70.3562,-70.3755,-70.3933,-70.3284, -69.9998,-69.6782,-69.3563,-69.0337, -68.5493,-68.2359,-67.9221,-67.607, -67.2916,-66.8219,-66.5162,-66.2102, -65.9038,-65.5966,-65.2892,-64.8329, -64.3867,-64.0885,-63.79,-63.491, -63.1922,-62.8925,-62.594,-62.305, -62.0158,-61.5827,-61.2935,-61.0028, -60.7115,-60.4209,-60.1262,-59.836, -59.5433,-59.2549,-58.974,-58.6919, -58.2691,-57.9871,-57.6969,-57.27, -56.8453,-56.4294,-56.0009,-55.5726, -55.3158,-55.3002,-55.2832,-55.5633, -55.99,-56.2749,-56.5547,-56.8396, -57.1223,-57.4038,-57.6854,-58.1081, -58.5291,-58.8098,-59.2308,-59.6659, -59.9567,-60.3918,-60.682,-60.9717, -61.2601,-61.6904,-61.9798,-62.2675, -62.554,-62.8518,-63.1507,-63.5974, -63.8934,-64.1889,-64.6319,-64.9274, -65.2325,-65.6899,-65.9938,-66.2974, -66.752,-67.0619,-67.3743,-67.8419, -68.1523,-68.6224,-68.9421,-69.2607, -69.5788,-69.8957,-70.0577,-70.2653)
FOOTPRINT_POINT_LONGITUDE = (197.105,197.588,198.074,198.563, 199.054,199.549,200.047,200.536,200.63, 200.718,200.804,200.887,201.007,201.082 ,201.154,201.225,201.294,201.392, 201.453,201.513,201.571,201.628,201.683 ,201.763,201.837,201.886,201.933, 201.979,202.023,202.067,202.109,202.149 ,202.188,202.242,202.278,202.314,202.35 ,202.384,202.423,202.454,202.487, 202.519,202.548,202.578,202.621,202.649 ,202.686,202.73,202.769,202.796,202.836 ,202.874,202.706,201.991,201.394, 201.175,201.118,201.078,201.038,200.996 ,200.954,200.911,200.866,200.798, 200.727,200.678,200.602,200.522,200.466 ,200.38,200.32,200.26,200.197,200.101, 200.034,199.966,199.897,199.822,199.746 ,199.628,199.547,199.463,199.334, 199.244,199.149,199.001,198.899,198.794 ,198.63,198.514,198.393,198.206,198.075 ,197.87,197.724,197.574,197.418,197.257 ,197.173,197.105)
ORBIT_NUMBER = 2355
ORBITAL_ECCENTRICITY = 0.572
ORBITAL_INCLINATION = 86.64
ORBITAL_SEMIMAJOR_AXIS = 8555.77
PERIAPSIS_ALTITUDE = 277.4
PERIAPSIS_ARGUMENT_ANGLE = 304.22
PERIAPSIS_TIME = 2005-11-13T03:23:02.000Z
SPACECRAFT_ORIENTATION = (0.0,-1.0,0.0)
^MEX_ORIENTATION_DESC = "MEX_ORIENTATION_DESC.TXT"
SPACECRAFT_POINTING_MODE = ACROSSTRACK
^MEX_POINTING_DESC = "MEX_POINTING_DESC.TXT"
RIGHT_ASCENSION = -1e+32
DECLINATION = -1e+32
OFFSET_ANGLE = -0.3
SPACECRAFT_SOLAR_DISTANCE = 2.19627e+08
TARGET_NAME = MARS
/* CAMERA DATA ELEMENTS */
DETECTOR_TEMPERATURE = 17.5549
FOCAL_PLANE_TEMPERATURE = 8.1755
INST_CMPRS_NAME = "DISCRETE COSINE TRANSFORMATION (DCT)"
INST_CMPRS_RATIO = 29.9748
INST_CMPRS_QUALITY = 0
INST_CMPRS_QUANTZ_TBL_ID = 0
INSTRUMENT_TEMPERATURE = 11.234
LENS_TEMPERATURE = 8.5833
MACROPIXEL_SIZE = 8
MISSING_FRAMES = 0
PIXEL_SUBSAMPLING_FLAG = N
SIGNAL_CHAIN_ID = 2
/* RADIOMETRIC DATA ELEMENTS */
BANDWIDTH = 81.0
CENTER_FILTER_WAVELENGTH = 955.5
RADIANCE_OFFSET = 1.03866
RADIANCE_SCALING_FACTOR = 0.00342382
REFLECTANCE_SCALING_FACTOR = 0.000356295
MEX:REFLECTANCE_OFFSET = 0.108086
/* IMAGE OBJECT DEFINITIONS */
OBJECT = IMAGE
  INTERCHANGE_FORMAT = BINARY
  LINES = 8920
  LINE_SAMPLES = 1417
  SAMPLE_TYPE = UNSIGNED_INTEGER
  SAMPLE_BITS = 8
  BANDS = 1
  BAND_STORAGE_TYPE = BAND_SEQUENTIAL
  MAXIMUM = 132
  MEAN = 103.083
  MINIMUM = 67
  STANDARD_DEVIATION = 9.91058
END_OBJECT = IMAGE
/* MAP OBJECT DEFINITIONS */
OBJECT = IMAGE_MAP_PROJECTION
  ^DATA_SET_MAP_PROJECTION_CATALOG= "DSMAP.CAT"
  A_AXIS_RADIUS = 3396.0
  B_AXIS_RADIUS = 3396.0
  C_AXIS_RADIUS = 3396.0
  CENTER_LATITUDE = 0.0
  CENTER_LONGITUDE = 201.0
  COORDINATE_SYSTEM_NAME = PLANETOGRAPHIC
  COORDINATE_SYSTEM_TYPE = "BODY-FIXED ROTATING"
  EASTERNMOST_LONGITUDE = 202.874
  FIRST_STANDARD_PARALLEL = "N/A"
  LINE_FIRST_PIXEL = 1
  LINE_LAST_PIXEL = 8920
  LINE_PROJECTION_OFFSET = -32760.3125
  MAP_PROJECTION_ROTATION = 0.0
  MAP_PROJECTION_TYPE = SINUSOIDAL
  MAP_RESOLUTION = 592.713803866667
  MAP_SCALE = 0.1
  MAXIMUM_LATITUDE = -55.2832
  MINIMUM_LATITUDE = -70.3933
  POSITIVE_LONGITUDE_DIRECTION = EAST
  REFERENCE_LATITUDE = "N/A"
  REFERENCE_LONGITUDE = "N/A"
  SAMPLE_FIRST_PIXEL = 1
  SAMPLE_LAST_PIXEL = 1417
  SAMPLE_PROJECTION_OFFSET = 763.4375
  SECOND_STANDARD_PARALLEL = "N/A"
  WESTERNMOST_LONGITUDE = 197.105
END_OBJECT = IMAGE_MAP_PROJECTION
/* The JPEG2000 image data file associated with this label. */
OBJECT = COMPRESSED_FILE
  FILE_NAME = "H2355_0000_IR3.JP2"
  RECORD_TYPE = UNDEFINED
  FILE_RECORDS = UNK
  ENCODING_TYPE = "JP2"
  INTERCHANGE_FORMAT = BINARY
  UNCOMPRESSED_FILE_NAME = "H2355_0000_IR3.IMG"
  REQUIRED_STORAGE_BYTES = "12658061"
  ^DESCRIPTION = "JP2INFO.TXT"
END_OBJECT = COMPRESSED_FILE
END
