PDS_VERSION_ID = PDS3
/* FILE DATA ELEMENTS */
RECORD_TYPE = STREAM
/* POINTERS TO DATA OBJECTS */
^COMPRESSED_FILE = "H2356_0001_P13.JP2"
/* IDENTIFICATION DATA ELEMENTS */
DATA_SET_ID = "MEX-M-HRSC-5-REFDR-MAPPROJECTED-V3.0"
DATA_SET_NAME = "MARS EXPRESS HRSC MAP PROJECTED REFDR V3.0"
DETECTOR_ID = MEX_HRSC_P1
EVENT_TYPE = "MARS-REGIONAL-MAPPING-Lc-Pf-La"
INSTRUMENT_HOST_ID = MEX
INSTRUMENT_HOST_NAME = "MARS EXPRESS"
INSTRUMENT_ID = HRSC
INSTRUMENT_NAME = "HIGH RESOLUTION STEREO CAMERA"
MISSION_NAME = "MARS EXPRESS"
MISSION_PHASE_NAME = MR_Phase_8
PROCESSING_LEVEL_ID = 3
PRODUCT_CREATION_TIME = 2016-03-15T10:38:17.000Z
PRODUCT_ID = "H2356_0001_P13.JP2"
RELEASE_ID = 0029
REVISION_ID = 0000
/* QUALITY DATA ELEMENTS */
DATA_QUALITY_ID = 1
DATA_QUALITY_DESC = "Data calculated based on original SPICE kernels"
/* TIME DATA ELEMENTS */
SPACECRAFT_CLOCK_START_COUNT = "1/0079956258.57157"
SPACECRAFT_CLOCK_STOP_COUNT = "1/0079956405.48979"
START_TIME = 2005-11-13T10:04:34.697Z
STOP_TIME = 2005-11-13T10:06:10.336Z
/* ORBITAL DATA ELEMENTS */
ASCENDING_NODE_LONGITUDE = 178.79
MAXIMUM_RESOLUTION = 44.8
FOOTPRINT_POINT_LATITUDE = (-60.883,-60.9202,-60.9411,-60.961, -60.9801,-60.9984,-60.9058,-60.714, -60.5862,-60.4578,-60.3299,-60.2014, -60.072,-59.9437,-59.7493,-59.6193, -59.4254,-59.3008,-59.1145,-58.9904, -58.8663,-58.68,-58.5559,-58.4316, -58.3076,-58.1833,-58.0595,-57.8724, -57.7478,-57.6232,-57.4984,-57.371, -57.247,-57.0624,-56.9376,-56.813, -56.6883,-56.5647,-56.3803,-56.1968, -56.0736,-55.9486,-55.8233,-55.6964, -55.5068,-55.3801,-55.2543,-55.1289, -55.0035,-54.8783,-54.6297,-54.6151, -54.5862,-54.5687,-54.5474,-54.525, -54.6476,-54.7718,-55.0151,-55.2049, -55.3331,-55.523,-55.7088,-55.8952, -56.0195,-56.1433,-56.4504,-56.636, -56.7601,-56.8849,-57.0091,-57.132, -57.2555,-57.3796,-57.5035,-57.6273, -57.7511,-57.9367,-58.0605,-58.2464, -58.3699,-58.4935,-58.6169,-58.7404, -58.8637,-58.9871,-59.1107,-59.2349, -59.3606,-59.4896,-59.6194,-59.7491, -59.8758,-60.0037,-60.1317,-60.3237, -60.4511,-60.5784,-60.7053,-60.883)
FOOTPRINT_POINT_LONGITUDE = (100.269,100.77,101.065,101.357,101.647 ,101.936,102.242,102.278,102.301, 102.324,102.346,102.369,102.391,102.413 ,102.446,102.468,102.499,102.52,102.55, 102.57,102.59,102.619,102.638,102.657, 102.676,102.695,102.714,102.742,102.76, 102.778,102.796,102.814,102.832,102.858 ,102.875,102.893,102.91,102.927,102.952 ,102.977,102.993,103.009,103.025, 103.041,103.065,103.081,103.097,103.112 ,103.127,103.142,103.172,102.93,102.468 ,102.203,101.889,101.572,101.485, 101.464,101.414,101.386,101.37,101.342, 101.308,101.274,101.251,101.228,101.165 ,101.128,101.104,101.081,101.057, 101.031,101.005,100.98,100.955,100.93, 100.904,100.865,100.838,100.799,100.772 ,100.745,100.717,100.689,100.661, 100.633,100.605,100.577,100.552,100.526 ,100.497,100.469,100.435,100.404, 100.372,100.323,100.29,100.256,100.221, 100.269)
ORBIT_NUMBER = 2356
ORBITAL_ECCENTRICITY = 0.573
ORBITAL_INCLINATION = 86.63
ORBITAL_SEMIMAJOR_AXIS = 8559.77
PERIAPSIS_ALTITUDE = 276.81
PERIAPSIS_ARGUMENT_ANGLE = 304.03
PERIAPSIS_TIME = 2005-11-13T10:06:08.000Z
SPACECRAFT_ORIENTATION = (0.0,-1.0,0.0)
^MEX_ORIENTATION_DESC = "MEX_ORIENTATION_DESC.TXT"
SPACECRAFT_POINTING_MODE = ACROSSTRACK
^MEX_POINTING_DESC = "MEX_POINTING_DESC.TXT"
RIGHT_ASCENSION = -1e+32
DECLINATION = -1e+32
OFFSET_ANGLE = 0.53
SPACECRAFT_SOLAR_DISTANCE = 2.19679e+08
TARGET_NAME = MARS
/* CAMERA DATA ELEMENTS */
DETECTOR_TEMPERATURE = 19.1861
FOCAL_PLANE_TEMPERATURE = 8.9911
INST_CMPRS_NAME = "DISCRETE COSINE TRANSFORMATION (DCT)"
INST_CMPRS_RATIO = 20.0534
INST_CMPRS_QUALITY = 0
INST_CMPRS_QUANTZ_TBL_ID = 0
INSTRUMENT_TEMPERATURE = 12.6613
LENS_TEMPERATURE = 9.195
MACROPIXEL_SIZE = 4
MISSING_FRAMES = 0
PIXEL_SUBSAMPLING_FLAG = N
SIGNAL_CHAIN_ID = 3
/* RADIOMETRIC DATA ELEMENTS */
BANDWIDTH = 174.0
CENTER_FILTER_WAVELENGTH = 675.0
RADIANCE_OFFSET = 5.59665
RADIANCE_SCALING_FACTOR = 0.0144392
REFLECTANCE_SCALING_FACTOR = 0.000374806
MEX:REFLECTANCE_OFFSET = 0.145275
/* IMAGE OBJECT DEFINITIONS */
OBJECT = IMAGE
  INTERCHANGE_FORMAT = BINARY
  LINES = 7602
  LINE_SAMPLES = 1858
  SAMPLE_TYPE = UNSIGNED_INTEGER
  SAMPLE_BITS = 8
  BANDS = 1
  BAND_STORAGE_TYPE = BAND_SEQUENTIAL
  MAXIMUM = 192
  MEAN = 143.301
  MINIMUM = 113
  STANDARD_DEVIATION = 11.6925
END_OBJECT = IMAGE
/* MAP OBJECT DEFINITIONS */
OBJECT = IMAGE_MAP_PROJECTION
  ^DATA_SET_MAP_PROJECTION_CATALOG= "DSMAP.CAT"
  A_AXIS_RADIUS = 3396.0
  B_AXIS_RADIUS = 3396.0
  C_AXIS_RADIUS = 3396.0
  CENTER_LATITUDE = 0.0
  CENTER_LONGITUDE = 102.0
  COORDINATE_SYSTEM_NAME = PLANETOGRAPHIC
  COORDINATE_SYSTEM_TYPE = "BODY-FIXED ROTATING"
  EASTERNMOST_LONGITUDE = 103.172
  FIRST_STANDARD_PARALLEL = "N/A"
  LINE_FIRST_PIXEL = 1
  LINE_LAST_PIXEL = 7602
  LINE_PROJECTION_OFFSET = -64646.625
  MAP_PROJECTION_ROTATION = 0.0
  MAP_PROJECTION_TYPE = SINUSOIDAL
  MAP_RESOLUTION = 1185.42760773333
  MAP_SCALE = 0.05
  MAXIMUM_LATITUDE = -54.525
  MINIMUM_LATITUDE = -60.9984
  POSITIVE_LONGITUDE_DIRECTION = EAST
  REFERENCE_LATITUDE = "N/A"
  REFERENCE_LONGITUDE = "N/A"
  SAMPLE_FIRST_PIXEL = 1
  SAMPLE_LAST_PIXEL = 1858
  SAMPLE_PROJECTION_OFFSET = 1042.125
  SECOND_STANDARD_PARALLEL = "N/A"
  WESTERNMOST_LONGITUDE = 100.221
END_OBJECT = IMAGE_MAP_PROJECTION
/* The JPEG2000 image data file associated with this label. */
OBJECT = COMPRESSED_FILE
  FILE_NAME = "H2356_0001_P13.JP2"
  RECORD_TYPE = UNDEFINED
  FILE_RECORDS = UNK
  ENCODING_TYPE = "JP2"
  INTERCHANGE_FORMAT = BINARY
  UNCOMPRESSED_FILE_NAME = "H2356_0001_P13.IMG"
  REQUIRED_STORAGE_BYTES = "14144954"
  ^DESCRIPTION = "JP2INFO.TXT"
END_OBJECT = COMPRESSED_FILE
END
