PDS_VERSION_ID = PDS3
/* FILE DATA ELEMENTS */
RECORD_TYPE = STREAM
/* POINTERS TO DATA OBJECTS */
^COMPRESSED_FILE = "H2357_0000_P13.JP2"
/* IDENTIFICATION DATA ELEMENTS */
DATA_SET_ID = "MEX-M-HRSC-5-REFDR-MAPPROJECTED-V3.0"
DATA_SET_NAME = "MARS EXPRESS HRSC MAP PROJECTED REFDR V3.0"
DETECTOR_ID = MEX_HRSC_P1
EVENT_TYPE = "MARS-REGIONAL-MAPPING-Gl-Pf"
INSTRUMENT_HOST_ID = MEX
INSTRUMENT_HOST_NAME = "MARS EXPRESS"
INSTRUMENT_ID = HRSC
INSTRUMENT_NAME = "HIGH RESOLUTION STEREO CAMERA"
MISSION_NAME = "MARS EXPRESS"
MISSION_PHASE_NAME = MR_Phase_8
PROCESSING_LEVEL_ID = 3
PRODUCT_CREATION_TIME = 2016-03-15T10:38:17.000Z
PRODUCT_ID = "H2357_0000_P13.JP2"
RELEASE_ID = 0029
REVISION_ID = 0000
/* QUALITY DATA ELEMENTS */
DATA_QUALITY_ID = 2
DATA_QUALITY_DESC = "Data calculated based on photogrammetrically improved orbit and attitude data"
/* TIME DATA ELEMENTS */
SPACECRAFT_CLOCK_START_COUNT = "1/0079980271.56186"
SPACECRAFT_CLOCK_STOP_COUNT = "1/0079980487.15549"
START_TIME = 2005-11-13T16:44:50.083Z
STOP_TIME = 2005-11-13T16:47:30.836Z
/* ORBITAL DATA ELEMENTS */
ASCENDING_NODE_LONGITUDE = 178.78
MAXIMUM_RESOLUTION = 23.5
FOOTPRINT_POINT_LATITUDE = (-71.7879,-71.8323,-71.8831,-71.9121, -71.9361,-71.906,-71.683,-71.4601, -71.1269,-70.9051,-70.6881,-70.3655, -70.1493,-69.9321,-69.7156,-69.4976, -69.2852,-68.969,-68.758,-68.5467, -68.2292,-68.0173,-67.8052,-67.5982, -67.3932,-67.1882,-66.9818,-66.7756, -66.4678,-66.1589,-65.9499,-65.7462, -65.5466,-65.2471,-65.047,-64.8467, -64.6465,-64.4453,-64.1443,-63.9431, -63.7418,-63.4408,-63.2466,-63.0524, -62.8579,-62.6605,-62.4659,-62.1735, -61.8808,-61.6857,-61.5625,-61.5492, -61.5374,-61.517,-61.4996,-61.5778, -61.7733,-61.9675,-62.1592,-62.3528, -62.5465,-62.8393,-63.1286,-63.3214, -63.6198,-63.8196,-64.019,-64.318, -64.6166,-64.8156,-65.0149,-65.2129, -65.4103,-65.6081,-65.912,-66.1167, -66.4236,-66.628,-66.9338,-67.1376, -67.3406,-67.5437,-67.8575,-68.0666, -68.3801,-68.589,-68.901,-69.1077, -69.3181,-69.5805,-69.7469,-69.9608, -70.1746,-70.3874,-70.5988,-70.9234, -71.1428,-71.3615,-71.5778,-71.7879)
FOOTPRINT_POINT_LONGITUDE = (359.082,359.809,360.714,361.274, 361.765,362.457,362.549,362.638,362.763 ,362.844,362.923,363.032,363.105, 363.177,363.246,363.316,363.381,363.476 ,363.538,363.599,363.687,363.745, 363.801,363.855,363.908,363.958,364.01, 364.061,364.131,364.201,364.251,364.296 ,364.339,364.402,364.443,364.484, 364.523,364.564,364.621,364.659,364.697 ,364.751,364.786,364.82,364.853,364.887 ,364.919,364.967,365.014,365.044, 364.675,364.372,364.108,363.683,363.34, 362.945,362.898,362.849,362.798,362.747 ,362.695,362.616,362.535,362.479, 362.392,362.332,362.271,362.178,362.082 ,362.017,361.951,361.883,361.813, 361.743,361.632,361.556,361.439,361.359 ,361.236,361.152,361.066,360.979, 360.841,360.746,360.599,360.499,360.344 ,360.237,360.129,360.191,359.898, 359.779,359.657,359.532,359.403,359.201 ,359.061,358.918,358.769,359.082)
ORBIT_NUMBER = 2357
ORBITAL_ECCENTRICITY = 0.572
ORBITAL_INCLINATION = 86.63
ORBITAL_SEMIMAJOR_AXIS = 8557.04
PERIAPSIS_ALTITUDE = 277.66
PERIAPSIS_ARGUMENT_ANGLE = 303.85
PERIAPSIS_TIME = 2005-11-13T16:49:10.000Z
SPACECRAFT_ORIENTATION = (0.0,-1.0,0.0)
^MEX_ORIENTATION_DESC = "MEX_ORIENTATION_DESC.TXT"
SPACECRAFT_POINTING_MODE = NADIR
^MEX_POINTING_DESC = "MEX_POINTING_DESC.TXT"
RIGHT_ASCENSION = -1e+32
DECLINATION = -1e+32
OFFSET_ANGLE = -1e+32
SPACECRAFT_SOLAR_DISTANCE = 2.19731e+08
TARGET_NAME = MARS
/* CAMERA DATA ELEMENTS */
DETECTOR_TEMPERATURE = 17.5549
FOCAL_PLANE_TEMPERATURE = 8.5833
INST_CMPRS_NAME = "DISCRETE COSINE TRANSFORMATION (DCT)"
INST_CMPRS_RATIO = 12.8433
INST_CMPRS_QUALITY = 0
INST_CMPRS_QUANTZ_TBL_ID = 0
INSTRUMENT_TEMPERATURE = 11.4379
LENS_TEMPERATURE = 8.9911
MACROPIXEL_SIZE = 2
MISSING_FRAMES = 1
PIXEL_SUBSAMPLING_FLAG = N
SIGNAL_CHAIN_ID = 3
/* RADIOMETRIC DATA ELEMENTS */
BANDWIDTH = 174.0
CENTER_FILTER_WAVELENGTH = 675.0
RADIANCE_OFFSET = 4.12171
RADIANCE_SCALING_FACTOR = 0.0112025
REFLECTANCE_SCALING_FACTOR = 0.000290925
MEX:REFLECTANCE_OFFSET = 0.10704
/* IMAGE OBJECT DEFINITIONS */
OBJECT = IMAGE
  INTERCHANGE_FORMAT = BINARY
  LINES = 24686
  LINE_SAMPLES = 5396
  SAMPLE_TYPE = UNSIGNED_INTEGER
  SAMPLE_BITS = 8
  BANDS = 1
  BAND_STORAGE_TYPE = BAND_SEQUENTIAL
  MAXIMUM = 174
  MEAN = 140.139
  MINIMUM = 97
  STANDARD_DEVIATION = 8.49589
END_OBJECT = IMAGE
/* MAP OBJECT DEFINITIONS */
OBJECT = IMAGE_MAP_PROJECTION
  ^DATA_SET_MAP_PROJECTION_CATALOG= "DSMAP.CAT"
  A_AXIS_RADIUS = 3396.0
  B_AXIS_RADIUS = 3396.0
  C_AXIS_RADIUS = 3396.0
  CENTER_LATITUDE = 0.0
  CENTER_LONGITUDE = 3.0
  COORDINATE_SYSTEM_NAME = PLANETOGRAPHIC
  COORDINATE_SYSTEM_TYPE = "BODY-FIXED ROTATING"
  EASTERNMOST_LONGITUDE = 5.044
  FIRST_STANDARD_PARALLEL = "N/A"
  LINE_FIRST_PIXEL = 1
  LINE_LAST_PIXEL = 24686
  LINE_PROJECTION_OFFSET = -145742.25
  MAP_PROJECTION_ROTATION = 0.0
  MAP_PROJECTION_TYPE = SINUSOIDAL
  MAP_RESOLUTION = 2370.85521546667
  MAP_SCALE = 0.025
  MAXIMUM_LATITUDE = -61.4996
  MINIMUM_LATITUDE = -71.9361
  POSITIVE_LONGITUDE_DIRECTION = EAST
  REFERENCE_LATITUDE = "N/A"
  REFERENCE_LONGITUDE = "N/A"
  SAMPLE_FIRST_PIXEL = 1
  SAMPLE_LAST_PIXEL = 5396
  SAMPLE_PROJECTION_OFFSET = 3126.25
  SECOND_STANDARD_PARALLEL = "N/A"
  WESTERNMOST_LONGITUDE = -1.231
END_OBJECT = IMAGE_MAP_PROJECTION
/* The JPEG2000 image data file associated with this label. */
OBJECT = COMPRESSED_FILE
  FILE_NAME = "H2357_0000_P13.JP2"
  RECORD_TYPE = UNDEFINED
  FILE_RECORDS = UNK
  ENCODING_TYPE = "JP2"
  INTERCHANGE_FORMAT = BINARY
  UNCOMPRESSED_FILE_NAME = "H2357_0000_P13.IMG"
  REQUIRED_STORAGE_BYTES = "133232636"
  ^DESCRIPTION = "JP2INFO.TXT"
END_OBJECT = COMPRESSED_FILE
END
