PDS_VERSION_ID = PDS3
/* FILE DATA ELEMENTS */
RECORD_TYPE = STREAM
/* POINTERS TO DATA OBJECTS */
^COMPRESSED_FILE = "H2357_0005_SR3.JP2"
/* IDENTIFICATION DATA ELEMENTS */
DATA_SET_ID = "MEX-M-HRSC-5-REFDR-MAPPROJECTED-V3.0"
DATA_SET_NAME = "MARS EXPRESS HRSC MAP PROJECTED REFDR V3.0"
DETECTOR_ID = MEX_HRSC_SRC
EVENT_TYPE = "MARS-REGIONAL-MAPPING-Gl-Pf"
INSTRUMENT_HOST_ID = MEX
INSTRUMENT_HOST_NAME = "MARS EXPRESS"
INSTRUMENT_ID = HRSC
INSTRUMENT_NAME = "HIGH RESOLUTION STEREO CAMERA"
MISSION_NAME = "MARS EXPRESS"
MISSION_PHASE_NAME = MR_Phase_8
PROCESSING_LEVEL_ID = 3
PRODUCT_CREATION_TIME = 2016-03-15T10:38:17.000Z
PRODUCT_ID = "H2357_0005_SR3.JP2"
RELEASE_ID = 0029
REVISION_ID = 0000
/* QUALITY DATA ELEMENTS */
DATA_QUALITY_ID = 1
DATA_QUALITY_DESC = "Data calculated based on original SPICE kernels"
/* TIME DATA ELEMENTS */
SPACECRAFT_CLOCK_START_COUNT = "1/0079980271.56186"
SPACECRAFT_CLOCK_STOP_COUNT = "1/0079980487.15549"
IMAGE_TIME = 2005-11-13T16:45:13.428Z
START_TIME = 2005-11-13T16:45:13.426Z
STOP_TIME = 2005-11-13T16:45:13.431Z
/* ORBITAL DATA ELEMENTS */
ASCENDING_NODE_LONGITUDE = 178.78
MAXIMUM_RESOLUTION = 3.018
FOOTPRINT_POINT_LATITUDE = (-71.562,-71.5633,-71.5656,-71.5673, -71.5694,-71.5708,-71.573,-71.5755, -71.5772,-71.5788,-71.5809,-71.5833, -71.5849,-71.5869,-71.5887,-71.5912, -71.5932,-71.5974,-71.6005,-71.6022, -71.6046,-71.6061,-71.6079,-71.6094, -71.6115,-71.6117,-71.6114,-71.6111, -71.6106,-71.6104,-71.61,-71.6097, -71.6093,-71.6089,-71.6087,-71.6083, -71.608,-71.6077,-71.6074,-71.6071, -71.6067,-71.6064,-71.606,-71.6057, -71.6054,-71.6051,-71.6048,-71.6044, -71.6041,-71.6037,-71.6014,-71.5995, -71.5967,-71.5949,-71.5936,-71.5917, -71.5899,-71.5885,-71.586,-71.5838, -71.5823,-71.58,-71.5783,-71.5765, -71.5742,-71.5728,-71.5707,-71.5682, -71.5669,-71.5648,-71.5624,-71.5596, -71.5575,-71.5559,-71.5545,-71.5529, -71.5533,-71.5538,-71.5542,-71.5545, -71.5548,-71.5552,-71.5556,-71.5559, -71.5563,-71.5567,-71.5569,-71.5573, -71.5575,-71.5579,-71.5583,-71.5586, -71.559,-71.5595,-71.5597,-71.5602, -71.5605,-71.5608,-71.5612,-71.562)
FOOTPRINT_POINT_LONGITUDE = (0.768245,0.767524,0.766323,0.765415, 0.764293,0.763545,0.762396,0.761086, 0.760204,0.759348,0.758198,0.756968, 0.756111,0.755014,0.754077,0.752765, 0.751694,0.749444,0.747836,0.746898, 0.745611,0.74486,0.743868,0.743063, 0.741963,0.731807,0.725411,0.719016, 0.711022,0.706226,0.699832,0.693437, 0.685444,0.679051,0.674255,0.667862, 0.661468,0.655075,0.650281,0.643888, 0.637496,0.631103,0.624711,0.61832, 0.611928,0.607135,0.600743,0.594352, 0.587962,0.581571,0.580187,0.581222, 0.582748,0.583728,0.584436,0.585443, 0.586396,0.587185,0.588491,0.589688, 0.590503,0.591754,0.592651,0.59363, 0.59488,0.59564,0.596754,0.598112, 0.598818,0.599958,0.601233,0.602753, 0.603838,0.604733,0.605492,0.608139, 0.616107,0.624075,0.632043,0.638418, 0.643199,0.651168,0.657543,0.663919, 0.671889,0.678265,0.683048,0.689424, 0.694207,0.700584,0.708555,0.714933, 0.72131,0.730877,0.735661,0.743634, 0.750013,0.756392,0.762771,0.768245)
ORBIT_NUMBER = 2357
ORBITAL_ECCENTRICITY = 0.572
ORBITAL_INCLINATION = 86.63
ORBITAL_SEMIMAJOR_AXIS = 8557.04
PERIAPSIS_ALTITUDE = 277.66
PERIAPSIS_ARGUMENT_ANGLE = 303.85
PERIAPSIS_TIME = 2005-11-13T16:49:10.000Z
SPACECRAFT_ORIENTATION = (0.0,-1.0,0.0)
^MEX_ORIENTATION_DESC = "MEX_ORIENTATION_DESC.TXT"
SPACECRAFT_POINTING_MODE = NADIR
^MEX_POINTING_DESC = "MEX_POINTING_DESC.TXT"
RIGHT_ASCENSION = -1e+32
DECLINATION = -1e+32
OFFSET_ANGLE = -1e+32
SPACECRAFT_SOLAR_DISTANCE = 2.19731e+08
TARGET_NAME = MARS
/* CAMERA DATA ELEMENTS */
BUFFER_MODE_ID = BUFFER_8
EXPOSURE_DURATION = 5.04
INST_CMPRS_NAME = NONE
INST_CMPRS_RATIO = 1.0
INST_CMPRS_QUALITY = -2147483648
INST_CMPRS_QUANTZ_TBL_ID = -2147483648
INSTRUMENT_TEMPERATURE = 6.23634
MISSING_FRAMES = 0
START_BIT = 0
/* RADIOMETRIC DATA ELEMENTS */
BANDWIDTH = 250.0
CENTER_FILTER_WAVELENGTH = 600.0
RADIANCE_OFFSET = -9.99e+31
RADIANCE_SCALING_FACTOR = -9.99e+31
REFLECTANCE_SCALING_FACTOR = -9.99e+31
MEX:REFLECTANCE_OFFSET = -9.99e+31
/* IMAGE OBJECT DEFINITIONS */
OBJECT = IMAGE
  INTERCHANGE_FORMAT = BINARY
  LINES = 1527
  LINE_SAMPLES = 1532
  SAMPLE_TYPE = UNSIGNED_INTEGER
  SAMPLE_BITS = 8
  BANDS = 1
  BAND_STORAGE_TYPE = BAND_SEQUENTIAL
  MAXIMUM = 5217
  MEAN = 4846.04
  MINIMUM = 4065
  STANDARD_DEVIATION = 81.2914
END_OBJECT = IMAGE
/* MAP OBJECT DEFINITIONS */
OBJECT = IMAGE_MAP_PROJECTION
  ^DATA_SET_MAP_PROJECTION_CATALOG= "DSMAP.CAT"
  A_AXIS_RADIUS = 3396.19
  B_AXIS_RADIUS = 3396.19
  C_AXIS_RADIUS = 3396.19
  CENTER_LATITUDE = 0.0
  CENTER_LONGITUDE = 1.0
  COORDINATE_SYSTEM_NAME = PLANETOGRAPHIC
  COORDINATE_SYSTEM_TYPE = "BODY-FIXED ROTATING"
  EASTERNMOST_LONGITUDE = 0.768245
  FIRST_STANDARD_PARALLEL = "N/A"
  LINE_FIRST_PIXEL = 1
  LINE_LAST_PIXEL = 1527
  LINE_PROJECTION_OFFSET = -1692661.0
  MAP_PROJECTION_ROTATION = 0.0
  MAP_PROJECTION_TYPE = SINUSOIDAL
  MAP_RESOLUTION = 23709.8786048756
  MAP_SCALE = 0.0025
  MAXIMUM_LATITUDE = -71.55289999999999
  MINIMUM_LATITUDE = -71.6117
  POSITIVE_LONGITUDE_DIRECTION = EAST
  REFERENCE_LATITUDE = "N/A"
  REFERENCE_LONGITUDE = "N/A"
  SAMPLE_FIRST_PIXEL = 1
  SAMPLE_LAST_PIXEL = 1532
  SAMPLE_PROJECTION_OFFSET = 3200.0
  SECOND_STANDARD_PARALLEL = "N/A"
  WESTERNMOST_LONGITUDE = 0.580187
END_OBJECT = IMAGE_MAP_PROJECTION
/* The JPEG2000 image data file associated with this label. */
OBJECT = COMPRESSED_FILE
  FILE_NAME = "H2357_0005_SR3.JP2"
  RECORD_TYPE = UNDEFINED
  FILE_RECORDS = UNK
  ENCODING_TYPE = "JP2"
  INTERCHANGE_FORMAT = BINARY
  UNCOMPRESSED_FILE_NAME = "H2357_0005_SR3.IMG"
  REQUIRED_STORAGE_BYTES = "2359280"
  ^DESCRIPTION = "JP2INFO.TXT"
END_OBJECT = COMPRESSED_FILE
END
