PDS_VERSION_ID = PDS3
/* FILE DATA ELEMENTS */
RECORD_TYPE = STREAM
/* POINTERS TO DATA OBJECTS */
^COMPRESSED_FILE = "H2357_0009_S23.JP2"
/* IDENTIFICATION DATA ELEMENTS */
DATA_SET_ID = "MEX-M-HRSC-5-REFDR-MAPPROJECTED-V3.0"
DATA_SET_NAME = "MARS EXPRESS HRSC MAP PROJECTED REFDR V3.0"
DETECTOR_ID = MEX_HRSC_S2
EVENT_TYPE = "MARS-LOCAL-MAPPING-Im-Fl"
INSTRUMENT_HOST_ID = MEX
INSTRUMENT_HOST_NAME = "MARS EXPRESS"
INSTRUMENT_ID = HRSC
INSTRUMENT_NAME = "HIGH RESOLUTION STEREO CAMERA"
MISSION_NAME = "MARS EXPRESS"
MISSION_PHASE_NAME = MR_Phase_8
PROCESSING_LEVEL_ID = 3
PRODUCT_CREATION_TIME = 2016-03-15T10:38:17.000Z
PRODUCT_ID = "H2357_0009_S23.JP2"
RELEASE_ID = 0029
REVISION_ID = 0000
/* QUALITY DATA ELEMENTS */
DATA_QUALITY_ID = 2
DATA_QUALITY_DESC = "Data calculated based on photogrammetrically improved orbit and attitude data"
/* TIME DATA ELEMENTS */
SPACECRAFT_CLOCK_START_COUNT = "1/0079980614.57139"
SPACECRAFT_CLOCK_STOP_COUNT = "1/0079980767.24316"
START_TIME = 2005-11-13T16:51:11.458Z
STOP_TIME = 2005-11-13T16:52:52.338Z
/* ORBITAL DATA ELEMENTS */
ASCENDING_NODE_LONGITUDE = 178.78
MAXIMUM_RESOLUTION = 24.5
FOOTPRINT_POINT_LATITUDE = (-49.5238,-49.5316,-49.5372,-49.5444, -49.5513,-49.5571,-49.6204,-49.4942, -49.3673,-49.2412,-49.114,-48.9238, -48.7344,-48.6086,-48.4195,-48.2932, -48.1673,-47.9786,-47.7893,-47.6636, -47.475,-47.349,-47.22,-47.09,-46.9603, -46.8305,-46.6357,-46.5057,-46.3109, -46.1811,-46.0517,-45.9222,-45.7931, -45.664,-45.4703,-45.341,-45.2122, -45.0849,-44.9534,-44.819,-44.6859, -44.5526,-44.3536,-44.221,-44.0219, -43.8892,-43.6904,-43.5576,-43.3589, -43.2262,-43.1321,-43.1275,-43.1232, -43.117,-43.1125,-43.105,-43.1659, -43.3637,-43.4955,-43.6277,-43.7604, -43.8927,-44.0912,-44.2237,-44.3565, -44.4892,-44.6919,-44.8264,-44.9609, -45.0892,-45.2791,-45.4051,-45.5353, -45.7306,-45.8601,-45.9893,-46.1802, -46.3069,-46.5038,-46.6371,-46.7668, -46.9006,-47.0924,-47.2215,-47.4113, -47.6012,-47.7288,-47.8441,-47.9698, -48.0967,-48.2868,-48.4138,-48.6028, -48.7917,-48.9178,-49.1068,-49.233, -49.3596,-49.4859,-49.5238)
FOOTPRINT_POINT_LONGITUDE = (5.14636,5.3787,5.55301,5.78522,6.01763 ,6.22135,6.33761,6.34685,6.35575, 6.36485,6.37344,6.38639,6.3994,6.40818, 6.42096,6.42929,6.43771,6.45016,6.46221 ,6.47032,6.48229,6.49008,6.49824, 6.50645,6.51467,6.52278,6.53472,6.54248 ,6.55409,6.56172,6.56943,6.577,6.58463, 6.59216,6.60328,6.61053,6.6179,6.6257, 6.63258,6.6396,6.64702,6.65429,6.66539, 6.67267,6.6834,6.69042,6.70089,6.70767, 6.71786,6.72444,6.56716,6.30163,6.12463 ,5.87394,5.69688,5.40184,5.20168, 5.19229,5.18598,5.17948,5.17265,5.16598 ,5.15589,5.149,5.1419,5.13481,5.12229, 5.11414,5.10597,5.09875,5.08905,5.08281 ,5.07439,5.0617,5.05349,5.04537,5.03455 ,5.02755,5.01347,5.00296,4.99417, 4.98325,4.97126,4.96258,4.94915,4.9345, 4.92412,4.92018,4.91066,4.90041,4.88508 ,4.87461,4.85955,4.84433,4.83401, 4.81843,4.80787,4.79699,4.78618, 5.14636)
ORBIT_NUMBER = 2357
ORBITAL_ECCENTRICITY = 0.572
ORBITAL_INCLINATION = 86.63
ORBITAL_SEMIMAJOR_AXIS = 8557.04
PERIAPSIS_ALTITUDE = 277.66
PERIAPSIS_ARGUMENT_ANGLE = 303.85
PERIAPSIS_TIME = 2005-11-13T16:49:10.000Z
SPACECRAFT_ORIENTATION = (0.0,-1.0,0.0)
^MEX_ORIENTATION_DESC = "MEX_ORIENTATION_DESC.TXT"
SPACECRAFT_POINTING_MODE = NADIR
^MEX_POINTING_DESC = "MEX_POINTING_DESC.TXT"
RIGHT_ASCENSION = -1e+32
DECLINATION = -1e+32
OFFSET_ANGLE = -1e+32
SPACECRAFT_SOLAR_DISTANCE = 2.19731e+08
TARGET_NAME = MARS
/* CAMERA DATA ELEMENTS */
DETECTOR_TEMPERATURE = 20.0017
FOCAL_PLANE_TEMPERATURE = 8.5833
INST_CMPRS_NAME = "DISCRETE COSINE TRANSFORMATION (DCT)"
INST_CMPRS_RATIO = 10.0149
INST_CMPRS_QUALITY = 0
INST_CMPRS_QUANTZ_TBL_ID = 0
INSTRUMENT_TEMPERATURE = 12.8652
LENS_TEMPERATURE = 9.3989
MACROPIXEL_SIZE = 2
MISSING_FRAMES = 0
PIXEL_SUBSAMPLING_FLAG = N
SIGNAL_CHAIN_ID = 1
/* RADIOMETRIC DATA ELEMENTS */
BANDWIDTH = 178.0
CENTER_FILTER_WAVELENGTH = 679.0
RADIANCE_OFFSET = 5.21431
RADIANCE_SCALING_FACTOR = 0.0153889
REFLECTANCE_SCALING_FACTOR = 0.000393481
MEX:REFLECTANCE_OFFSET = 0.133326
/* IMAGE OBJECT DEFINITIONS */
OBJECT = IMAGE
  INTERCHANGE_FORMAT = BINARY
  LINES = 15477
  LINE_SAMPLES = 3123
  SAMPLE_TYPE = UNSIGNED_INTEGER
  SAMPLE_BITS = 8
  BANDS = 1
  BAND_STORAGE_TYPE = BAND_SEQUENTIAL
  MAXIMUM = 178
  MEAN = 143.689
  MINIMUM = 95
  STANDARD_DEVIATION = 9.47542
END_OBJECT = IMAGE
/* MAP OBJECT DEFINITIONS */
OBJECT = IMAGE_MAP_PROJECTION
  ^DATA_SET_MAP_PROJECTION_CATALOG= "DSMAP.CAT"
  A_AXIS_RADIUS = 3396.0
  B_AXIS_RADIUS = 3396.0
  C_AXIS_RADIUS = 3396.0
  CENTER_LATITUDE = 0.0
  CENTER_LONGITUDE = 6.0
  COORDINATE_SYSTEM_NAME = PLANETOGRAPHIC
  COORDINATE_SYSTEM_TYPE = "BODY-FIXED ROTATING"
  EASTERNMOST_LONGITUDE = 6.72444
  FIRST_STANDARD_PARALLEL = "N/A"
  LINE_FIRST_PIXEL = 1
  LINE_LAST_PIXEL = 15477
  LINE_PROJECTION_OFFSET = -102193.75
  MAP_PROJECTION_ROTATION = 0.0
  MAP_PROJECTION_TYPE = SINUSOIDAL
  MAP_RESOLUTION = 2370.85521546667
  MAP_SCALE = 0.025
  MAXIMUM_LATITUDE = -43.105
  MINIMUM_LATITUDE = -49.6204
  POSITIVE_LONGITUDE_DIRECTION = EAST
  REFERENCE_LATITUDE = "N/A"
  REFERENCE_LONGITUDE = "N/A"
  SAMPLE_FIRST_PIXEL = 1
  SAMPLE_LAST_PIXEL = 3123
  SAMPLE_PROJECTION_OFFSET = 1895.75
  SECOND_STANDARD_PARALLEL = "N/A"
  WESTERNMOST_LONGITUDE = 4.78618
END_OBJECT = IMAGE_MAP_PROJECTION
/* The JPEG2000 image data file associated with this label. */
OBJECT = COMPRESSED_FILE
  FILE_NAME = "H2357_0009_S23.JP2"
  RECORD_TYPE = UNDEFINED
  FILE_RECORDS = UNK
  ENCODING_TYPE = "JP2"
  INTERCHANGE_FORMAT = BINARY
  UNCOMPRESSED_FILE_NAME = "H2357_0009_S23.IMG"
  REQUIRED_STORAGE_BYTES = "48359655"
  ^DESCRIPTION = "JP2INFO.TXT"
END_OBJECT = COMPRESSED_FILE
END
