PDS_VERSION_ID = PDS3
/* FILE DATA ELEMENTS */
RECORD_TYPE = STREAM
/* POINTERS TO DATA OBJECTS */
^COMPRESSED_FILE = "H2360_0000_GR3.JP2"
/* IDENTIFICATION DATA ELEMENTS */
DATA_SET_ID = "MEX-M-HRSC-5-REFDR-MAPPROJECTED-V3.0"
DATA_SET_NAME = "MARS EXPRESS HRSC MAP PROJECTED REFDR V3.0"
DETECTOR_ID = MEX_HRSC_GREEN
EVENT_TYPE = "MARS-REGIONAL-MAPPING-Vo-Gl-Pf"
INSTRUMENT_HOST_ID = MEX
INSTRUMENT_HOST_NAME = "MARS EXPRESS"
INSTRUMENT_ID = HRSC
INSTRUMENT_NAME = "HIGH RESOLUTION STEREO CAMERA"
MISSION_NAME = "MARS EXPRESS"
MISSION_PHASE_NAME = MR_Phase_8
PROCESSING_LEVEL_ID = 3
PRODUCT_CREATION_TIME = 2016-03-15T10:38:17.000Z
PRODUCT_ID = "H2360_0000_GR3.JP2"
RELEASE_ID = 0029
REVISION_ID = 0000
/* QUALITY DATA ELEMENTS */
DATA_QUALITY_ID = 1
DATA_QUALITY_DESC = "Data calculated based on original SPICE kernels"
/* TIME DATA ELEMENTS */
SPACECRAFT_CLOCK_START_COUNT = "1/0080052840.57954"
SPACECRAFT_CLOCK_STOP_COUNT = "1/0080053158.49697"
START_TIME = 2005-11-14T12:54:33.609Z
STOP_TIME = 2005-11-14T12:58:55.276Z
/* ORBITAL DATA ELEMENTS */
ASCENDING_NODE_LONGITUDE = 178.71
MAXIMUM_RESOLUTION = 88.6
FOOTPRINT_POINT_LATITUDE = (-71.2438,-71.2992,-71.3462,-71.3689, -71.1772,-70.9857,-70.6144,-70.2421, -69.8693,-69.4959,-69.1279,-68.7665, -68.4046,-68.0423,-67.6794,-67.3166, -66.9661,-66.439,-66.0873,-65.7352, -65.3828,-65.03,-64.6879,-64.3477, -63.8365,-63.4955,-63.1541,-62.8126, -62.4708,-62.1287,-61.6215,-61.1274, -60.6327,-60.3027,-59.9724,-59.4769, -59.1463,-58.8156,-58.4847,-58.1537, -57.6571,-57.3259,-56.9945,-56.663, -56.1657,-55.8342,-55.3366,-55.0047, -54.6729,-54.341,-54.052,-54.0358, -54.022,-53.9978,-54.329,-54.6599, -55.156,-55.6522,-55.983,-56.3136, -56.8093,-57.1397,-57.6348,-58.1297, -58.4596,-58.789,-59.1184,-59.4475, -59.7765,-60.2698,-60.5981,-61.0903, -61.418,-61.9182,-62.2582,-62.768, -63.1075,-63.4466,-63.7855,-64.124, -64.4622,-64.7998,-65.3224,-65.6722, -66.0216,-66.3703,-66.7187,-67.0664, -67.6012,-67.9605,-68.3191,-68.6771, -69.0345,-69.5846,-69.9532,-70.3209, -70.6879,-70.8729,-71.0619,-71.2438)
FOOTPRINT_POINT_LONGITUDE = (65.6153,66.6642,67.6622,68.6383, 68.7036,68.7635,68.8792,68.9987,69.1134 ,69.2242,69.3282,69.4255,69.5196, 69.6109,69.6992,69.7844,69.861,69.9782, 70.0515,70.1226,70.1913,70.2588,70.3222 ,70.3825,70.4717,70.528,70.5837,70.6372 ,70.6894,70.7403,70.812,70.8799,70.9465 ,70.9894,71.0315,71.0925,71.1321, 71.1708,71.209,71.2462,71.2995,71.3341, 71.3687,71.4031,71.4521,71.4837,71.5308 ,71.5618,71.5916,71.6212,71.6466, 71.0858,70.667,69.9945,69.956,69.916, 69.8537,69.7889,69.7443,69.6983,69.6267 ,69.5773,69.5003,69.4201,69.3649, 69.3077,69.2489,69.1885,69.1264,69.0299 ,68.963,68.859,68.7871,68.6736,68.5929, 68.4675,68.3809,68.2914,68.1993,68.1042 ,68.0062,67.9048,67.7417,67.6279, 67.5104,67.3886,67.2628,67.1324,66.9228 ,66.7753,66.6222,66.4635,66.2988, 66.0329,65.8456,65.6505,65.4476,65.341, 65.2299,65.6153)
ORBIT_NUMBER = 2360
ORBITAL_ECCENTRICITY = 0.572
ORBITAL_INCLINATION = 86.64
ORBITAL_SEMIMAJOR_AXIS = 8557.47
PERIAPSIS_ALTITUDE = 276.77
PERIAPSIS_ARGUMENT_ANGLE = 303.34
PERIAPSIS_TIME = 2005-11-14T12:58:22.000Z
SPACECRAFT_ORIENTATION = (0.0,-1.0,0.0)
^MEX_ORIENTATION_DESC = "MEX_ORIENTATION_DESC.TXT"
SPACECRAFT_POINTING_MODE = ACROSSTRACK
^MEX_POINTING_DESC = "MEX_POINTING_DESC.TXT"
RIGHT_ASCENSION = -1e+32
DECLINATION = -1e+32
OFFSET_ANGLE = -0.229
SPACECRAFT_SOLAR_DISTANCE = 2.19888e+08
TARGET_NAME = MARS
/* CAMERA DATA ELEMENTS */
DETECTOR_TEMPERATURE = 18.1666
FOCAL_PLANE_TEMPERATURE = 8.1755
INST_CMPRS_NAME = "DISCRETE COSINE TRANSFORMATION (DCT)"
INST_CMPRS_RATIO = 20.7599
INST_CMPRS_QUALITY = 0
INST_CMPRS_QUANTZ_TBL_ID = 0
INSTRUMENT_TEMPERATURE = 11.234
LENS_TEMPERATURE = 8.5833
MACROPIXEL_SIZE = 8
MISSING_FRAMES = 0
PIXEL_SUBSAMPLING_FLAG = N
SIGNAL_CHAIN_ID = 2
/* RADIOMETRIC DATA ELEMENTS */
BANDWIDTH = 88.0
CENTER_FILTER_WAVELENGTH = 538.0
RADIANCE_OFFSET = 1.68718
RADIANCE_SCALING_FACTOR = 0.00432983
REFLECTANCE_SCALING_FACTOR = 0.000180245
MEX:REFLECTANCE_OFFSET = 0.0702348
/* IMAGE OBJECT DEFINITIONS */
OBJECT = IMAGE
  INTERCHANGE_FORMAT = BINARY
  LINES = 10302
  LINE_SAMPLES = 1484
  SAMPLE_TYPE = UNSIGNED_INTEGER
  SAMPLE_BITS = 8
  BANDS = 1
  BAND_STORAGE_TYPE = BAND_SEQUENTIAL
  MAXIMUM = 227
  MEAN = 179.777
  MINIMUM = 131
  STANDARD_DEVIATION = 20.3492
END_OBJECT = IMAGE
/* MAP OBJECT DEFINITIONS */
OBJECT = IMAGE_MAP_PROJECTION
  ^DATA_SET_MAP_PROJECTION_CATALOG= "DSMAP.CAT"
  A_AXIS_RADIUS = 3396.0
  B_AXIS_RADIUS = 3396.0
  C_AXIS_RADIUS = 3396.0
  CENTER_LATITUDE = 0.0
  CENTER_LONGITUDE = 70.0
  COORDINATE_SYSTEM_NAME = PLANETOGRAPHIC
  COORDINATE_SYSTEM_TYPE = "BODY-FIXED ROTATING"
  EASTERNMOST_LONGITUDE = 71.64660000000001
  FIRST_STANDARD_PARALLEL = "N/A"
  LINE_FIRST_PIXEL = 1
  LINE_LAST_PIXEL = 10302
  LINE_PROJECTION_OFFSET = -32002.6875
  MAP_PROJECTION_ROTATION = 0.0
  MAP_PROJECTION_TYPE = SINUSOIDAL
  MAP_RESOLUTION = 592.713803866667
  MAP_SCALE = 0.1
  MAXIMUM_LATITUDE = -53.9978
  MINIMUM_LATITUDE = -71.3689
  POSITIVE_LONGITUDE_DIRECTION = EAST
  REFERENCE_LATITUDE = "N/A"
  REFERENCE_LONGITUDE = "N/A"
  SAMPLE_FIRST_PIXEL = 1
  SAMPLE_LAST_PIXEL = 1484
  SAMPLE_PROJECTION_OFFSET = 915.5625
  SECOND_STANDARD_PARALLEL = "N/A"
  WESTERNMOST_LONGITUDE = 65.2299
END_OBJECT = IMAGE_MAP_PROJECTION
/* The JPEG2000 image data file associated with this label. */
OBJECT = COMPRESSED_FILE
  FILE_NAME = "H2360_0000_GR3.JP2"
  RECORD_TYPE = UNDEFINED
  FILE_RECORDS = UNK
  ENCODING_TYPE = "JP2"
  INTERCHANGE_FORMAT = BINARY
  UNCOMPRESSED_FILE_NAME = "H2360_0000_GR3.IMG"
  REQUIRED_STORAGE_BYTES = "15307460"
  ^DESCRIPTION = "JP2INFO.TXT"
END_OBJECT = COMPRESSED_FILE
END
