PDS_VERSION_ID = PDS3
/* FILE DATA ELEMENTS */
RECORD_TYPE = STREAM
/* POINTERS TO DATA OBJECTS */
^COMPRESSED_FILE = "H2362_0000_GR3.JP2"
/* IDENTIFICATION DATA ELEMENTS */
DATA_SET_ID = "MEX-M-HRSC-5-REFDR-MAPPROJECTED-V3.0"
DATA_SET_NAME = "MARS EXPRESS HRSC MAP PROJECTED REFDR V3.0"
DETECTOR_ID = MEX_HRSC_GREEN
EVENT_TYPE = "MARS-REGIONAL-STEREO-Gl-Eo-La"
INSTRUMENT_HOST_ID = MEX
INSTRUMENT_HOST_NAME = "MARS EXPRESS"
INSTRUMENT_ID = HRSC
INSTRUMENT_NAME = "HIGH RESOLUTION STEREO CAMERA"
MISSION_NAME = "MARS EXPRESS"
MISSION_PHASE_NAME = MR_Phase_8
PROCESSING_LEVEL_ID = 3
PRODUCT_CREATION_TIME = 2016-03-15T10:38:17.000Z
PRODUCT_ID = "H2362_0000_GR3.JP2"
RELEASE_ID = 0029
REVISION_ID = 0000
/* QUALITY DATA ELEMENTS */
DATA_QUALITY_ID = 1
DATA_QUALITY_DESC = "Data calculated based on original SPICE kernels"
/* TIME DATA ELEMENTS */
SPACECRAFT_CLOCK_START_COUNT = "1/0080100840.57978"
SPACECRAFT_CLOCK_STOP_COUNT = "1/0080101198.32590"
START_TIME = 2005-11-15T02:15:01.305Z
STOP_TIME = 2005-11-15T02:19:26.312Z
/* ORBITAL DATA ELEMENTS */
ASCENDING_NODE_LONGITUDE = 178.67
MAXIMUM_RESOLUTION = 57.3
FOOTPRINT_POINT_LATITUDE = (-84.7167,-84.9632,-85.4394,-85.8759, -86.2504,-86.4413,-86.5991,-86.7202, -86.802,-86.842,-86.84,-86.7972, -86.6623,-86.5304,-86.3712,-86.1875, -85.985,-85.765,-85.5331,-85.2884, -85.0374,-84.646,-84.3796,-84.1073, -83.6972,-83.4184,-83.1416,-82.8612, -82.4417,-82.1607,-81.879,-81.6004, -81.3197,-81.0394,-80.7624,-80.4837, -80.2045,-79.9304,-79.6551,-79.3786, -79.1009,-78.8222,-78.5424,-78.2615, -77.9795,-77.6969,-77.413,-77.1283, -76.843,-76.556,-76.0186,-75.8396, -75.7368,-75.6277,-76.1404,-76.4155, -76.6897,-76.9624,-77.234,-77.5042, -77.7722,-78.0399,-78.436,-78.6997, -79.09,-79.3477,-79.6027,-79.8614, -80.1191,-80.3741,-80.6298,-80.8853, -81.1371,-81.3892,-81.6398,-81.8859, -82.2537,-82.4923,-82.8456,-83.0728, -83.4047,-83.6147,-83.8186,-84.0107, -84.1927,-84.3611,-84.5152,-84.6526, -84.7722,-84.8712,-84.9491,-85.0031, -85.0337,-85.0303,-84.9941,-84.9301, -84.7856,-84.5839,-84.4197,-84.7167)
FOOTPRINT_POINT_LONGITUDE = (122.756,121.201,117.632,113.458, 116.634,121.776,127.392,133.423,139.813 ,146.352,152.945,159.377,168.416, 173.941,178.947,183.47,187.508,191.135, 194.345,197.232,199.784,203.142,205.09, 206.859,209.18,210.567,211.815,212.967, 214.512,215.445,216.309,217.101,217.843 ,218.533,219.172,219.773,220.34,220.863 ,221.358,221.829,222.276,222.701, 223.106,223.492,223.86,224.211,224.547, 224.869,225.176,225.471,225.991,223.807 ,222.417,221.056,220.311,219.885, 219.443,218.981,218.5,218.0,217.473, 216.93,216.055,215.448,214.474,213.786, 213.059,212.289,211.47,210.608,209.685, 208.701,207.659,206.541,205.346,204.079 ,201.984,200.473,197.97,196.159,193.157 ,190.982,188.615,186.092,183.365,180.46 ,177.349,174.045,170.544,166.868, 163.019,159.051,154.956,148.729,144.579 ,140.464,134.477,128.798,125.237, 122.756)
ORBIT_NUMBER = 2362
ORBITAL_ECCENTRICITY = 0.572
ORBITAL_INCLINATION = 86.64
ORBITAL_SEMIMAJOR_AXIS = 8554.45
PERIAPSIS_ALTITUDE = 276.53
PERIAPSIS_ARGUMENT_ANGLE = 302.98
PERIAPSIS_TIME = 2005-11-15T02:24:24.000Z
SPACECRAFT_ORIENTATION = (0.0,-1.0,0.0)
^MEX_ORIENTATION_DESC = "MEX_ORIENTATION_DESC.TXT"
SPACECRAFT_POINTING_MODE = ACROSSTRACK
^MEX_POINTING_DESC = "MEX_POINTING_DESC.TXT"
RIGHT_ASCENSION = -1e+32
DECLINATION = -1e+32
OFFSET_ANGLE = 0.66
SPACECRAFT_SOLAR_DISTANCE = 2.19993e+08
TARGET_NAME = MARS
/* CAMERA DATA ELEMENTS */
DETECTOR_TEMPERATURE = 18.3705
FOCAL_PLANE_TEMPERATURE = 7.7677
INST_CMPRS_NAME = "DISCRETE COSINE TRANSFORMATION (DCT)"
INST_CMPRS_RATIO = 20.5611
INST_CMPRS_QUALITY = 0
INST_CMPRS_QUANTZ_TBL_ID = 0
INSTRUMENT_TEMPERATURE = 11.0301
LENS_TEMPERATURE = 8.3794
MACROPIXEL_SIZE = 4
MISSING_FRAMES = 0
PIXEL_SUBSAMPLING_FLAG = N
SIGNAL_CHAIN_ID = 2
/* RADIOMETRIC DATA ELEMENTS */
BANDWIDTH = 88.0
CENTER_FILTER_WAVELENGTH = 538.0
RADIANCE_OFFSET = 0.978432
RADIANCE_SCALING_FACTOR = 0.00354921
REFLECTANCE_SCALING_FACTOR = 0.000147889
MEX:REFLECTANCE_OFFSET = 0.0407693
/* IMAGE OBJECT DEFINITIONS */
OBJECT = IMAGE
  INTERCHANGE_FORMAT = BINARY
  LINES = 13254
  LINE_SAMPLES = 14934
  SAMPLE_TYPE = UNSIGNED_INTEGER
  SAMPLE_BITS = 8
  BANDS = 1
  BAND_STORAGE_TYPE = BAND_SEQUENTIAL
  MAXIMUM = 156
  MEAN = 114.348
  MINIMUM = 78
  STANDARD_DEVIATION = 16.5537
END_OBJECT = IMAGE
/* MAP OBJECT DEFINITIONS */
OBJECT = IMAGE_MAP_PROJECTION
  ^DATA_SET_MAP_PROJECTION_CATALOG= "DSMAP.CAT"
  A_AXIS_RADIUS = 3396.0
  B_AXIS_RADIUS = 3396.0
  C_AXIS_RADIUS = 3396.0
  CENTER_LATITUDE = 0.0
  CENTER_LONGITUDE = 207.0
  COORDINATE_SYSTEM_NAME = PLANETOGRAPHIC
  COORDINATE_SYSTEM_TYPE = "BODY-FIXED ROTATING"
  EASTERNMOST_LONGITUDE = 225.991
  FIRST_STANDARD_PARALLEL = "N/A"
  LINE_FIRST_PIXEL = 1
  LINE_LAST_PIXEL = 13254
  LINE_PROJECTION_OFFSET = -89684.625
  MAP_PROJECTION_ROTATION = 0.0
  MAP_PROJECTION_TYPE = SINUSOIDAL
  MAP_RESOLUTION = 1185.42760773333
  MAP_SCALE = 0.05
  MAXIMUM_LATITUDE = -75.6277
  MINIMUM_LATITUDE = -86.842
  POSITIVE_LONGITUDE_DIRECTION = EAST
  REFERENCE_LATITUDE = "N/A"
  REFERENCE_LONGITUDE = "N/A"
  SAMPLE_FIRST_PIXEL = 1
  SAMPLE_LAST_PIXEL = 14934
  SAMPLE_PROJECTION_OFFSET = 9469.625
  SECOND_STANDARD_PARALLEL = "N/A"
  WESTERNMOST_LONGITUDE = 113.458
END_OBJECT = IMAGE_MAP_PROJECTION
/* The JPEG2000 image data file associated with this label. */
OBJECT = COMPRESSED_FILE
  FILE_NAME = "H2362_0000_GR3.JP2"
  RECORD_TYPE = UNDEFINED
  FILE_RECORDS = UNK
  ENCODING_TYPE = "JP2"
  INTERCHANGE_FORMAT = BINARY
  UNCOMPRESSED_FILE_NAME = "H2362_0000_GR3.IMG"
  REQUIRED_STORAGE_BYTES = "197980038"
  ^DESCRIPTION = "JP2INFO.TXT"
END_OBJECT = COMPRESSED_FILE
END
