PDS_VERSION_ID = PDS3
/* FILE DATA ELEMENTS */
RECORD_TYPE = STREAM
/* POINTERS TO DATA OBJECTS */
^COMPRESSED_FILE = "H2362_0000_IR3.JP2"
/* IDENTIFICATION DATA ELEMENTS */
DATA_SET_ID = "MEX-M-HRSC-5-REFDR-MAPPROJECTED-V3.0"
DATA_SET_NAME = "MARS EXPRESS HRSC MAP PROJECTED REFDR V3.0"
DETECTOR_ID = MEX_HRSC_IR
EVENT_TYPE = "MARS-REGIONAL-STEREO-Gl-Eo-La"
INSTRUMENT_HOST_ID = MEX
INSTRUMENT_HOST_NAME = "MARS EXPRESS"
INSTRUMENT_ID = HRSC
INSTRUMENT_NAME = "HIGH RESOLUTION STEREO CAMERA"
MISSION_NAME = "MARS EXPRESS"
MISSION_PHASE_NAME = MR_Phase_8
PROCESSING_LEVEL_ID = 3
PRODUCT_CREATION_TIME = 2016-03-15T10:38:17.000Z
PRODUCT_ID = "H2362_0000_IR3.JP2"
RELEASE_ID = 0029
REVISION_ID = 0000
/* QUALITY DATA ELEMENTS */
DATA_QUALITY_ID = 1
DATA_QUALITY_DESC = "Data calculated based on original SPICE kernels"
/* TIME DATA ELEMENTS */
SPACECRAFT_CLOCK_START_COUNT = "1/0080100840.57978"
SPACECRAFT_CLOCK_STOP_COUNT = "1/0080101198.32590"
START_TIME = 2005-11-15T02:14:19.826Z
STOP_TIME = 2005-11-15T02:19:03.261Z
/* ORBITAL DATA ELEMENTS */
ASCENDING_NODE_LONGITUDE = 178.67
MAXIMUM_RESOLUTION = 62.1
FOOTPRINT_POINT_LATITUDE = (-84.3351,-84.6517,-84.9117,-85.1653, -85.4115,-85.6496,-85.8791,-86.171, -86.384,-86.565,-86.7129,-86.8223, -86.8905,-86.9124,-86.874,-86.7959, -86.6135,-86.4531,-86.2698,-86.0672, -85.8452,-85.6115,-85.2406,-84.9817, -84.7185,-84.4479,-84.1761,-83.8985, -83.6215,-83.1996,-82.9185,-82.634, -82.3529,-82.0689,-81.6454,-81.3622, -80.9407,-80.6596,-80.2389,-79.961, -79.5441,-79.2698,-78.9943,-78.7199, -78.449,-78.1769,-77.9034,-77.4915, -77.2155,-76.939,-76.6585,-76.2429, -75.8904,-75.8147,-75.6755,-76.0203, -76.2867,-76.6849,-76.948,-77.2104, -77.6008,-77.8606,-78.2387,-78.6345, -79.0196,-79.2804,-79.6664,-79.923, -80.1829,-80.4389,-80.6956,-81.0753, -81.455,-81.7034,-82.0735,-82.3143, -82.5537,-82.7866,-83.0158,-83.2377, -83.453,-83.6597,-83.8575,-84.044, -84.2193,-84.4553,-84.5925,-84.712, -84.8105,-84.8886,-84.9426,-84.9743, -84.98,-84.9589,-84.9108,-84.8358, -84.7355,-84.6102,-84.4602,-84.3351)
FOOTPRINT_POINT_LONGITUDE = (123.962,122.046,120.267,118.315, 116.169,113.803,111.184,112.751,117.618 ,122.968,128.844,135.144,141.733, 151.854,158.485,164.8,173.447,178.657, 183.269,187.383,191.1,194.37,198.618, 201.083,203.27,205.25,207.013,208.621, 210.063,212.001,213.148,214.209,215.171 ,216.068,217.281,218.02,219.029,219.647 ,220.502,221.024,221.753,222.2,222.625, 223.027,223.404,223.764,224.109,224.599 ,224.909,225.206,225.493,225.897, 224.186,223.23,221.607,220.385,219.975, 219.332,218.881,218.412,217.673,217.155 ,216.328,215.436,214.474,213.781, 212.672,211.877,211.031,210.14,209.185, 207.641,205.931,204.702,202.68,201.223, 199.642,197.957,196.134,194.184,192.08, 189.823,187.392,184.79,181.99,177.441, 174.168,170.701,167.081,163.276,159.365 ,155.324,151.214,147.104,143.022, 139.004,135.083,131.299,127.662, 123.962)
ORBIT_NUMBER = 2362
ORBITAL_ECCENTRICITY = 0.572
ORBITAL_INCLINATION = 86.64
ORBITAL_SEMIMAJOR_AXIS = 8554.45
PERIAPSIS_ALTITUDE = 276.53
PERIAPSIS_ARGUMENT_ANGLE = 302.98
PERIAPSIS_TIME = 2005-11-15T02:24:24.000Z
SPACECRAFT_ORIENTATION = (0.0,-1.0,0.0)
^MEX_ORIENTATION_DESC = "MEX_ORIENTATION_DESC.TXT"
SPACECRAFT_POINTING_MODE = ACROSSTRACK
^MEX_POINTING_DESC = "MEX_POINTING_DESC.TXT"
RIGHT_ASCENSION = -1e+32
DECLINATION = -1e+32
OFFSET_ANGLE = 0.66
SPACECRAFT_SOLAR_DISTANCE = 2.19993e+08
TARGET_NAME = MARS
/* CAMERA DATA ELEMENTS */
DETECTOR_TEMPERATURE = 17.1471
FOCAL_PLANE_TEMPERATURE = 7.7677
INST_CMPRS_NAME = "DISCRETE COSINE TRANSFORMATION (DCT)"
INST_CMPRS_RATIO = 22.8616
INST_CMPRS_QUALITY = 0
INST_CMPRS_QUANTZ_TBL_ID = 0
INSTRUMENT_TEMPERATURE = 11.0301
LENS_TEMPERATURE = 8.3794
MACROPIXEL_SIZE = 4
MISSING_FRAMES = 0
PIXEL_SUBSAMPLING_FLAG = N
SIGNAL_CHAIN_ID = 2
/* RADIOMETRIC DATA ELEMENTS */
BANDWIDTH = 81.0
CENTER_FILTER_WAVELENGTH = 955.5
RADIANCE_OFFSET = 0.639608
RADIANCE_SCALING_FACTOR = 0.00312433
REFLECTANCE_SCALING_FACTOR = 0.00032621
MEX:REFLECTANCE_OFFSET = 0.0667812
/* IMAGE OBJECT DEFINITIONS */
OBJECT = IMAGE
  INTERCHANGE_FORMAT = BINARY
  LINES = 13254
  LINE_SAMPLES = 14934
  SAMPLE_TYPE = UNSIGNED_INTEGER
  SAMPLE_BITS = 8
  BANDS = 1
  BAND_STORAGE_TYPE = BAND_SEQUENTIAL
  MAXIMUM = 131
  MEAN = 84.2745
  MINIMUM = 57
  STANDARD_DEVIATION = 14.1647
END_OBJECT = IMAGE
/* MAP OBJECT DEFINITIONS */
OBJECT = IMAGE_MAP_PROJECTION
  ^DATA_SET_MAP_PROJECTION_CATALOG= "DSMAP.CAT"
  A_AXIS_RADIUS = 3396.0
  B_AXIS_RADIUS = 3396.0
  C_AXIS_RADIUS = 3396.0
  CENTER_LATITUDE = 0.0
  CENTER_LONGITUDE = 207.0
  COORDINATE_SYSTEM_NAME = PLANETOGRAPHIC
  COORDINATE_SYSTEM_TYPE = "BODY-FIXED ROTATING"
  EASTERNMOST_LONGITUDE = 225.897
  FIRST_STANDARD_PARALLEL = "N/A"
  LINE_FIRST_PIXEL = 1
  LINE_LAST_PIXEL = 13254
  LINE_PROJECTION_OFFSET = -89684.625
  MAP_PROJECTION_ROTATION = 0.0
  MAP_PROJECTION_TYPE = SINUSOIDAL
  MAP_RESOLUTION = 1185.42760773333
  MAP_SCALE = 0.05
  MAXIMUM_LATITUDE = -75.6755
  MINIMUM_LATITUDE = -86.91240000000001
  POSITIVE_LONGITUDE_DIRECTION = EAST
  REFERENCE_LATITUDE = "N/A"
  REFERENCE_LONGITUDE = "N/A"
  SAMPLE_FIRST_PIXEL = 1
  SAMPLE_LAST_PIXEL = 14934
  SAMPLE_PROJECTION_OFFSET = 9469.625
  SECOND_STANDARD_PARALLEL = "N/A"
  WESTERNMOST_LONGITUDE = 111.184
END_OBJECT = IMAGE_MAP_PROJECTION
/* The JPEG2000 image data file associated with this label. */
OBJECT = COMPRESSED_FILE
  FILE_NAME = "H2362_0000_IR3.JP2"
  RECORD_TYPE = UNDEFINED
  FILE_RECORDS = UNK
  ENCODING_TYPE = "JP2"
  INTERCHANGE_FORMAT = BINARY
  UNCOMPRESSED_FILE_NAME = "H2362_0000_IR3.IMG"
  REQUIRED_STORAGE_BYTES = "197980038"
  ^DESCRIPTION = "JP2INFO.TXT"
END_OBJECT = COMPRESSED_FILE
END
