PDS_VERSION_ID = PDS3
/* FILE DATA ELEMENTS */
RECORD_TYPE = STREAM
/* POINTERS TO DATA OBJECTS */
^COMPRESSED_FILE = "H2363_0000_RE3.JP2"
/* IDENTIFICATION DATA ELEMENTS */
DATA_SET_ID = "MEX-M-HRSC-5-REFDR-MAPPROJECTED-V3.0"
DATA_SET_NAME = "MARS EXPRESS HRSC MAP PROJECTED REFDR V3.0"
DETECTOR_ID = MEX_HRSC_RED
EVENT_TYPE = "MARS-REGIONAL-MAPPING-Vo-Te-Gl"
INSTRUMENT_HOST_ID = MEX
INSTRUMENT_HOST_NAME = "MARS EXPRESS"
INSTRUMENT_ID = HRSC
INSTRUMENT_NAME = "HIGH RESOLUTION STEREO CAMERA"
MISSION_NAME = "MARS EXPRESS"
MISSION_PHASE_NAME = MR_Phase_8
PROCESSING_LEVEL_ID = 3
PRODUCT_CREATION_TIME = 2016-03-15T10:38:17.000Z
PRODUCT_ID = "H2363_0000_RE3.JP2"
RELEASE_ID = 0029
REVISION_ID = 0000
/* QUALITY DATA ELEMENTS */
DATA_QUALITY_ID = 1
DATA_QUALITY_DESC = "Data calculated based on original SPICE kernels"
/* TIME DATA ELEMENTS */
SPACECRAFT_CLOCK_START_COUNT = "1/0080125317.57301"
SPACECRAFT_CLOCK_STOP_COUNT = "1/0080125717.14510"
START_TIME = 2005-11-15T09:03:06.077Z
STOP_TIME = 2005-11-15T09:08:40.081Z
/* ORBITAL DATA ELEMENTS */
ASCENDING_NODE_LONGITUDE = 178.65
MAXIMUM_RESOLUTION = 45.9
FOOTPRINT_POINT_LATITUDE = (-75.991,-76.0694,-76.1416,-76.2688, -76.0147,-75.7633,-75.2608,-74.7592, -74.507,-74.0034,-73.4999,-73.0046, -72.5219,-72.0301,-71.2989,-70.8228, -70.3522,-69.8787,-69.4015,-68.6953, -68.2466,-67.7902,-67.3298,-66.8665, -66.4126,-65.9812,-65.5416,-64.8779, -64.4357,-63.9959,-63.5563,-63.1199, -62.4768,-61.8431,-61.4207,-60.7871, -60.1537,-59.732,-59.3101,-58.888, -58.4653,-58.042,-57.6201,-57.1963, -56.778,-56.3605,-55.9439,-55.5268, -55.1044,-54.4747,-54.0646,-53.8216, -53.7838,-53.7567,-54.3749,-54.791, -55.2051,-55.6232,-56.0421,-56.4575, -56.8755,-57.2966,-57.7172,-58.1361, -58.5561,-58.9761,-59.397,-59.818, -60.238,-60.6587,-61.2896,-61.7108, -62.3418,-62.7624,-63.1981,-63.8525, -64.2901,-64.7266,-65.1646,-65.6033, -66.0421,-66.7119,-67.3934,-67.847, -68.5278,-69.2181,-69.9217,-70.3899, -70.8581,-71.3351,-71.817,-72.2941, -72.7785,-73.2726,-73.7671,-74.2617, -75.0017,-75.2495,-75.7376,-75.991)
FOOTPRINT_POINT_LONGITUDE = (128.907,130.292,131.709,132.76,132.896 ,133.033,133.295,133.542,133.657, 133.878,134.087,134.296,134.483,134.644 ,134.882,135.021,135.159,135.285, 135.399,135.546,135.663,135.763,135.852 ,135.932,136.016,136.11,136.188,136.292 ,136.359,136.427,136.492,136.56,136.648 ,136.73,136.782,136.856,136.926,136.971 ,137.014,137.055,137.094,137.13,137.166 ,137.198,137.236,137.273,137.31,137.344 ,137.371,137.413,137.451,137.104, 136.382,135.795,135.731,135.686,135.64, 135.591,135.541,135.489,135.435,135.379 ,135.32,135.26,135.197,135.131,135.063, 134.992,134.919,134.843,134.723,134.639 ,134.506,134.414,134.314,134.156, 134.044,133.929,133.807,133.681,133.549 ,133.335,133.103,132.938,132.676,132.39 ,132.074,131.85,131.613,131.358,131.084 ,130.797,130.487,130.151,129.791, 129.406,128.777,128.551,128.081, 128.907)
ORBIT_NUMBER = 2363
ORBITAL_ECCENTRICITY = 0.572
ORBITAL_INCLINATION = 86.62
ORBITAL_SEMIMAJOR_AXIS = 8557.27
PERIAPSIS_ALTITUDE = 277.65
PERIAPSIS_ARGUMENT_ANGLE = 302.82
PERIAPSIS_TIME = 2005-11-15T09:07:31.000Z
SPACECRAFT_ORIENTATION = (0.0,-1.0,0.0)
^MEX_ORIENTATION_DESC = "MEX_ORIENTATION_DESC.TXT"
SPACECRAFT_POINTING_MODE = ACROSSTRACK
^MEX_POINTING_DESC = "MEX_POINTING_DESC.TXT"
RIGHT_ASCENSION = -1e+32
DECLINATION = -1e+32
OFFSET_ANGLE = -0.53
SPACECRAFT_SOLAR_DISTANCE = 2.20045e+08
TARGET_NAME = MARS
/* CAMERA DATA ELEMENTS */
DETECTOR_TEMPERATURE = 18.5744
FOCAL_PLANE_TEMPERATURE = 8.1755
INST_CMPRS_NAME = "DISCRETE COSINE TRANSFORMATION (DCT)"
INST_CMPRS_RATIO = 32.6868
INST_CMPRS_QUALITY = 0
INST_CMPRS_QUANTZ_TBL_ID = 0
INSTRUMENT_TEMPERATURE = 11.0301
LENS_TEMPERATURE = 8.7872
MACROPIXEL_SIZE = 4
MISSING_FRAMES = 0
PIXEL_SUBSAMPLING_FLAG = N
SIGNAL_CHAIN_ID = 2
/* RADIOMETRIC DATA ELEMENTS */
BANDWIDTH = 48.0
CENTER_FILTER_WAVELENGTH = 748.0
RADIANCE_OFFSET = 1.15967
RADIANCE_SCALING_FACTOR = 0.00376363
REFLECTANCE_SCALING_FACTOR = 0.000415868
MEX:REFLECTANCE_OFFSET = 0.128139
/* IMAGE OBJECT DEFINITIONS */
OBJECT = IMAGE
  INTERCHANGE_FORMAT = BINARY
  LINES = 26681
  LINE_SAMPLES = 3850
  SAMPLE_TYPE = UNSIGNED_INTEGER
  SAMPLE_BITS = 8
  BANDS = 1
  BAND_STORAGE_TYPE = BAND_SEQUENTIAL
  MAXIMUM = 109
  MEAN = 84.5104
  MINIMUM = 56
  STANDARD_DEVIATION = 7.23565
END_OBJECT = IMAGE
/* MAP OBJECT DEFINITIONS */
OBJECT = IMAGE_MAP_PROJECTION
  ^DATA_SET_MAP_PROJECTION_CATALOG= "DSMAP.CAT"
  A_AXIS_RADIUS = 3396.0
  B_AXIS_RADIUS = 3396.0
  C_AXIS_RADIUS = 3396.0
  CENTER_LATITUDE = 0.0
  CENTER_LONGITUDE = 135.0
  COORDINATE_SYSTEM_NAME = PLANETOGRAPHIC
  COORDINATE_SYSTEM_TYPE = "BODY-FIXED ROTATING"
  EASTERNMOST_LONGITUDE = 137.451
  FIRST_STANDARD_PARALLEL = "N/A"
  LINE_FIRST_PIXEL = 1
  LINE_LAST_PIXEL = 26681
  LINE_PROJECTION_OFFSET = -63745.625
  MAP_PROJECTION_ROTATION = 0.0
  MAP_PROJECTION_TYPE = SINUSOIDAL
  MAP_RESOLUTION = 1185.42760773333
  MAP_SCALE = 0.05
  MAXIMUM_LATITUDE = -53.7567
  MINIMUM_LATITUDE = -76.2688
  POSITIVE_LONGITUDE_DIRECTION = EAST
  REFERENCE_LATITUDE = "N/A"
  REFERENCE_LONGITUDE = "N/A"
  SAMPLE_FIRST_PIXEL = 1
  SAMPLE_LAST_PIXEL = 3850
  SAMPLE_PROJECTION_OFFSET = 2099.625
  SECOND_STANDARD_PARALLEL = "N/A"
  WESTERNMOST_LONGITUDE = 128.081
END_OBJECT = IMAGE_MAP_PROJECTION
/* The JPEG2000 image data file associated with this label. */
OBJECT = COMPRESSED_FILE
  FILE_NAME = "H2363_0000_RE3.JP2"
  RECORD_TYPE = UNDEFINED
  FILE_RECORDS = UNK
  ENCODING_TYPE = "JP2"
  INTERCHANGE_FORMAT = BINARY
  UNCOMPRESSED_FILE_NAME = "H2363_0000_RE3.IMG"
  REQUIRED_STORAGE_BYTES = "102744950"
  ^DESCRIPTION = "JP2INFO.TXT"
END_OBJECT = COMPRESSED_FILE
END
