PDS_VERSION_ID = PDS3
/* FILE DATA ELEMENTS */
RECORD_TYPE = STREAM
/* POINTERS TO DATA OBJECTS */
^COMPRESSED_FILE = "H2364_0000_P23.JP2"
/* IDENTIFICATION DATA ELEMENTS */
DATA_SET_ID = "MEX-M-HRSC-5-REFDR-MAPPROJECTED-V3.0"
DATA_SET_NAME = "MARS EXPRESS HRSC MAP PROJECTED REFDR V3.0"
DETECTOR_ID = MEX_HRSC_P2
EVENT_TYPE = "MARS-REGIONAL-MAPPING-Gl-La"
INSTRUMENT_HOST_ID = MEX
INSTRUMENT_HOST_NAME = "MARS EXPRESS"
INSTRUMENT_ID = HRSC
INSTRUMENT_NAME = "HIGH RESOLUTION STEREO CAMERA"
MISSION_NAME = "MARS EXPRESS"
MISSION_PHASE_NAME = MR_Phase_8
PROCESSING_LEVEL_ID = 3
PRODUCT_CREATION_TIME = 2016-03-15T10:38:17.000Z
PRODUCT_ID = "H2364_0000_P23.JP2"
RELEASE_ID = 0029
REVISION_ID = 0000
/* QUALITY DATA ELEMENTS */
DATA_QUALITY_ID = 2
DATA_QUALITY_DESC = "Data calculated based on photogrammetrically improved orbit and attitude data"
/* TIME DATA ELEMENTS */
SPACECRAFT_CLOCK_START_COUNT = "1/0080149256.57970"
SPACECRAFT_CLOCK_STOP_COUNT = "1/0080149485.15681"
START_TIME = 2005-11-15T15:42:33.058Z
STOP_TIME = 2005-11-15T15:44:37.824Z
/* ORBITAL DATA ELEMENTS */
ASCENDING_NODE_LONGITUDE = 178.63
MAXIMUM_RESOLUTION = 64.8
FOOTPRINT_POINT_LATITUDE = (-86.9598,-87.2009,-87.4438,-87.6889, -87.9356,-88.1841,-88.4341,-88.6161, -88.6386,-88.6378,-88.6153,-88.5726, -88.4742,-88.3891,-88.2384,-88.127, -87.9451,-87.8158,-87.6815,-87.5462, -87.4075,-87.2654,-87.0507,-86.9047, -86.7588,-86.5366,-86.3157,-86.165, -86.0166,-85.7927,-85.6426,-85.417, -85.1965,-85.0468,-84.897,-84.747, -84.5974,-84.4493,-84.3028,-84.0822, -83.9343,-83.7863,-83.5649,-83.4222, -83.2033,-82.9857,-82.8397,-82.6938, -82.4779,-82.1935,-82.1175,-82.0655, -82.0021,-81.9344,-81.8634,-81.7443, -81.9459,-82.0799,-82.2158,-82.3521, -82.4882,-82.6235,-82.8254,-83.0259, -83.2305,-83.4331,-83.5672,-83.7002, -83.8326,-83.9665,-84.0992,-84.2281, -84.3574,-84.4863,-84.6143,-84.7422, -84.87,-84.9959,-85.1199,-85.3018, -85.4218,-85.5401,-85.6556,-85.8229, -85.9307,-86.0365,-86.1384,-86.283, -86.3733,-86.5002,-86.5778,-86.6496, -86.7128,-86.7946,-86.8395,-86.8762, -86.9027,-86.9202,-86.9285,-86.9598)
FOOTPRINT_POINT_LONGITUDE = (309.333,308.751,308.046,307.176, 306.079,304.658,302.752,302.091,309.317 ,316.716,323.964,330.738,339.985, 345.434,352.491,356.464,361.579,364.503 ,367.093,369.351,371.371,373.183, 375.593,376.977,378.23,379.907,381.412, 382.287,383.09,384.191,384.863,385.794, 386.634,387.131,387.603,388.049,388.475 ,388.88,389.254,389.778,390.104,390.415 ,390.86,391.144,391.519,391.881,392.105 ,392.323,392.631,393.013,391.066, 389.733,388.25,386.808,385.41,383.276, 382.714,382.324,381.912,381.482,381.036 ,380.574,379.848,379.08,378.244,377.356 ,376.733,376.084,375.406,374.686, 373.929,373.146,372.322,371.457,370.548 ,369.582,368.558,367.482,366.351, 364.545,363.244,361.861,360.405,358.074 ,356.411,354.627,352.741,349.723,347.58 ,344.118,341.651,339.054,336.385, 332.147,329.17,326.092,322.995,319.838, 314.974,309.333)
ORBIT_NUMBER = 2364
ORBITAL_ECCENTRICITY = 0.572
ORBITAL_INCLINATION = 86.62
ORBITAL_SEMIMAJOR_AXIS = 8556.61
PERIAPSIS_ALTITUDE = 277.38
PERIAPSIS_ARGUMENT_ANGLE = 302.65
PERIAPSIS_TIME = 2005-11-15T15:50:33.000Z
SPACECRAFT_ORIENTATION = (0.0,-1.0,0.0)
^MEX_ORIENTATION_DESC = "MEX_ORIENTATION_DESC.TXT"
SPACECRAFT_POINTING_MODE = ACROSSTRACK
^MEX_POINTING_DESC = "MEX_POINTING_DESC.TXT"
RIGHT_ASCENSION = -1e+32
DECLINATION = -1e+32
OFFSET_ANGLE = -1.1
SPACECRAFT_SOLAR_DISTANCE = 2.20098e+08
TARGET_NAME = MARS
/* CAMERA DATA ELEMENTS */
DETECTOR_TEMPERATURE = 18.7783
FOCAL_PLANE_TEMPERATURE = 8.3794
INST_CMPRS_NAME = "DISCRETE COSINE TRANSFORMATION (DCT)"
INST_CMPRS_RATIO = 6.3473
INST_CMPRS_QUALITY = 0
INST_CMPRS_QUANTZ_TBL_ID = 0
INSTRUMENT_TEMPERATURE = 11.234
LENS_TEMPERATURE = 8.7872
MACROPIXEL_SIZE = 4
MISSING_FRAMES = 0
PIXEL_SUBSAMPLING_FLAG = N
SIGNAL_CHAIN_ID = 3
/* RADIOMETRIC DATA ELEMENTS */
BANDWIDTH = 177.0
CENTER_FILTER_WAVELENGTH = 676.5
RADIANCE_OFFSET = 3.37585
RADIANCE_SCALING_FACTOR = 0.0170821
REFLECTANCE_SCALING_FACTOR = 0.000438758
MEX:REFLECTANCE_OFFSET = 0.0867096
/* IMAGE OBJECT DEFINITIONS */
OBJECT = IMAGE
  INTERCHANGE_FORMAT = BINARY
  LINES = 8201
  LINE_SAMPLES = 7998
  SAMPLE_TYPE = UNSIGNED_INTEGER
  SAMPLE_BITS = 8
  BANDS = 1
  BAND_STORAGE_TYPE = BAND_SEQUENTIAL
  MAXIMUM = 286
  MEAN = 196.324
  MINIMUM = 120
  STANDARD_DEVIATION = 43.5072
END_OBJECT = IMAGE
/* MAP OBJECT DEFINITIONS */
OBJECT = IMAGE_MAP_PROJECTION
  ^DATA_SET_MAP_PROJECTION_CATALOG= "DSMAP.CAT"
  A_AXIS_RADIUS = 3396.0
  B_AXIS_RADIUS = 3396.0
  C_AXIS_RADIUS = 3396.0
  CENTER_LATITUDE = -90.0
  CENTER_LONGITUDE = 0.0
  COORDINATE_SYSTEM_NAME = PLANETOGRAPHIC
  COORDINATE_SYSTEM_TYPE = "BODY-FIXED ROTATING"
  EASTERNMOST_LONGITUDE = 33.013
  FIRST_STANDARD_PARALLEL = "N/A"
  LINE_FIRST_PIXEL = 1
  LINE_LAST_PIXEL = 8201
  LINE_PROJECTION_OFFSET = 9003.875
  MAP_PROJECTION_ROTATION = 0.0
  MAP_PROJECTION_TYPE = STEREOGRAPHIC
  MAP_RESOLUTION = 1185.42760773333
  MAP_SCALE = 0.05
  MAXIMUM_LATITUDE = -81.7443
  MINIMUM_LATITUDE = -88.6386
  POSITIVE_LONGITUDE_DIRECTION = EAST
  REFERENCE_LATITUDE = "N/A"
  REFERENCE_LONGITUDE = "N/A"
  SAMPLE_FIRST_PIXEL = 1
  SAMPLE_LAST_PIXEL = 7998
  SAMPLE_PROJECTION_OFFSET = 2982.625
  SECOND_STANDARD_PARALLEL = "N/A"
  WESTERNMOST_LONGITUDE = -57.909
END_OBJECT = IMAGE_MAP_PROJECTION
/* The JPEG2000 image data file associated with this label. */
OBJECT = COMPRESSED_FILE
  FILE_NAME = "H2364_0000_P23.JP2"
  RECORD_TYPE = UNDEFINED
  FILE_RECORDS = UNK
  ENCODING_TYPE = "JP2"
  INTERCHANGE_FORMAT = BINARY
  UNCOMPRESSED_FILE_NAME = "H2364_0000_P23.IMG"
  REQUIRED_STORAGE_BYTES = "65631588"
  ^DESCRIPTION = "JP2INFO.TXT"
END_OBJECT = COMPRESSED_FILE
END
