PDS_VERSION_ID = PDS3
/* FILE DATA ELEMENTS */
RECORD_TYPE = STREAM
/* POINTERS TO DATA OBJECTS */
^COMPRESSED_FILE = "H2364_0001_P23.JP2"
/* IDENTIFICATION DATA ELEMENTS */
DATA_SET_ID = "MEX-M-HRSC-5-REFDR-MAPPROJECTED-V3.0"
DATA_SET_NAME = "MARS EXPRESS HRSC MAP PROJECTED REFDR V3.0"
DETECTOR_ID = MEX_HRSC_P2
EVENT_TYPE = "MARS-REGIONAL-MAPPING-Vo-Im-Gl"
INSTRUMENT_HOST_ID = MEX
INSTRUMENT_HOST_NAME = "MARS EXPRESS"
INSTRUMENT_ID = HRSC
INSTRUMENT_NAME = "HIGH RESOLUTION STEREO CAMERA"
MISSION_NAME = "MARS EXPRESS"
MISSION_PHASE_NAME = MR_Phase_8
PROCESSING_LEVEL_ID = 3
PRODUCT_CREATION_TIME = 2016-03-15T10:38:17.000Z
PRODUCT_ID = "H2364_0001_P23.JP2"
RELEASE_ID = 0029
REVISION_ID = 0000
/* QUALITY DATA ELEMENTS */
DATA_QUALITY_ID = 1
DATA_QUALITY_DESC = "Data calculated based on original SPICE kernels"
/* TIME DATA ELEMENTS */
SPACECRAFT_CLOCK_START_COUNT = "1/0080149615.56185"
SPACECRAFT_CLOCK_STOP_COUNT = "1/0080149947.05295"
START_TIME = 2005-11-15T15:47:50.484Z
STOP_TIME = 2005-11-15T15:52:22.934Z
/* ORBITAL DATA ELEMENTS */
ASCENDING_NODE_LONGITUDE = 178.63
MAXIMUM_RESOLUTION = 45.8
FOOTPRINT_POINT_LATITUDE = (-69.2314,-69.2786,-69.3231,-69.4064, -69.0183,-68.6292,-68.4346,-68.2383, -68.0424,-67.658,-67.2827,-66.7216, -66.3443,-65.9665,-65.4008,-65.0229, -64.6451,-64.2811,-63.9223,-63.5568, -63.0153,-62.6533,-62.1108,-61.5689, -61.0271,-60.6658,-60.3045,-59.9428, -59.5818,-59.2209,-58.8597,-58.3192, -57.9582,-57.5985,-57.2389,-56.8791, -56.3395,-55.8008,-55.4416,-55.084, -54.7256,-54.3684,-53.8323,-53.4747, -53.1174,-52.7586,-52.403,-52.0471, -51.6965,-51.3413,-51.1088,-51.0916, -51.0668,-51.0334,-51.3875,-51.7428, -52.2743,-52.8072,-53.1632,-53.5189, -53.876,-54.2343,-54.5912,-54.9488, -55.3061,-55.6642,-56.0223,-56.3806, -56.9188,-57.2775,-57.6366,-58.1755, -58.5347,-58.8945,-59.4344,-59.7945, -60.1548,-60.5148,-60.8746,-61.235, -61.7754,-62.1357,-62.4966,-62.8569, -63.2166,-63.7576,-64.1179,-64.4783, -64.852,-65.2287,-65.6046,-65.9809, -66.5431,-67.1037,-67.4773,-67.8601, -68.0537,-68.4391,-69.0163,-69.2314)
FOOTPRINT_POINT_LONGITUDE = (36.5997,37.4818,38.3966,38.9669, 39.0335,39.0948,39.1244,39.1479,39.1722 ,39.2306,39.2831,39.3646,39.4067, 39.4458,39.5049,39.5403,39.5736,39.6052 ,39.6509,39.6756,39.7303,39.7621, 39.8096,39.8558,39.8999,39.9273,39.9537 ,39.9779,40.0029,40.027,40.0491,40.0836 ,40.1035,40.1256,40.1468,40.1663, 40.1939,40.2209,40.2375,40.2569,40.273, 40.2909,40.3146,40.3288,40.3422,40.3512 ,40.3662,40.3797,40.4036,40.4159, 40.0835,39.7604,39.3054,38.7243,38.7037 ,38.683,38.6485,38.6126,38.5879,38.5616 ,38.5353,38.509,38.48,38.4504,38.4192, 38.3873,38.3542,38.3197,38.266,38.2283, 38.1895,38.1286,38.0859,38.0421,37.9736 ,37.9258,37.8765,37.8251,37.7715, 37.7166,37.6302,37.5701,37.5083,37.4438 ,37.3762,37.272,37.199,37.1235,37.0437, 36.9621,36.8764,36.7879,36.6463,36.4946 ,36.3884,36.2763,36.2173,36.0937,35.898 ,36.5997)
ORBIT_NUMBER = 2364
ORBITAL_ECCENTRICITY = 0.572
ORBITAL_INCLINATION = 86.62
ORBITAL_SEMIMAJOR_AXIS = 8556.61
PERIAPSIS_ALTITUDE = 277.38
PERIAPSIS_ARGUMENT_ANGLE = 302.65
PERIAPSIS_TIME = 2005-11-15T15:50:33.000Z
SPACECRAFT_ORIENTATION = (0.0,-1.0,0.0)
^MEX_ORIENTATION_DESC = "MEX_ORIENTATION_DESC.TXT"
SPACECRAFT_POINTING_MODE = ACROSSTRACK
^MEX_POINTING_DESC = "MEX_POINTING_DESC.TXT"
RIGHT_ASCENSION = -1e+32
DECLINATION = -1e+32
OFFSET_ANGLE = -1.1
SPACECRAFT_SOLAR_DISTANCE = 2.20098e+08
TARGET_NAME = MARS
/* CAMERA DATA ELEMENTS */
DETECTOR_TEMPERATURE = 20.0017
FOCAL_PLANE_TEMPERATURE = 8.7872
INST_CMPRS_NAME = "DISCRETE COSINE TRANSFORMATION (DCT)"
INST_CMPRS_RATIO = 16.8906
INST_CMPRS_QUALITY = 0
INST_CMPRS_QUANTZ_TBL_ID = 0
INSTRUMENT_TEMPERATURE = 12.6613
LENS_TEMPERATURE = 9.195
MACROPIXEL_SIZE = 4
MISSING_FRAMES = 0
PIXEL_SUBSAMPLING_FLAG = N
SIGNAL_CHAIN_ID = 3
/* RADIOMETRIC DATA ELEMENTS */
BANDWIDTH = 177.0
CENTER_FILTER_WAVELENGTH = 676.5
RADIANCE_OFFSET = 3.92964
RADIANCE_SCALING_FACTOR = 0.0218728
REFLECTANCE_SCALING_FACTOR = 0.000561813
MEX:REFLECTANCE_OFFSET = 0.100935
/* IMAGE OBJECT DEFINITIONS */
OBJECT = IMAGE
  INTERCHANGE_FORMAT = BINARY
  LINES = 21738
  LINE_SAMPLES = 2493
  SAMPLE_TYPE = UNSIGNED_INTEGER
  SAMPLE_BITS = 8
  BANDS = 1
  BAND_STORAGE_TYPE = BAND_SEQUENTIAL
  MAXIMUM = 153
  MEAN = 107.859
  MINIMUM = 60
  STANDARD_DEVIATION = 13.415
END_OBJECT = IMAGE
/* MAP OBJECT DEFINITIONS */
OBJECT = IMAGE_MAP_PROJECTION
  ^DATA_SET_MAP_PROJECTION_CATALOG= "DSMAP.CAT"
  A_AXIS_RADIUS = 3396.0
  B_AXIS_RADIUS = 3396.0
  C_AXIS_RADIUS = 3396.0
  CENTER_LATITUDE = 0.0
  CENTER_LONGITUDE = 39.0
  COORDINATE_SYSTEM_NAME = PLANETOGRAPHIC
  COORDINATE_SYSTEM_TYPE = "BODY-FIXED ROTATING"
  EASTERNMOST_LONGITUDE = 40.4159
  FIRST_STANDARD_PARALLEL = "N/A"
  LINE_FIRST_PIXEL = 1
  LINE_LAST_PIXEL = 21738
  LINE_PROJECTION_OFFSET = -60527.375
  MAP_PROJECTION_ROTATION = 0.0
  MAP_PROJECTION_TYPE = SINUSOIDAL
  MAP_RESOLUTION = 1185.42760773333
  MAP_SCALE = 0.05
  MAXIMUM_LATITUDE = -51.0334
  MINIMUM_LATITUDE = -69.4064
  POSITIVE_LONGITUDE_DIRECTION = EAST
  REFERENCE_LATITUDE = "N/A"
  REFERENCE_LONGITUDE = "N/A"
  SAMPLE_FIRST_PIXEL = 1
  SAMPLE_LAST_PIXEL = 2493
  SAMPLE_PROJECTION_OFFSET = 1392.875
  SECOND_STANDARD_PARALLEL = "N/A"
  WESTERNMOST_LONGITUDE = 35.898
END_OBJECT = IMAGE_MAP_PROJECTION
/* The JPEG2000 image data file associated with this label. */
OBJECT = COMPRESSED_FILE
  FILE_NAME = "H2364_0001_P23.JP2"
  RECORD_TYPE = UNDEFINED
  FILE_RECORDS = UNK
  ENCODING_TYPE = "JP2"
  INTERCHANGE_FORMAT = BINARY
  UNCOMPRESSED_FILE_NAME = "H2364_0001_P23.IMG"
  REQUIRED_STORAGE_BYTES = "54212778"
  ^DESCRIPTION = "JP2INFO.TXT"
END_OBJECT = COMPRESSED_FILE
END
