PDS_VERSION_ID = PDS3
/* FILE DATA ELEMENTS */
RECORD_TYPE = STREAM
/* POINTERS TO DATA OBJECTS */
^COMPRESSED_FILE = "H2372_0000_IR3.JP2"
/* IDENTIFICATION DATA ELEMENTS */
DATA_SET_ID = "MEX-M-HRSC-5-REFDR-MAPPROJECTED-V3.0"
DATA_SET_NAME = "MARS EXPRESS HRSC MAP PROJECTED REFDR V3.0"
DETECTOR_ID = MEX_HRSC_IR
EVENT_TYPE = "MARS-REGIONAL-STEREO-Gl-La"
INSTRUMENT_HOST_ID = MEX
INSTRUMENT_HOST_NAME = "MARS EXPRESS"
INSTRUMENT_ID = HRSC
INSTRUMENT_NAME = "HIGH RESOLUTION STEREO CAMERA"
MISSION_NAME = "MARS EXPRESS"
MISSION_PHASE_NAME = MR_Phase_8
PROCESSING_LEVEL_ID = 3
PRODUCT_CREATION_TIME = 2016-03-15T10:38:17.000Z
PRODUCT_ID = "H2372_0000_IR3.JP2"
RELEASE_ID = 0029
REVISION_ID = 0000
/* QUALITY DATA ELEMENTS */
DATA_QUALITY_ID = 1
DATA_QUALITY_DESC = "Data calculated based on original SPICE kernels"
/* TIME DATA ELEMENTS */
SPACECRAFT_CLOCK_START_COUNT = "1/0080342806.57149"
SPACECRAFT_CLOCK_STOP_COUNT = "1/0080343045.39188"
START_TIME = 2005-11-17T21:27:02.830Z
STOP_TIME = 2005-11-17T21:29:51.889Z
/* ORBITAL DATA ELEMENTS */
ASCENDING_NODE_LONGITUDE = 178.46
MAXIMUM_RESOLUTION = 61
FOOTPRINT_POINT_LATITUDE = (-85.0817,-85.2729,-85.5714,-85.824, -86.0099,-86.2334,-86.3164,-86.1513, -85.8969,-85.7219,-85.5469,-85.3682, -85.0954,-84.9137,-84.7294,-84.543, -84.2644,-84.0776,-83.8816,-83.6945, -83.5076,-83.3204,-83.1319,-82.8507, -82.6634,-82.4759,-82.2889,-82.1047, -81.8277,-81.6417,-81.3653,-81.1817, -80.9979,-80.8135,-80.6302,-80.2691, -80.0868,-79.9047,-79.6311,-79.4479, -79.2645,-79.0806,-78.8962,-78.7113, -78.526,-78.247,-77.9522,-77.7652, -77.578,-77.2967,-77.0305,-76.9597, -76.8803,-76.8053,-76.7489,-76.8957, -77.0769,-77.2577,-77.438,-77.7215, -77.9002,-78.0786,-78.2558,-78.4325, -78.6086,-78.784,-78.9589,-79.1328, -79.4783,-79.8206,-80.1594,-80.417, -80.5877,-80.7579,-80.926,-81.0976, -81.2683,-81.522,-81.6896,-81.8598, -82.0279,-82.1948,-82.3602,-82.5266, -82.6922,-82.8559,-83.0166,-83.187, -83.3461,-83.5014,-83.6559,-83.8093, -83.9601,-84.1061,-84.251,-84.46, -84.5929,-84.723,-84.8467,-85.0817)
FOOTPRINT_POINT_LONGITUDE = (280.335,281.782,284.357,286.914, 289.078,292.086,295.132,297.276,300.128 ,301.84,303.387,304.823,306.779,307.946 ,309.036,310.054,311.444,312.291, 313.119,313.858,314.55,315.196,315.809, 316.669,317.2,317.7,318.171,318.613, 319.235,319.63,320.185,320.535,320.869, 321.191,321.496,322.063,322.335,322.595 ,322.966,323.204,323.433,323.655, 323.871,324.079,324.281,324.574,324.867 ,325.045,325.218,325.467,325.693, 324.249,322.819,321.607,320.758,319.987 ,319.724,319.453,319.174,318.717, 318.417,318.107,317.789,317.461,317.122 ,316.774,316.414,316.043,315.265, 314.434,313.547,312.825,312.32,311.797, 311.255,310.682,310.082,309.139,308.478 ,307.775,307.042,306.277,305.479, 304.631,303.74,302.809,301.836,300.748, 299.655,298.513,297.304,296.017,294.663 ,293.247,291.73,289.308,287.595,285.76, 283.841,280.335)
ORBIT_NUMBER = 2372
ORBITAL_ECCENTRICITY = 0.572
ORBITAL_INCLINATION = 86.64
ORBITAL_SEMIMAJOR_AXIS = 8550.61
PERIAPSIS_ALTITUDE = 277.2
PERIAPSIS_ARGUMENT_ANGLE = 301.25
PERIAPSIS_TIME = 2005-11-17T21:34:59.000Z
SPACECRAFT_ORIENTATION = (0.0,-1.0,0.0)
^MEX_ORIENTATION_DESC = "MEX_ORIENTATION_DESC.TXT"
SPACECRAFT_POINTING_MODE = NADIR
^MEX_POINTING_DESC = "MEX_POINTING_DESC.TXT"
RIGHT_ASCENSION = -1e+32
DECLINATION = -1e+32
OFFSET_ANGLE = -1e+32
SPACECRAFT_SOLAR_DISTANCE = 2.20519e+08
TARGET_NAME = MARS
/* CAMERA DATA ELEMENTS */
DETECTOR_TEMPERATURE = 17.351
FOCAL_PLANE_TEMPERATURE = 8.7872
INST_CMPRS_NAME = "DISCRETE COSINE TRANSFORMATION (DCT)"
INST_CMPRS_RATIO = 11.1733
INST_CMPRS_QUALITY = 0
INST_CMPRS_QUANTZ_TBL_ID = 0
INSTRUMENT_TEMPERATURE = 11.234
LENS_TEMPERATURE = 9.195
MACROPIXEL_SIZE = 4
MISSING_FRAMES = 3
PIXEL_SUBSAMPLING_FLAG = N
SIGNAL_CHAIN_ID = 2
/* RADIOMETRIC DATA ELEMENTS */
BANDWIDTH = 81.0
CENTER_FILTER_WAVELENGTH = 955.5
RADIANCE_OFFSET = 0.951647
RADIANCE_SCALING_FACTOR = 0.00474269
REFLECTANCE_SCALING_FACTOR = 0.000497554
MEX:REFLECTANCE_OFFSET = 0.0998371
/* IMAGE OBJECT DEFINITIONS */
OBJECT = IMAGE
  INTERCHANGE_FORMAT = BINARY
  LINES = 11280
  LINE_SAMPLES = 6241
  SAMPLE_TYPE = UNSIGNED_INTEGER
  SAMPLE_BITS = 8
  BANDS = 1
  BAND_STORAGE_TYPE = BAND_SEQUENTIAL
  MAXIMUM = 221
  MEAN = 133.772
  MINIMUM = 94
  STANDARD_DEVIATION = 22.7195
END_OBJECT = IMAGE
/* MAP OBJECT DEFINITIONS */
OBJECT = IMAGE_MAP_PROJECTION
  ^DATA_SET_MAP_PROJECTION_CATALOG= "DSMAP.CAT"
  A_AXIS_RADIUS = 3396.0
  B_AXIS_RADIUS = 3396.0
  C_AXIS_RADIUS = 3396.0
  CENTER_LATITUDE = 0.0
  CENTER_LONGITUDE = 315.0
  COORDINATE_SYSTEM_NAME = PLANETOGRAPHIC
  COORDINATE_SYSTEM_TYPE = "BODY-FIXED ROTATING"
  EASTERNMOST_LONGITUDE = 325.693
  FIRST_STANDARD_PARALLEL = "N/A"
  LINE_FIRST_PIXEL = 1
  LINE_LAST_PIXEL = 11280
  LINE_PROJECTION_OFFSET = -90930.375
  MAP_PROJECTION_ROTATION = 0.0
  MAP_PROJECTION_TYPE = SINUSOIDAL
  MAP_RESOLUTION = 1185.42760773333
  MAP_SCALE = 0.05
  MAXIMUM_LATITUDE = -76.74890000000001
  MINIMUM_LATITUDE = -86.3164
  POSITIVE_LONGITUDE_DIRECTION = EAST
  REFERENCE_LATITUDE = "N/A"
  REFERENCE_LONGITUDE = "N/A"
  SAMPLE_FIRST_PIXEL = 1
  SAMPLE_LAST_PIXEL = 6241
  SAMPLE_PROJECTION_OFFSET = 3405.125
  SECOND_STANDARD_PARALLEL = "N/A"
  WESTERNMOST_LONGITUDE = 280.335
END_OBJECT = IMAGE_MAP_PROJECTION
/* The JPEG2000 image data file associated with this label. */
OBJECT = COMPRESSED_FILE
  FILE_NAME = "H2372_0000_IR3.JP2"
  RECORD_TYPE = UNDEFINED
  FILE_RECORDS = UNK
  ENCODING_TYPE = "JP2"
  INTERCHANGE_FORMAT = BINARY
  UNCOMPRESSED_FILE_NAME = "H2372_0000_IR3.IMG"
  REQUIRED_STORAGE_BYTES = "70429685"
  ^DESCRIPTION = "JP2INFO.TXT"
END_OBJECT = COMPRESSED_FILE
END
