PDS_VERSION_ID = PDS3
/* FILE DATA ELEMENTS */
RECORD_TYPE = STREAM
/* POINTERS TO DATA OBJECTS */
^COMPRESSED_FILE = "H2375_0000_BL3.JP2"
/* IDENTIFICATION DATA ELEMENTS */
DATA_SET_ID = "MEX-M-HRSC-5-REFDR-MAPPROJECTED-V3.0"
DATA_SET_NAME = "MARS EXPRESS HRSC MAP PROJECTED REFDR V3.0"
DETECTOR_ID = MEX_HRSC_BLUE
EVENT_TYPE = "MARS-REGIONAL-MAPPING-Gl-Pf"
INSTRUMENT_HOST_ID = MEX
INSTRUMENT_HOST_NAME = "MARS EXPRESS"
INSTRUMENT_ID = HRSC
INSTRUMENT_NAME = "HIGH RESOLUTION STEREO CAMERA"
MISSION_NAME = "MARS EXPRESS"
MISSION_PHASE_NAME = MR_Phase_8
PROCESSING_LEVEL_ID = 3
PRODUCT_CREATION_TIME = 2016-03-15T10:38:17.000Z
PRODUCT_ID = "H2375_0000_BL3.JP2"
RELEASE_ID = 0029
REVISION_ID = 0000
/* QUALITY DATA ELEMENTS */
DATA_QUALITY_ID = 1
DATA_QUALITY_DESC = "Data calculated based on original SPICE kernels"
/* TIME DATA ELEMENTS */
SPACECRAFT_CLOCK_START_COUNT = "1/0080415313.57329"
SPACECRAFT_CLOCK_STOP_COUNT = "1/0080415663.55633"
START_TIME = 2005-11-18T17:36:22.928Z
STOP_TIME = 2005-11-18T17:40:43.960Z
/* ORBITAL DATA ELEMENTS */
ASCENDING_NODE_LONGITUDE = 178.4
MAXIMUM_RESOLUTION = 52.4
FOOTPRINT_POINT_LATITUDE = (-84.1203,-84.3823,-84.6396,-84.8924, -85.1405,-85.3846,-85.5933,-85.5876, -85.5509,-85.4818,-85.3808,-85.2514, -85.0969,-84.9221,-84.6223,-84.4027, -84.1694,-83.8029,-83.5455,-83.2836, -83.0134,-82.7385,-82.4612,-82.0352, -81.7517,-81.4638,-81.1718,-80.8837, -80.5924,-80.2981,-79.8515,-79.5506, -79.2474,-78.9422,-78.6348,-78.3257, -78.0147,-77.5448,-77.0721,-76.7583, -76.4916,-76.2243,-75.8213,-75.4165, -75.0101,-74.7383,-74.4657,-74.1925, -73.9187,-73.6443,-73.3693,-73.0938, -72.7182,-72.6177,-72.4988,-72.4041, -72.806,-73.073,-73.3391,-73.6044, -73.8688,-74.1322,-74.3946,-74.7865, -75.1758,-75.4342,-75.8193,-76.201, -76.6355,-76.9349,-77.2315,-77.6708, -77.9595,-78.2464,-78.5299,-78.8106, -79.088,-79.3626,-79.6298,-79.8951, -80.1573,-80.5432,-80.7981,-81.0473, -81.2936,-81.536,-81.7697,-82.1103, -82.3259,-82.6335,-82.8246,-83.0884, -83.246,-83.4556,-83.6234,-83.7108, -83.7726,-83.8229,-83.8396,-84.1203)
FOOTPRINT_POINT_LONGITUDE = (312.761,312.771,312.782,312.792, 312.802,312.813,312.617,315.173,320.222 ,325.093,329.755,334.118,338.226, 342.011,347.152,350.198,353.029,356.791 ,359.066,361.107,362.999,364.737, 366.325,368.497,369.793,371.005,372.136 ,373.164,374.13,375.037,376.299,377.078 ,377.818,378.518,379.179,379.81,380.407 ,381.216,382.013,382.489,382.877, 383.282,383.814,384.326,384.808,385.113 ,385.405,385.693,385.968,386.234, 386.494,386.744,386.77,385.445,384.024, 382.969,382.495,382.166,381.827,381.476 ,381.116,380.741,380.355,379.753, 379.118,378.678,377.989,377.252,376.353 ,375.71,375.029,373.931,373.143,372.332 ,371.476,370.581,369.642,368.666, 367.594,366.496,365.355,363.467,362.112 ,360.686,359.155,357.528,355.8,352.95, 350.913,347.576,345.192,341.305,338.545 ,334.104,329.355,326.022,322.57,319.054 ,315.45,312.761)
ORBIT_NUMBER = 2375
ORBITAL_ECCENTRICITY = 0.572
ORBITAL_INCLINATION = 86.62
ORBITAL_SEMIMAJOR_AXIS = 8553.7
PERIAPSIS_ALTITUDE = 277.44
PERIAPSIS_ARGUMENT_ANGLE = 300.72
PERIAPSIS_TIME = 2005-11-18T17:44:10.000Z
SPACECRAFT_ORIENTATION = (0.0,-1.0,0.0)
^MEX_ORIENTATION_DESC = "MEX_ORIENTATION_DESC.TXT"
SPACECRAFT_POINTING_MODE = ACROSSTRACK
^MEX_POINTING_DESC = "MEX_POINTING_DESC.TXT"
RIGHT_ASCENSION = -1e+32
DECLINATION = -1e+32
OFFSET_ANGLE = 1.8
SPACECRAFT_SOLAR_DISTANCE = 2.20678e+08
TARGET_NAME = MARS
/* CAMERA DATA ELEMENTS */
DETECTOR_TEMPERATURE = 18.3705
FOCAL_PLANE_TEMPERATURE = 8.5833
INST_CMPRS_NAME = "DISCRETE COSINE TRANSFORMATION (DCT)"
INST_CMPRS_RATIO = 35.0843
INST_CMPRS_QUALITY = 0
INST_CMPRS_QUANTZ_TBL_ID = 0
INSTRUMENT_TEMPERATURE = 11.4379
LENS_TEMPERATURE = 8.7872
MACROPIXEL_SIZE = 4
MISSING_FRAMES = 0
PIXEL_SUBSAMPLING_FLAG = N
SIGNAL_CHAIN_ID = 2
/* RADIOMETRIC DATA ELEMENTS */
BANDWIDTH = 76.0
CENTER_FILTER_WAVELENGTH = 444.0
RADIANCE_OFFSET = 0.334878
RADIANCE_SCALING_FACTOR = 0.00503411
REFLECTANCE_SCALING_FACTOR = 0.00025188
MEX:REFLECTANCE_OFFSET = 0.0167555
/* IMAGE OBJECT DEFINITIONS */
OBJECT = IMAGE
  INTERCHANGE_FORMAT = BINARY
  LINES = 15659
  LINE_SAMPLES = 12816
  SAMPLE_TYPE = UNSIGNED_INTEGER
  SAMPLE_BITS = 8
  BANDS = 1
  BAND_STORAGE_TYPE = BAND_SEQUENTIAL
  MAXIMUM = 60
  MEAN = 24.814
  MINIMUM = 9
  STANDARD_DEVIATION = 6.58262
END_OBJECT = IMAGE
/* MAP OBJECT DEFINITIONS */
OBJECT = IMAGE_MAP_PROJECTION
  ^DATA_SET_MAP_PROJECTION_CATALOG= "DSMAP.CAT"
  A_AXIS_RADIUS = 3396.0
  B_AXIS_RADIUS = 3396.0
  C_AXIS_RADIUS = 3396.0
  CENTER_LATITUDE = 0.0
  CENTER_LONGITUDE = 12.0
  COORDINATE_SYSTEM_NAME = PLANETOGRAPHIC
  COORDINATE_SYSTEM_TYPE = "BODY-FIXED ROTATING"
  EASTERNMOST_LONGITUDE = 26.77
  FIRST_STANDARD_PARALLEL = "N/A"
  LINE_FIRST_PIXEL = 1
  LINE_LAST_PIXEL = 15659
  LINE_PROJECTION_OFFSET = -85872.875
  MAP_PROJECTION_ROTATION = 0.0
  MAP_PROJECTION_TYPE = SINUSOIDAL
  MAP_RESOLUTION = 1185.42760773333
  MAP_SCALE = 0.05
  MAXIMUM_LATITUDE = -72.4041
  MINIMUM_LATITUDE = -85.5933
  POSITIVE_LONGITUDE_DIRECTION = EAST
  REFERENCE_LATITUDE = "N/A"
  REFERENCE_LONGITUDE = "N/A"
  SAMPLE_FIRST_PIXEL = 1
  SAMPLE_LAST_PIXEL = 12816
  SAMPLE_PROJECTION_OFFSET = 7450.125
  SECOND_STANDARD_PARALLEL = "N/A"
  WESTERNMOST_LONGITUDE = -47.383
END_OBJECT = IMAGE_MAP_PROJECTION
/* The JPEG2000 image data file associated with this label. */
OBJECT = COMPRESSED_FILE
  FILE_NAME = "H2375_0000_BL3.JP2"
  RECORD_TYPE = UNDEFINED
  FILE_RECORDS = UNK
  ENCODING_TYPE = "JP2"
  INTERCHANGE_FORMAT = BINARY
  UNCOMPRESSED_FILE_NAME = "H2375_0000_BL3.IMG"
  REQUIRED_STORAGE_BYTES = "200724192"
  ^DESCRIPTION = "JP2INFO.TXT"
END_OBJECT = COMPRESSED_FILE
END
