PDS_VERSION_ID = PDS3
/* FILE DATA ELEMENTS */
RECORD_TYPE = STREAM
/* POINTERS TO DATA OBJECTS */
^COMPRESSED_FILE = "H2376_0000_S23.JP2"
/* IDENTIFICATION DATA ELEMENTS */
DATA_SET_ID = "MEX-M-HRSC-5-REFDR-MAPPROJECTED-V3.0"
DATA_SET_NAME = "MARS EXPRESS HRSC MAP PROJECTED REFDR V3.0"
DETECTOR_ID = MEX_HRSC_S2
EVENT_TYPE = "MARS-REGIONAL-MAPPING-Fl-Gl-Pf"
INSTRUMENT_HOST_ID = MEX
INSTRUMENT_HOST_NAME = "MARS EXPRESS"
INSTRUMENT_ID = HRSC
INSTRUMENT_NAME = "HIGH RESOLUTION STEREO CAMERA"
MISSION_NAME = "MARS EXPRESS"
MISSION_PHASE_NAME = MR_Phase_8
PROCESSING_LEVEL_ID = 3
PRODUCT_CREATION_TIME = 2016-03-15T10:38:17.000Z
PRODUCT_ID = "H2376_0000_S23.JP2"
RELEASE_ID = 0029
REVISION_ID = 0000
/* QUALITY DATA ELEMENTS */
DATA_QUALITY_ID = 1
DATA_QUALITY_DESC = "Data calculated based on original SPICE kernels"
/* TIME DATA ELEMENTS */
SPACECRAFT_CLOCK_START_COUNT = "1/0080439774.57143"
SPACECRAFT_CLOCK_STOP_COUNT = "1/0080439998.23597"
START_TIME = 2005-11-19T00:24:02.031Z
STOP_TIME = 2005-11-19T00:26:43.299Z
/* ORBITAL DATA ELEMENTS */
ASCENDING_NODE_LONGITUDE = 178.38
MAXIMUM_RESOLUTION = 23.8
FOOTPRINT_POINT_LATITUDE = (-73.6057,-73.6558,-73.6881,-73.7186, -73.7473,-73.7741,-73.7992,-73.5465, -73.3175,-73.0895,-72.7454,-72.5238, -72.1895,-71.9665,-71.7436,-71.4095, -71.0748,-70.8513,-70.6278,-70.4096, -70.1938,-69.9792,-69.7637,-69.548, -69.3324,-69.1156,-68.9,-68.6845, -68.465,-68.2487,-68.0327,-67.7104, -67.5023,-67.2945,-67.0864,-66.8782, -66.5659,-66.3575,-66.1494,-65.9413, -65.7334,-65.5254,-65.2129,-65.0044, -64.7969,-64.5893,-64.3813,-64.1727, -63.9643,-63.7571,-63.4466,-63.2393, -63.1136,-63.0983,-63.0798,-63.0693, -63.1637,-63.3695,-63.5748,-63.7797, -63.9816,-64.1864,-64.3944,-64.604, -64.8105,-65.0177,-65.2238,-65.5329, -65.8417,-66.0478,-66.254,-66.5626, -66.7684,-67.0769,-67.3854,-67.5911, -67.9089,-68.1227,-68.3355,-68.552, -68.7651,-68.9778,-69.1907,-69.5097, -69.7223,-69.9345,-70.147,-70.3591, -70.6864,-70.9056,-71.1248,-71.343, -71.5599,-71.8882,-72.2154,-72.4335, -72.7645,-72.9888,-73.3235,-73.6057)
FOOTPRINT_POINT_LONGITUDE = (287.325,288.2,288.8,289.395,289.983, 290.565,291.142,291.262,291.43,291.591, 291.829,291.976,292.192,292.332,292.467 ,292.663,292.853,292.976,293.096, 293.211,293.321,293.428,293.533,293.636 ,293.736,293.836,293.932,294.026,294.12 ,294.211,294.3,294.429,294.51,294.589, 294.667,294.744,294.856,294.929,295.001 ,295.071,295.14,295.207,295.307,295.372 ,295.436,295.498,295.559,295.62,295.68, 295.738,295.822,295.877,295.656,294.989 ,294.28,293.917,293.596,293.523,293.45, 293.376,293.31,293.234,293.147,293.055, 292.97,292.881,292.793,292.658,292.52, 292.426,292.328,292.18,292.079,291.924, 291.763,291.652,291.477,291.355,291.233 ,291.104,290.975,290.845,290.71,290.502 ,290.359,290.214,290.064,289.911, 289.667,289.5,289.328,289.155,288.982, 288.7,288.408,288.207,287.892,287.672, 287.337,287.325)
ORBIT_NUMBER = 2376
ORBITAL_ECCENTRICITY = 0.572
ORBITAL_INCLINATION = 86.62
ORBITAL_SEMIMAJOR_AXIS = 8550.66
PERIAPSIS_ALTITUDE = 277.46
PERIAPSIS_ARGUMENT_ANGLE = 300.56
PERIAPSIS_TIME = 2005-11-19T00:27:17.000Z
SPACECRAFT_ORIENTATION = (0.0,-1.0,0.0)
^MEX_ORIENTATION_DESC = "MEX_ORIENTATION_DESC.TXT"
SPACECRAFT_POINTING_MODE = ACROSSTRACK
^MEX_POINTING_DESC = "MEX_POINTING_DESC.TXT"
RIGHT_ASCENSION = -1e+32
DECLINATION = -1e+32
OFFSET_ANGLE = 0.916
SPACECRAFT_SOLAR_DISTANCE = 2.20731e+08
TARGET_NAME = MARS
/* CAMERA DATA ELEMENTS */
DETECTOR_TEMPERATURE = 18.7783
FOCAL_PLANE_TEMPERATURE = 8.7872
INST_CMPRS_NAME = "DISCRETE COSINE TRANSFORMATION (DCT)"
INST_CMPRS_RATIO = 13.2056
INST_CMPRS_QUALITY = 0
INST_CMPRS_QUANTZ_TBL_ID = 0
INSTRUMENT_TEMPERATURE = 11.234
LENS_TEMPERATURE = 8.9911
MACROPIXEL_SIZE = 2
MISSING_FRAMES = 1
PIXEL_SUBSAMPLING_FLAG = N
SIGNAL_CHAIN_ID = 1
/* RADIOMETRIC DATA ELEMENTS */
BANDWIDTH = 178.0
CENTER_FILTER_WAVELENGTH = 679.0
RADIANCE_OFFSET = 4.82693
RADIANCE_SCALING_FACTOR = 0.0113982
REFLECTANCE_SCALING_FACTOR = 0.000294097
MEX:REFLECTANCE_OFFSET = 0.124545
/* IMAGE OBJECT DEFINITIONS */
OBJECT = IMAGE
  INTERCHANGE_FORMAT = BINARY
  LINES = 25882
  LINE_SAMPLES = 7190
  SAMPLE_TYPE = UNSIGNED_INTEGER
  SAMPLE_BITS = 8
  BANDS = 1
  BAND_STORAGE_TYPE = BAND_SEQUENTIAL
  MAXIMUM = 221
  MEAN = 123.655
  MINIMUM = 87
  STANDARD_DEVIATION = 8.13061
END_OBJECT = IMAGE
/* MAP OBJECT DEFINITIONS */
OBJECT = IMAGE_MAP_PROJECTION
  ^DATA_SET_MAP_PROJECTION_CATALOG= "DSMAP.CAT"
  A_AXIS_RADIUS = 3396.0
  B_AXIS_RADIUS = 3396.0
  C_AXIS_RADIUS = 3396.0
  CENTER_LATITUDE = 0.0
  CENTER_LONGITUDE = 293.0
  COORDINATE_SYSTEM_NAME = PLANETOGRAPHIC
  COORDINATE_SYSTEM_TYPE = "BODY-FIXED ROTATING"
  EASTERNMOST_LONGITUDE = 295.877
  FIRST_STANDARD_PARALLEL = "N/A"
  LINE_FIRST_PIXEL = 1
  LINE_LAST_PIXEL = 25882
  LINE_PROJECTION_OFFSET = -149473.25
  MAP_PROJECTION_ROTATION = 0.0
  MAP_PROJECTION_TYPE = SINUSOIDAL
  MAP_RESOLUTION = 2370.85521546667
  MAP_SCALE = 0.025
  MAXIMUM_LATITUDE = -63.0693
  MINIMUM_LATITUDE = -73.7992
  POSITIVE_LONGITUDE_DIRECTION = EAST
  REFERENCE_LATITUDE = "N/A"
  REFERENCE_LONGITUDE = "N/A"
  SAMPLE_FIRST_PIXEL = 1
  SAMPLE_LAST_PIXEL = 7190
  SAMPLE_PROJECTION_OFFSET = 4029.75
  SECOND_STANDARD_PARALLEL = "N/A"
  WESTERNMOST_LONGITUDE = 287.325
END_OBJECT = IMAGE_MAP_PROJECTION
/* The JPEG2000 image data file associated with this label. */
OBJECT = COMPRESSED_FILE
  FILE_NAME = "H2376_0000_S23.JP2"
  RECORD_TYPE = UNDEFINED
  FILE_RECORDS = UNK
  ENCODING_TYPE = "JP2"
  INTERCHANGE_FORMAT = BINARY
  UNCOMPRESSED_FILE_NAME = "H2376_0000_S23.IMG"
  REQUIRED_STORAGE_BYTES = "186120340"
  ^DESCRIPTION = "JP2INFO.TXT"
END_OBJECT = COMPRESSED_FILE
END
