PDS_VERSION_ID = PDS3
/* FILE DATA ELEMENTS */
RECORD_TYPE = STREAM
/* POINTERS TO DATA OBJECTS */
^COMPRESSED_FILE = "H2379_0001_GR3.JP2"
/* IDENTIFICATION DATA ELEMENTS */
DATA_SET_ID = "MEX-M-HRSC-5-REFDR-MAPPROJECTED-V3.0"
DATA_SET_NAME = "MARS EXPRESS HRSC MAP PROJECTED REFDR V3.0"
DETECTOR_ID = MEX_HRSC_GREEN
EVENT_TYPE = "MARS-LOCAL-MAPPING-Im-Fl"
INSTRUMENT_HOST_ID = MEX
INSTRUMENT_HOST_NAME = "MARS EXPRESS"
INSTRUMENT_ID = HRSC
INSTRUMENT_NAME = "HIGH RESOLUTION STEREO CAMERA"
MISSION_NAME = "MARS EXPRESS"
MISSION_PHASE_NAME = MR_Phase_8
PROCESSING_LEVEL_ID = 3
PRODUCT_CREATION_TIME = 2016-03-15T10:38:17.000Z
PRODUCT_ID = "H2379_0001_GR3.JP2"
RELEASE_ID = 0029
REVISION_ID = 0000
/* QUALITY DATA ELEMENTS */
DATA_QUALITY_ID = 1
DATA_QUALITY_DESC = "Data calculated based on original SPICE kernels"
/* TIME DATA ELEMENTS */
SPACECRAFT_CLOCK_START_COUNT = "1/0080512683.56192"
SPACECRAFT_CLOCK_STOP_COUNT = "1/0080512845.62596"
START_TIME = 2005-11-19T20:38:31.382Z
STOP_TIME = 2005-11-19T20:40:15.668Z
/* ORBITAL DATA ELEMENTS */
ASCENDING_NODE_LONGITUDE = 178.32
MAXIMUM_RESOLUTION = 91.9
FOOTPRINT_POINT_LATITUDE = (-51.1873,-51.1959,-51.2047,-51.217, -51.2246,-51.2252,-51.0951,-50.965, -50.835,-50.705,-50.575,-50.445, -50.3151,-50.1201,-49.9902,-49.7953, -49.6655,-49.406,-49.2726,-49.138, -49.0034,-48.8688,-48.7342,-48.5997, -48.4652,-48.3309,-48.1967,-47.9954, -47.7937,-47.6581,-47.5246,-47.3904, -47.1891,-47.0551,-46.9187,-46.7801, -46.6412,-46.5029,-46.295,-46.0865, -45.9475,-45.8089,-45.6706,-45.5323, -45.3243,-45.1853,-45.0469,-44.8334, -44.6907,-44.548,-44.405,-44.3156, -44.3066,-44.3,-44.2934,-44.2821, -44.4246,-44.5675,-44.782,-44.9954, -45.1335,-45.2716,-45.4098,-45.5481, -45.6864,-45.8247,-45.9631,-46.1016, -46.2402,-46.3787,-46.5174,-46.656, -46.7946,-46.9332,-47.067,-47.201, -47.3349,-47.4687,-47.6026,-47.7366, -47.9377,-48.0718,-48.2059,-48.34, -48.4739,-48.608,-48.7423,-48.8766, -49.0782,-49.2127,-49.411,-49.7348, -49.9934,-50.1231,-50.2531,-50.5774, -50.8366,-50.9665,-51.0961,-51.1873)
FOOTPRINT_POINT_LONGITUDE = (3.39215,3.60655,3.83562,4.17898, 4.40796,4.77408,4.78465,4.79508,4.80551 ,4.81562,4.8259,4.83592,4.84602,4.86116 ,4.87114,4.88608,4.89584,4.91479, 4.92442,4.93406,4.94358,4.95307,4.96249 ,4.97179,4.98097,4.9896,4.99807,5.01075 ,5.02477,5.03802,5.04443,5.05315, 5.06629,5.07467,5.08415,5.0917,5.10022, 5.10701,5.11859,5.1323,5.14156,5.14963, 5.15697,5.16432,5.17722,5.18686,5.19474 ,5.20668,5.21342,5.21999,5.22779, 4.87325,4.52709,4.29631,4.07985,3.69501 ,3.68694,3.67977,3.6687,3.65682,3.64905 ,3.64119,3.63329,3.62523,3.61708, 3.60875,3.60041,3.59195,3.58348,3.57481 ,3.56607,3.55721,3.54781,3.53861,3.5297 ,3.52097,3.51161,3.50201,3.49236, 3.48268,3.46805,3.45813,3.4481,3.43773, 3.42673,3.41593,3.40531,3.39469,3.37882 ,3.36795,3.35218,3.3246,3.30068,3.28947 ,3.27893,3.24959,3.22472,3.21251, 3.19959,3.39215)
ORBIT_NUMBER = 2379
ORBITAL_ECCENTRICITY = 0.572
ORBITAL_INCLINATION = 86.62
ORBITAL_SEMIMAJOR_AXIS = 8551.1
PERIAPSIS_ALTITUDE = 277.57
PERIAPSIS_ARGUMENT_ANGLE = 300.01
PERIAPSIS_TIME = 2005-11-19T20:36:26.000Z
SPACECRAFT_ORIENTATION = (0.0,-1.0,0.0)
^MEX_ORIENTATION_DESC = "MEX_ORIENTATION_DESC.TXT"
SPACECRAFT_POINTING_MODE = NADIR
^MEX_POINTING_DESC = "MEX_POINTING_DESC.TXT"
RIGHT_ASCENSION = -1e+32
DECLINATION = -1e+32
OFFSET_ANGLE = -1e+32
SPACECRAFT_SOLAR_DISTANCE = 2.2089e+08
TARGET_NAME = MARS
/* CAMERA DATA ELEMENTS */
DETECTOR_TEMPERATURE = 18.7783
FOCAL_PLANE_TEMPERATURE = 8.1755
INST_CMPRS_NAME = "DISCRETE COSINE TRANSFORMATION (DCT)"
INST_CMPRS_RATIO = 16.2817
INST_CMPRS_QUALITY = 0
INST_CMPRS_QUANTZ_TBL_ID = 0
INSTRUMENT_TEMPERATURE = 13.0691
LENS_TEMPERATURE = 8.7872
MACROPIXEL_SIZE = 8
MISSING_FRAMES = 0
PIXEL_SUBSAMPLING_FLAG = N
SIGNAL_CHAIN_ID = 2
/* RADIOMETRIC DATA ELEMENTS */
BANDWIDTH = 88.0
CENTER_FILTER_WAVELENGTH = 538.0
RADIANCE_OFFSET = 1.73973
RADIANCE_SCALING_FACTOR = 0.00341123
REFLECTANCE_SCALING_FACTOR = 0.000143303
MEX:REFLECTANCE_OFFSET = 0.0730844
/* IMAGE OBJECT DEFINITIONS */
OBJECT = IMAGE
  INTERCHANGE_FORMAT = BINARY
  LINES = 4122
  LINE_SAMPLES = 849
  SAMPLE_TYPE = UNSIGNED_INTEGER
  SAMPLE_BITS = 8
  BANDS = 1
  BAND_STORAGE_TYPE = BAND_SEQUENTIAL
  MAXIMUM = 183
  MEAN = 144.482
  MINIMUM = 101
  STANDARD_DEVIATION = 4.45152
END_OBJECT = IMAGE
/* MAP OBJECT DEFINITIONS */
OBJECT = IMAGE_MAP_PROJECTION
  ^DATA_SET_MAP_PROJECTION_CATALOG= "DSMAP.CAT"
  A_AXIS_RADIUS = 3396.0
  B_AXIS_RADIUS = 3396.0
  C_AXIS_RADIUS = 3396.0
  CENTER_LATITUDE = 0.0
  CENTER_LONGITUDE = 4.0
  COORDINATE_SYSTEM_NAME = PLANETOGRAPHIC
  COORDINATE_SYSTEM_TYPE = "BODY-FIXED ROTATING"
  EASTERNMOST_LONGITUDE = 5.22779
  FIRST_STANDARD_PARALLEL = "N/A"
  LINE_FIRST_PIXEL = 1
  LINE_LAST_PIXEL = 4122
  LINE_PROJECTION_OFFSET = -26240.3125
  MAP_PROJECTION_ROTATION = 0.0
  MAP_PROJECTION_TYPE = SINUSOIDAL
  MAP_RESOLUTION = 592.713803866667
  MAP_SCALE = 0.1
  MAXIMUM_LATITUDE = -44.2821
  MINIMUM_LATITUDE = -51.2252
  POSITIVE_LONGITUDE_DIRECTION = EAST
  REFERENCE_LATITUDE = "N/A"
  REFERENCE_LONGITUDE = "N/A"
  SAMPLE_FIRST_PIXEL = 1
  SAMPLE_LAST_PIXEL = 849
  SAMPLE_PROJECTION_OFFSET = 307.5625
  SECOND_STANDARD_PARALLEL = "N/A"
  WESTERNMOST_LONGITUDE = 3.19959
END_OBJECT = IMAGE_MAP_PROJECTION
/* The JPEG2000 image data file associated with this label. */
OBJECT = COMPRESSED_FILE
  FILE_NAME = "H2379_0001_GR3.JP2"
  RECORD_TYPE = UNDEFINED
  FILE_RECORDS = UNK
  ENCODING_TYPE = "JP2"
  INTERCHANGE_FORMAT = BINARY
  UNCOMPRESSED_FILE_NAME = "H2379_0001_GR3.IMG"
  REQUIRED_STORAGE_BYTES = "3518256"
  ^DESCRIPTION = "JP2INFO.TXT"
END_OBJECT = COMPRESSED_FILE
END
